BEGIN:VCALENDAR
VERSION:2.0
PRODID:-//Federal Bar Association - ECPv6.15.15//NONSGML v1.0//EN
CALSCALE:GREGORIAN
METHOD:PUBLISH
X-WR-CALNAME:Federal Bar Association
X-ORIGINAL-URL:https://www.fedbar.org
X-WR-CALDESC:Events for Federal Bar Association
REFRESH-INTERVAL;VALUE=DURATION:PT1H
X-Robots-Tag:noindex
X-PUBLISHED-TTL:PT1H
BEGIN:VTIMEZONE
TZID:America/New_York
BEGIN:DAYLIGHT
TZOFFSETFROM:-0500
TZOFFSETTO:-0400
TZNAME:EDT
DTSTART:20190310T070000
END:DAYLIGHT
BEGIN:STANDARD
TZOFFSETFROM:-0400
TZOFFSETTO:-0500
TZNAME:EST
DTSTART:20191103T060000
END:STANDARD
BEGIN:DAYLIGHT
TZOFFSETFROM:-0500
TZOFFSETTO:-0400
TZNAME:EDT
DTSTART:20200308T070000
END:DAYLIGHT
BEGIN:STANDARD
TZOFFSETFROM:-0400
TZOFFSETTO:-0500
TZNAME:EST
DTSTART:20201101T060000
END:STANDARD
BEGIN:DAYLIGHT
TZOFFSETFROM:-0500
TZOFFSETTO:-0400
TZNAME:EDT
DTSTART:20210314T070000
END:DAYLIGHT
BEGIN:STANDARD
TZOFFSETFROM:-0400
TZOFFSETTO:-0500
TZNAME:EST
DTSTART:20211107T060000
END:STANDARD
END:VTIMEZONE
BEGIN:VEVENT
DTSTART;TZID=America/New_York:20200221T160000
DTEND;TZID=America/New_York:20200221T170000
DTSTAMP:20260422T094031
CREATED:20200102T162545Z
LAST-MODIFIED:20200122T200840Z
UID:19373-1582300800-1582304400@www.fedbar.org
SUMMARY:FCSD: Hon. Don F. McGahn CLE on Judicial Selection
DESCRIPTION:The Federal Career Service Division of the Federal Bar Association in conjunction with Widener Commonwealth Law School presents former White House Counsel Hon. Don F. McGahn\, II for a special Continuing Legal Education program on judicial selection. The program is open to the public and free of charge\, but registration is required. \n\nAbout the Speaker\nDon F. McGahn\, II is an American lawyer who served as White House Counsel for U.S. President Donald Trump\, from the day of Trump’s inauguration through October 17\, 2018\, when McGahn resigned. Previously\, McGahn served on the Federal Election Commission for over five years. \nHe briefly attended the United States Naval Academy before transferring to the University of Notre Dame.  At the University of Notre Dame he received a B.A. degree in history and computer applications.  He obtained his J.D. degree from Widener University School of Law in 1994 followed by an LL.M. degree from the Georgetown University Law Center in 2002. \nAfter graduation from law school\, McGahn worked in campaign finance law at the Washington\, D.C. office of law firm Patton Boggs. From 1999 to 2008\, McGahn was chief counsel for the National Republican Congressional Committee (NRCC). \nGeorge W. Bush nominated McGahn as a Republican-selected member of the Federal Election Commission (FEC) in 2008. He was confirmed on June 24\, 2008 by the United States Senate and was sworn in shortly thereafter. \nAfter leaving the FEC\, McGahn returned to the law firm Patton Boggs. In 2014 he moved to the law firm of Jones Day in Washington\, D.C. McGahn brought five Jones Day lawyers with him to the White House\, and six more were appointed to senior posts in the Trump Administration. \n\nRegistration\nRegistration Fees \nFree \nHow to Register \nRegister Online \nYou may also contact CLEcwlaw@widener.edu with any questions or to register via email. \n\nCLE\nCLE credit will be applied for by the Widener Commonwealth Law School. One hour PA CLE Credit.
URL:https://www.fedbar.org/event/fcsd-hon-don-f-mcgahn-cle-on-judicial-selection/
LOCATION:Widener Law Commonwealth\, 3737 Vartan Way\, Harrisburg\, PA\, 17110\, United States
CATEGORIES:Federal Career Service Division
GEO:40.3220888;-76.8534558
X-APPLE-STRUCTURED-LOCATION;VALUE=URI;X-ADDRESS=Widener Law Commonwealth 3737 Vartan Way Harrisburg PA 17110 United States;X-APPLE-RADIUS=500;X-TITLE=3737 Vartan Way:geo:-76.8534558,40.3220888
END:VEVENT
END:VCALENDAR