BEGIN:VCALENDAR
VERSION:2.0
PRODID:-//Federal Bar Association - ECPv6.15.15//NONSGML v1.0//EN
CALSCALE:GREGORIAN
METHOD:PUBLISH
X-ORIGINAL-URL:https://www.fedbar.org
X-WR-CALDESC:Events for Federal Bar Association
REFRESH-INTERVAL;VALUE=DURATION:PT1H
X-Robots-Tag:noindex
X-PUBLISHED-TTL:PT1H
BEGIN:VTIMEZONE
TZID:America/New_York
BEGIN:DAYLIGHT
TZOFFSETFROM:-0500
TZOFFSETTO:-0400
TZNAME:EDT
DTSTART:20210314T070000
END:DAYLIGHT
BEGIN:STANDARD
TZOFFSETFROM:-0400
TZOFFSETTO:-0500
TZNAME:EST
DTSTART:20211107T060000
END:STANDARD
BEGIN:DAYLIGHT
TZOFFSETFROM:-0500
TZOFFSETTO:-0400
TZNAME:EDT
DTSTART:20220313T070000
END:DAYLIGHT
BEGIN:STANDARD
TZOFFSETFROM:-0400
TZOFFSETTO:-0500
TZNAME:EST
DTSTART:20221106T060000
END:STANDARD
BEGIN:DAYLIGHT
TZOFFSETFROM:-0500
TZOFFSETTO:-0400
TZNAME:EDT
DTSTART:20230312T070000
END:DAYLIGHT
BEGIN:STANDARD
TZOFFSETFROM:-0400
TZOFFSETTO:-0500
TZNAME:EST
DTSTART:20231105T060000
END:STANDARD
END:VTIMEZONE
BEGIN:VEVENT
DTSTART;TZID=America/New_York:20220826T080000
DTEND;TZID=America/New_York:20220826T090000
DTSTAMP:20260422T213130
CREATED:20220728T172832Z
LAST-MODIFIED:20220803T160607Z
UID:265952-1661500800-1661504400@www.fedbar.org
SUMMARY:Broward County Chapter: Breakfast with the Bench
DESCRIPTION:Please join us for an opportunity to have breakfast with federal judges and practitioners at the Fort Lauderdale Courthouse. Coffee\, refreshments\, and breakfast with be served. \n\nRegistration\nRSVP to Sandra Gonzalez at sandra.gonzalez@brinkleymorgan.com with a copy of your COVID-19 vaccination card. *RSVP and vaccination card must be received prior to the event. \nRegistration Rates \nDeadline to register will be August 23\, 2022 \n\nComplimentary for FBA Members & Non-Members\n\n\n\n\n\n\n\n\n\n\n\n\n\n\n\n\n\n\n\n\n\n\n\n\n\nCLE\nPlease note CLE will not be offered for this event.  \n\n\n\n\n\n\n\n\nEmail Communication Policy \nBy registering for this event\, you agree to receive email communications from the Federal Bar Association and affiliated sponsors of the program concerning event details\, Continuing Legal Education certification\, programming changes\, upcoming events\, surveys\, and post-event communications. \n\nIf you have any questions regarding this program\, please contact sandra.gonzalez@brinkleymorgan.com
URL:https://www.fedbar.org/event/broward-county-chapter-breakfast-with-the-bench/
LOCATION:U.S District Court\, 299 East Broward Boulevard\, Fort Lauderdale\, FL\, 33301\, United States
CATEGORIES:Broward County Chapter
GEO:26.1228094;-80.1408521
X-APPLE-STRUCTURED-LOCATION;VALUE=URI;X-ADDRESS=U.S District Court 299 East Broward Boulevard Fort Lauderdale FL 33301 United States;X-APPLE-RADIUS=500;X-TITLE=299 East Broward Boulevard:geo:-80.1408521,26.1228094
END:VEVENT
END:VCALENDAR