BEGIN:VCALENDAR
VERSION:2.0
PRODID:-//Federal Bar Association - ECPv6.15.15//NONSGML v1.0//EN
CALSCALE:GREGORIAN
METHOD:PUBLISH
X-ORIGINAL-URL:https://www.fedbar.org
X-WR-CALDESC:Events for Federal Bar Association
REFRESH-INTERVAL;VALUE=DURATION:PT1H
X-Robots-Tag:noindex
X-PUBLISHED-TTL:PT1H
BEGIN:VTIMEZONE
TZID:America/New_York
BEGIN:DAYLIGHT
TZOFFSETFROM:-0500
TZOFFSETTO:-0400
TZNAME:EDT
DTSTART:20190310T070000
END:DAYLIGHT
BEGIN:STANDARD
TZOFFSETFROM:-0400
TZOFFSETTO:-0500
TZNAME:EST
DTSTART:20191103T060000
END:STANDARD
BEGIN:DAYLIGHT
TZOFFSETFROM:-0500
TZOFFSETTO:-0400
TZNAME:EDT
DTSTART:20200308T070000
END:DAYLIGHT
BEGIN:STANDARD
TZOFFSETFROM:-0400
TZOFFSETTO:-0500
TZNAME:EST
DTSTART:20201101T060000
END:STANDARD
BEGIN:DAYLIGHT
TZOFFSETFROM:-0500
TZOFFSETTO:-0400
TZNAME:EDT
DTSTART:20210314T070000
END:DAYLIGHT
BEGIN:STANDARD
TZOFFSETFROM:-0400
TZOFFSETTO:-0500
TZNAME:EST
DTSTART:20211107T060000
END:STANDARD
END:VTIMEZONE
BEGIN:VEVENT
DTSTART;TZID=America/New_York:20200401T173000
DTEND;TZID=America/New_York:20200401T193000
DTSTAMP:20260423T115757
CREATED:20200224T164506Z
LAST-MODIFIED:20200312T154322Z
UID:28511-1585762200-1585769400@www.fedbar.org
SUMMARY:New Orleans: Cocktails with the Court
DESCRIPTION:This event is postponed because of the growing concerns surrounding COVID-19 and will be rescheduled as soon as possible. Check www.nofba.org for updates. \nDescription\nThe Younger Lawyers Division of the Federal Bar Association invites you to Cocktails with the Court on Wednesday\, April 1st from 5:30 – 7:30 pm at True Food Kitchen\, 801 St. Charles Avenue\, New Orleans. Cocktails with the Court is an opportunity to meet members of the bench and bar. \nCLE\n0 \nCost\nFREE \nEvent Contact\nAmanda Kaiser at (504) 589-7990 or akaiser@nofba.org
URL:https://www.fedbar.org/event/new-orleans-cocktails-with-the-court/
LOCATION:True Food Kitchen\, 801 St. Charles Avenue\, New Orleans\, LA
CATEGORIES:New Orleans Chapter
GEO:29.9457491;-90.0720773
X-APPLE-STRUCTURED-LOCATION;VALUE=URI;X-ADDRESS=True Food Kitchen 801 St. Charles Avenue New Orleans LA;X-APPLE-RADIUS=500;X-TITLE=801 St. Charles Avenue:geo:-90.0720773,29.9457491
END:VEVENT
END:VCALENDAR