BEGIN:VCALENDAR
VERSION:2.0
PRODID:-//Federal Bar Association - ECPv6.15.15//NONSGML v1.0//EN
CALSCALE:GREGORIAN
METHOD:PUBLISH
X-WR-CALNAME:Federal Bar Association
X-ORIGINAL-URL:https://www.fedbar.org
X-WR-CALDESC:Events for Federal Bar Association
REFRESH-INTERVAL;VALUE=DURATION:PT1H
X-Robots-Tag:noindex
X-PUBLISHED-TTL:PT1H
BEGIN:VTIMEZONE
TZID:America/New_York
BEGIN:DAYLIGHT
TZOFFSETFROM:-0500
TZOFFSETTO:-0400
TZNAME:EDT
DTSTART:20220313T070000
END:DAYLIGHT
BEGIN:STANDARD
TZOFFSETFROM:-0400
TZOFFSETTO:-0500
TZNAME:EST
DTSTART:20221106T060000
END:STANDARD
BEGIN:DAYLIGHT
TZOFFSETFROM:-0500
TZOFFSETTO:-0400
TZNAME:EDT
DTSTART:20230312T070000
END:DAYLIGHT
BEGIN:STANDARD
TZOFFSETFROM:-0400
TZOFFSETTO:-0500
TZNAME:EST
DTSTART:20231105T060000
END:STANDARD
BEGIN:DAYLIGHT
TZOFFSETFROM:-0500
TZOFFSETTO:-0400
TZNAME:EDT
DTSTART:20240310T070000
END:DAYLIGHT
BEGIN:STANDARD
TZOFFSETFROM:-0400
TZOFFSETTO:-0500
TZNAME:EST
DTSTART:20241103T060000
END:STANDARD
END:VTIMEZONE
BEGIN:VEVENT
DTSTART;TZID=America/New_York:20230920T120000
DTEND;TZID=America/New_York:20230920T130000
DTSTAMP:20260423T051138
CREATED:20230818T184445Z
LAST-MODIFIED:20230818T184505Z
UID:389384-1695211200-1695214800@www.fedbar.org
SUMMARY:Broward County Chapter: September Installation Luncheon
DESCRIPTION:Join us for the installation of the Broward County Chapter’s 2023-24 Officers and Board of Directors with guest speaker Hon. Cecilia M. Altonaga (United States Chief Judge\, Southern District of Florida). \n\nRegistration\n[Click Here] to RSVP Online by September 13 \n$50 Member\n$65 Nonmember\n$30 Government Employee\n$20 Judiciary or Law Student\nComplimentary for Annual Sponsors\, Federal Judiciary\, and Federal Law Clerks \nIf you RSVP for the luncheon\, a spot will be reserved for you. The chapter incurs a cost for each seat reserved. If you do not cancel your RSVP at least seven (7) days prior to the event\, you will b charged for the luncheon whether or not you attend. Your may send an alternate if you are unable to attend and have not timely cancelled your RSVP. \n\nQuestions regarding this event should be directed to Anne Flanigan (aflanigan@wsh-law.com)
URL:https://www.fedbar.org/event/broward-county-chapter-september-installation-luncheon/
LOCATION:The Tower Club\, 100 SE 3rd Ave\, One Financial Plaza (28th Fl)\, Fort Lauderdale\, Florida\, 33394
CATEGORIES:Broward County Chapter
GEO:26.1218238;-80.1398054
X-APPLE-STRUCTURED-LOCATION;VALUE=URI;X-ADDRESS=The Tower Club 100 SE 3rd Ave One Financial Plaza (28th Fl) Fort Lauderdale Florida 33394;X-APPLE-RADIUS=500;X-TITLE=100 SE 3rd Ave\, One Financial Plaza (28th Fl):geo:-80.1398054,26.1218238
END:VEVENT
END:VCALENDAR