BEGIN:VCALENDAR
VERSION:2.0
PRODID:-//Federal Bar Association - ECPv6.15.15//NONSGML v1.0//EN
CALSCALE:GREGORIAN
METHOD:PUBLISH
X-ORIGINAL-URL:https://www.fedbar.org
X-WR-CALDESC:Events for Federal Bar Association
REFRESH-INTERVAL;VALUE=DURATION:PT1H
X-Robots-Tag:noindex
X-PUBLISHED-TTL:PT1H
BEGIN:VTIMEZONE
TZID:America/New_York
BEGIN:DAYLIGHT
TZOFFSETFROM:-0500
TZOFFSETTO:-0400
TZNAME:EDT
DTSTART:20210314T070000
END:DAYLIGHT
BEGIN:STANDARD
TZOFFSETFROM:-0400
TZOFFSETTO:-0500
TZNAME:EST
DTSTART:20211107T060000
END:STANDARD
BEGIN:DAYLIGHT
TZOFFSETFROM:-0500
TZOFFSETTO:-0400
TZNAME:EDT
DTSTART:20220313T070000
END:DAYLIGHT
BEGIN:STANDARD
TZOFFSETFROM:-0400
TZOFFSETTO:-0500
TZNAME:EST
DTSTART:20221106T060000
END:STANDARD
BEGIN:DAYLIGHT
TZOFFSETFROM:-0500
TZOFFSETTO:-0400
TZNAME:EDT
DTSTART:20230312T070000
END:DAYLIGHT
BEGIN:STANDARD
TZOFFSETFROM:-0400
TZOFFSETTO:-0500
TZNAME:EST
DTSTART:20231105T060000
END:STANDARD
END:VTIMEZONE
BEGIN:VEVENT
DTSTART;TZID=America/New_York:20221103T183000
DTEND;TZID=America/New_York:20221103T203000
DTSTAMP:20260422T192608
CREATED:20221012T150927Z
LAST-MODIFIED:20221020T174402Z
UID:289941-1667500200-1667507400@www.fedbar.org
SUMMARY:Section on Taxation: Network & Repeat! A Night of Speed Networking and DE&I Discussion
DESCRIPTION:Join us for Network & Repeat! A Night of Networking & DE&I Discussions on Nov. 3\, 2022\, from 6:30 – 8:30 PM ET. This is a coordinated event co-sponsored by Kirkland & Ellis and Weil\, Gotshal\, & Manges. This in-person event will consist of speed networking and discussions focused on DE&I issues and networking. More information concerning the event is in the flyer. Please feel free to share and forward along. We hope to see you there! \nPresented by: Section on Taxation\, DE&I Committee \n\nRSVP\n[RSVP Online]  \nRegistration Rates \n\nComplimentary for FBA Members & Non-Members\n\nRSVPs are being collected by Weil\, Gotshal\, & Manges. \n\n\n\n\n\n\n\n\n\n\n\n\n\n\n\n\n\n\n\n\n\n\n\n\nEvent Liability & Disclaimer\nBy attending this event\, you agree to the following terms and conditions. \nIf you have any questions regarding this program\, please contact christina.king@kirkland.com or Renan.Rodriguez@weil.com \n  \n\n\n\n\n\n\n\nCLE: Please note CLE will not be offered for this event.
URL:https://www.fedbar.org/event/section-on-taxation-network-repeat-a-night-of-speed-networking-and-dei-discussion/
LOCATION:Teddy & The Bully Bar\, 1200 19th St. NW\, Washington\, DC\, 20036\, United States
CATEGORIES:Section on Taxation
ATTACH;FMTTYPE=image/png:https://www.fedbar.org/wp-content/uploads/2022/10/Tax-Event-Flyer.png
GEO:38.9061055;-77.0437634
X-APPLE-STRUCTURED-LOCATION;VALUE=URI;X-ADDRESS=Teddy & The Bully Bar 1200 19th St. NW Washington DC 20036 United States;X-APPLE-RADIUS=500;X-TITLE=1200 19th St. NW:geo:-77.0437634,38.9061055
END:VEVENT
END:VCALENDAR