BEGIN:VCALENDAR
VERSION:2.0
PRODID:-//Federal Bar Association - ECPv6.15.15//NONSGML v1.0//EN
CALSCALE:GREGORIAN
METHOD:PUBLISH
X-WR-CALNAME:Federal Bar Association
X-ORIGINAL-URL:https://www.fedbar.org
X-WR-CALDESC:Events for Federal Bar Association
REFRESH-INTERVAL;VALUE=DURATION:PT1H
X-Robots-Tag:noindex
X-PUBLISHED-TTL:PT1H
BEGIN:VTIMEZONE
TZID:America/New_York
BEGIN:DAYLIGHT
TZOFFSETFROM:-0500
TZOFFSETTO:-0400
TZNAME:EDT
DTSTART:20210314T070000
END:DAYLIGHT
BEGIN:STANDARD
TZOFFSETFROM:-0400
TZOFFSETTO:-0500
TZNAME:EST
DTSTART:20211107T060000
END:STANDARD
BEGIN:DAYLIGHT
TZOFFSETFROM:-0500
TZOFFSETTO:-0400
TZNAME:EDT
DTSTART:20220313T070000
END:DAYLIGHT
BEGIN:STANDARD
TZOFFSETFROM:-0400
TZOFFSETTO:-0500
TZNAME:EST
DTSTART:20221106T060000
END:STANDARD
BEGIN:DAYLIGHT
TZOFFSETFROM:-0500
TZOFFSETTO:-0400
TZNAME:EDT
DTSTART:20230312T070000
END:DAYLIGHT
BEGIN:STANDARD
TZOFFSETFROM:-0400
TZOFFSETTO:-0500
TZNAME:EST
DTSTART:20231105T060000
END:STANDARD
END:VTIMEZONE
BEGIN:VEVENT
DTSTART;TZID=America/New_York:20220303T173000
DTEND;TZID=America/New_York:20220303T183000
DTSTAMP:20260422T235854
CREATED:20220223T151229Z
LAST-MODIFIED:20220223T151244Z
UID:210074-1646328600-1646332200@www.fedbar.org
SUMMARY:Northern District of California Chapter: Voting Rights - Then\, Now\, and Tomorrow
DESCRIPTION:Voting is a cornerstone of democracy. The panel of experts—Hon. Thelton Henderson\, NDCA ret; Principal Deputy Assistant General Pam Karlan and Dean Erwin Chemerinsky from Berkeley Law—will look at voting rights in the U.S.\, both historically and into the future. \nFeatured Speaker:  \n\nHON. THELTON HENDERSON\, Senior District Judge\, NDCA ret;\nPAM KARLAN\, Principal Deputy Assistant General\nDEAN ERWIN CHEMERINSKY\, Berkeley Law\nPROF. BRIAN LANDSBERG\, University of the Pacific McGeorge School of Law\nRAYMOND MARSHALL\, Esq. (Moderator)\n\n\nRegistration\n\nMCLE – $35\nNon MCLE – $0\n\nHow to Register – Register on Eventbrite Page by March 1\, 2022 \nFor any questions or concerns\, please contact rsp@rspollocklaw.com
URL:https://www.fedbar.org/event/northern-district-of-california-chapter-voting-rights-then-now-and-tomorrow/
LOCATION:UC Hastings: College of Law\, 200 McAllister St\, San Francisco\, CA\, 94102\, United States
CATEGORIES:Northern District of California Chapter
GEO:37.09024;-95.712891
X-APPLE-STRUCTURED-LOCATION;VALUE=URI;X-ADDRESS=UC Hastings: College of Law 200 McAllister St San Francisco CA 94102 United States;X-APPLE-RADIUS=500;X-TITLE=200 McAllister St:geo:-95.712891,37.09024
END:VEVENT
END:VCALENDAR