BEGIN:VCALENDAR
VERSION:2.0
PRODID:-//Federal Bar Association - ECPv6.15.15//NONSGML v1.0//EN
CALSCALE:GREGORIAN
METHOD:PUBLISH
X-WR-CALNAME:Federal Bar Association
X-ORIGINAL-URL:https://www.fedbar.org
X-WR-CALDESC:Events for Federal Bar Association
REFRESH-INTERVAL;VALUE=DURATION:PT1H
X-Robots-Tag:noindex
X-PUBLISHED-TTL:PT1H
BEGIN:VTIMEZONE
TZID:America/Chicago
BEGIN:DAYLIGHT
TZOFFSETFROM:-0600
TZOFFSETTO:-0500
TZNAME:CDT
DTSTART:20220313T080000
END:DAYLIGHT
BEGIN:STANDARD
TZOFFSETFROM:-0500
TZOFFSETTO:-0600
TZNAME:CST
DTSTART:20221106T070000
END:STANDARD
BEGIN:DAYLIGHT
TZOFFSETFROM:-0600
TZOFFSETTO:-0500
TZNAME:CDT
DTSTART:20230312T080000
END:DAYLIGHT
BEGIN:STANDARD
TZOFFSETFROM:-0500
TZOFFSETTO:-0600
TZNAME:CST
DTSTART:20231105T070000
END:STANDARD
BEGIN:DAYLIGHT
TZOFFSETFROM:-0600
TZOFFSETTO:-0500
TZNAME:CDT
DTSTART:20240310T080000
END:DAYLIGHT
BEGIN:STANDARD
TZOFFSETFROM:-0500
TZOFFSETTO:-0600
TZNAME:CST
DTSTART:20241103T070000
END:STANDARD
END:VTIMEZONE
BEGIN:VEVENT
DTSTART;TZID=America/Chicago:20230330T170000
DTEND;TZID=America/Chicago:20230330T190000
DTSTAMP:20260422T235913
CREATED:20230307T140417Z
LAST-MODIFIED:20230307T152642Z
UID:327761-1680195600-1680202800@www.fedbar.org
SUMMARY:Northern/Eastern Oklahoma Chapter: Sidebar with Your Magistrate Judges
DESCRIPTION:This event will offer civil practitioners unique insight into the process for appointment of magistrate judges\, the backgrounds and experience of the magistrate judges in both the Northern and Eastern Districts\, and first-hand experience of practitioners on consenting to magistrate judge jurisdiction. \nThe forum is particularly timely given the appointment of several new judges over the past few years\, the civil backlog caused by McGirt v. Oklahoma\, and the magistrate judges’ presence on the case assignment wheel in the Eastern District and likely soon the Northern District. \nThe event will be led by T. Lane Wilson\, former United States Magistrate Judge and Senior VP and General Counsel of The Williams Companies. \nAttendance is free and open to all civil attorneys\, but pre-registration is required. \nHosted by the Northern/Eastern Oklahoma Federal Bar Association in partnership with the United States District Courts for the Northern and Eastern Districts of Oklahoma and the Oklahoma City Federal Bar Association. \nRegistration\nDeadline to register is March 30\, 2023\nRSVP:https://docs.google.com/forms/d/e/1FAIpQLSezf7_lJfYNxF6naclTb5BuZx4Fp0SOY2Ozc3Ho2U82CZsByw/viewform \nRegistration Fee: \n\nComplimentary to FBA Member & Non Member but registration is required.\n\nCLE\nPlease note CLE will not be offered for this event. \nIf you have any questions regarding this program\, please contact NEOK FBA at neokfba@gmail.com. \n 
URL:https://www.fedbar.org/event/northern-eastern-oklahoma-chapter-sidebar-with-your-magistrate-judges/
LOCATION:McNellie’s Side Bar\, 409 E. 1st Street\, Tulsa\, 74120\, United States
CATEGORIES:NorthernEastern Oklahoma Chapter
ORGANIZER;CN="NEOK FBA":MAILTO:neokfba@gmail.com
GEO:36.1573675;-95.9871203
X-APPLE-STRUCTURED-LOCATION;VALUE=URI;X-ADDRESS=McNellie’s Side Bar 409 E. 1st Street Tulsa 74120 United States;X-APPLE-RADIUS=500;X-TITLE=409 E. 1st Street:geo:-95.9871203,36.1573675
END:VEVENT
END:VCALENDAR