BEGIN:VCALENDAR
VERSION:2.0
PRODID:-//Federal Bar Association - ECPv6.15.15//NONSGML v1.0//EN
CALSCALE:GREGORIAN
METHOD:PUBLISH
X-WR-CALNAME:Federal Bar Association
X-ORIGINAL-URL:https://www.fedbar.org
X-WR-CALDESC:Events for Federal Bar Association
REFRESH-INTERVAL;VALUE=DURATION:PT1H
X-Robots-Tag:noindex
X-PUBLISHED-TTL:PT1H
BEGIN:VTIMEZONE
TZID:America/New_York
BEGIN:DAYLIGHT
TZOFFSETFROM:-0500
TZOFFSETTO:-0400
TZNAME:EDT
DTSTART:20210314T070000
END:DAYLIGHT
BEGIN:STANDARD
TZOFFSETFROM:-0400
TZOFFSETTO:-0500
TZNAME:EST
DTSTART:20211107T060000
END:STANDARD
BEGIN:DAYLIGHT
TZOFFSETFROM:-0500
TZOFFSETTO:-0400
TZNAME:EDT
DTSTART:20220313T070000
END:DAYLIGHT
BEGIN:STANDARD
TZOFFSETFROM:-0400
TZOFFSETTO:-0500
TZNAME:EST
DTSTART:20221106T060000
END:STANDARD
BEGIN:DAYLIGHT
TZOFFSETFROM:-0500
TZOFFSETTO:-0400
TZNAME:EDT
DTSTART:20230312T070000
END:DAYLIGHT
BEGIN:STANDARD
TZOFFSETFROM:-0400
TZOFFSETTO:-0500
TZNAME:EST
DTSTART:20231105T060000
END:STANDARD
END:VTIMEZONE
BEGIN:VEVENT
DTSTART;TZID=America/New_York:20221117T170000
DTEND;TZID=America/New_York:20221117T193000
DTSTAMP:20260423T043441
CREATED:20221027T193123Z
LAST-MODIFIED:20221027T194335Z
UID:294045-1668704400-1668713400@www.fedbar.org
SUMMARY:Broward County Chapter: Judicial Perspectives Summit
DESCRIPTION:Judges from our District will be paired for small-group moderated discussions with attendees about their careers before taking the federal bench\, their interests outside of law\, and their perspectives on advancing diversity\, equity\, and inclusion in federal practice in the Southern District of Florida. Following the roundtable\, the DEI Committee will host all of the event’s guests for a reception. \nView Event Flyer \nAgenda\n\n5:00 p.m. | Arrival & Welcome\n5:30 p.m. | Roundtable Program\n6:30 p.m. | Networking Reception\n\nRegistration\nSign Up Online\nhttps://www.fedbar.org/broward-county-chapter/\nDeadline: November 15\, 2022 \nRegistration Fee \n\nComplimentary – Federal Judiciary\n$25 Law Clerk and Law Student\n$30 Government Employee\n40 Attorney\n\nRSVP by Friday November 9\, 2022 to: \n\nJonathan Osborne at josborne@gunster.com\n Natlie Allen-Mondesir at nallen-mondesir@gunster.com\n\nSpace is limited for the Summit\, which will be held in brand new event space at the Y! in Fort Lauderdale.  If your plans change\, please let us know as soon as possible so that we can open up availability to the waitlist.  Any cancelations received within seven days of the event will not be refunded; however\, you may send an alternate to attend the Summit if you are unable to attend and have not timely canceled your RSVP. \nSponsorship\nSponsorship opportunities please contact: \n\nJason Slatkin at jslatkin@loriumlaw.com\nFarah Bridges at ridgef@ccf.org\n\nCLE\n1.0 CLE (anticipated) by Broward County Chapter. \nIf you have any questions regarding this program\, please contact Trevor Jones at Trevor.Jones@usdoj.gov. \n 
URL:https://www.fedbar.org/event/broward-county-chapter-judicial-perspectives-summit/
LOCATION:L.A. Lee YMCA\, 1409 Sistrunk Blvd\, Ft. Lauderdale\, FL\, 33311\, United States
CATEGORIES:Broward County Chapter
ORGANIZER;CN="Trevor Jones":MAILTO:Trevor.Jones@usdoj.gov
GEO:26.1296227;-80.1602325
X-APPLE-STRUCTURED-LOCATION;VALUE=URI;X-ADDRESS=L.A. Lee YMCA 1409 Sistrunk Blvd Ft. Lauderdale FL 33311 United States;X-APPLE-RADIUS=500;X-TITLE=1409 Sistrunk Blvd:geo:-80.1602325,26.1296227
END:VEVENT
END:VCALENDAR