BEGIN:VCALENDAR
VERSION:2.0
PRODID:-//Federal Bar Association - ECPv6.15.15//NONSGML v1.0//EN
CALSCALE:GREGORIAN
METHOD:PUBLISH
X-WR-CALNAME:Federal Bar Association
X-ORIGINAL-URL:https://www.fedbar.org
X-WR-CALDESC:Events for Federal Bar Association
REFRESH-INTERVAL;VALUE=DURATION:PT1H
X-Robots-Tag:noindex
X-PUBLISHED-TTL:PT1H
BEGIN:VTIMEZONE
TZID:America/New_York
BEGIN:DAYLIGHT
TZOFFSETFROM:-0500
TZOFFSETTO:-0400
TZNAME:EDT
DTSTART:20190310T070000
END:DAYLIGHT
BEGIN:STANDARD
TZOFFSETFROM:-0400
TZOFFSETTO:-0500
TZNAME:EST
DTSTART:20191103T060000
END:STANDARD
BEGIN:DAYLIGHT
TZOFFSETFROM:-0500
TZOFFSETTO:-0400
TZNAME:EDT
DTSTART:20200308T070000
END:DAYLIGHT
BEGIN:STANDARD
TZOFFSETFROM:-0400
TZOFFSETTO:-0500
TZNAME:EST
DTSTART:20201101T060000
END:STANDARD
BEGIN:DAYLIGHT
TZOFFSETFROM:-0500
TZOFFSETTO:-0400
TZNAME:EDT
DTSTART:20210314T070000
END:DAYLIGHT
BEGIN:STANDARD
TZOFFSETFROM:-0400
TZOFFSETTO:-0500
TZNAME:EST
DTSTART:20211107T060000
END:STANDARD
END:VTIMEZONE
BEGIN:VEVENT
DTSTART;TZID=America/New_York:20200605T080000
DTEND;TZID=America/New_York:20200605T130000
DTSTAMP:20260423T051932
CREATED:20200302T154726Z
LAST-MODIFIED:20200302T154726Z
UID:29800-1591344000-1591362000@www.fedbar.org
SUMMARY:Idaho Chapter: 19th Amendment Celebration
DESCRIPTION:Description\nHistory Come Alive: The 19th amendment in Idaho and Beyond. Join us as we hear from Matthew Pinsker and Dr. Laura Woodworth-Ney. \nCost\nRegistration Form\nCLE\n3.5 pending\nRSVP\nsheadlee@parsonbehle.com \n208.867.8169 \n \n 
URL:https://www.fedbar.org/event/idaho-chapter-19th-amendment-celebration/
LOCATION:Idaho Historical Museum\, 610 Julia Davis Dr\, Boise\, ID\, 83702
CATEGORIES:Idaho Chapter
GEO:43.61066;-116.2054986
X-APPLE-STRUCTURED-LOCATION;VALUE=URI;X-ADDRESS=Idaho Historical Museum 610 Julia Davis Dr Boise ID 83702;X-APPLE-RADIUS=500;X-TITLE=610 Julia Davis Dr:geo:-116.2054986,43.61066
END:VEVENT
END:VCALENDAR