BEGIN:VCALENDAR
VERSION:2.0
PRODID:-//Federal Bar Association - ECPv6.15.15//NONSGML v1.0//EN
CALSCALE:GREGORIAN
METHOD:PUBLISH
X-ORIGINAL-URL:https://www.fedbar.org
X-WR-CALDESC:Events for Federal Bar Association
REFRESH-INTERVAL;VALUE=DURATION:PT1H
X-Robots-Tag:noindex
X-PUBLISHED-TTL:PT1H
BEGIN:VTIMEZONE
TZID:America/New_York
BEGIN:DAYLIGHT
TZOFFSETFROM:-0500
TZOFFSETTO:-0400
TZNAME:EDT
DTSTART:20190310T070000
END:DAYLIGHT
BEGIN:STANDARD
TZOFFSETFROM:-0400
TZOFFSETTO:-0500
TZNAME:EST
DTSTART:20191103T060000
END:STANDARD
BEGIN:DAYLIGHT
TZOFFSETFROM:-0500
TZOFFSETTO:-0400
TZNAME:EDT
DTSTART:20200308T070000
END:DAYLIGHT
BEGIN:STANDARD
TZOFFSETFROM:-0400
TZOFFSETTO:-0500
TZNAME:EST
DTSTART:20201101T060000
END:STANDARD
BEGIN:DAYLIGHT
TZOFFSETFROM:-0500
TZOFFSETTO:-0400
TZNAME:EDT
DTSTART:20210314T070000
END:DAYLIGHT
BEGIN:STANDARD
TZOFFSETFROM:-0400
TZOFFSETTO:-0500
TZNAME:EST
DTSTART:20211107T060000
END:STANDARD
END:VTIMEZONE
BEGIN:VEVENT
DTSTART;TZID=America/New_York:20200226T180000
DTEND;TZID=America/New_York:20200226T200000
DTSTAMP:20260423T062913
CREATED:20200130T192000Z
LAST-MODIFIED:20200130T192000Z
UID:24121-1582740000-1582747200@www.fedbar.org
SUMMARY:Maryland Chapter: FBA Trivia Night - Young(er) Lawyers Edition
DESCRIPTION:Description\nPremium pizza\, salads and appetizers. Custom trivia by Charm City Trivia \nFlyer \nCost\n$20 \nRSVP\nLauren McLarney\, Rosenberg Martin Greenberg\, LLP\, lmclarney@rosenbergmartin.com; (410) 960-7456
URL:https://www.fedbar.org/event/maryland-chapter-fba-trivia-night-younger-lawyers-edition/
LOCATION:HomeSlyce\, 336 N. Charles Street\, Baltimore\, MD\, 21201\, United States
CATEGORIES:Maryland Chapter
GEO:39.2936949;-76.6157777
X-APPLE-STRUCTURED-LOCATION;VALUE=URI;X-ADDRESS=HomeSlyce 336 N. Charles Street Baltimore MD 21201 United States;X-APPLE-RADIUS=500;X-TITLE=336 N. Charles Street:geo:-76.6157777,39.2936949
END:VEVENT
END:VCALENDAR