BEGIN:VCALENDAR
VERSION:2.0
PRODID:-//Federal Bar Association - ECPv6.15.15//NONSGML v1.0//EN
CALSCALE:GREGORIAN
METHOD:PUBLISH
X-ORIGINAL-URL:https://www.fedbar.org
X-WR-CALDESC:Events for Federal Bar Association
REFRESH-INTERVAL;VALUE=DURATION:PT1H
X-Robots-Tag:noindex
X-PUBLISHED-TTL:PT1H
BEGIN:VTIMEZONE
TZID:America/New_York
BEGIN:DAYLIGHT
TZOFFSETFROM:-0500
TZOFFSETTO:-0400
TZNAME:EDT
DTSTART:20190310T070000
END:DAYLIGHT
BEGIN:STANDARD
TZOFFSETFROM:-0400
TZOFFSETTO:-0500
TZNAME:EST
DTSTART:20191103T060000
END:STANDARD
BEGIN:DAYLIGHT
TZOFFSETFROM:-0500
TZOFFSETTO:-0400
TZNAME:EDT
DTSTART:20200308T070000
END:DAYLIGHT
BEGIN:STANDARD
TZOFFSETFROM:-0400
TZOFFSETTO:-0500
TZNAME:EST
DTSTART:20201101T060000
END:STANDARD
BEGIN:DAYLIGHT
TZOFFSETFROM:-0500
TZOFFSETTO:-0400
TZNAME:EDT
DTSTART:20210314T070000
END:DAYLIGHT
BEGIN:STANDARD
TZOFFSETFROM:-0400
TZOFFSETTO:-0500
TZNAME:EST
DTSTART:20211107T060000
END:STANDARD
END:VTIMEZONE
BEGIN:VEVENT
DTSTART;VALUE=DATE:20200227
DTEND;VALUE=DATE:20200229
DTSTAMP:20260423T133222
CREATED:20191220T211709Z
LAST-MODIFIED:20200220T190327Z
UID:8108-1582761600-1582934399@www.fedbar.org
SUMMARY:2020 Qui Tam Conference
DESCRIPTION:-EVENT SOLD OUT- \nProgramming will provide a fresh analysis on the rapidly changing landscape of False Claims Act (FCA) enforcement. This two-day conference will feature experienced FCA litigators from a variety of perspectives who will dive into advanced topics and discuss emerging trends and key developments pertaining to the FCA. Take this opportunity to interact with leading practitioners in the field while earning CLE credit and enjoying multiple networking events. \nRegistration is now closed for the 2020 Qui Tam Conference as we have reached maximum capacity for the venue. Contact meetings@fedbar.org to be placed on a wait-list to attend this year’s conference. Pending any cancellations\, we will release tickets on a first come first serve basis. \n\n\n\nAgenda\nThursday\, February 27\, 2020\n[7:45 – 8:30 a.m.] Registration & Breakfast \n[8:30  – 9:30 a.m.] Panel 1: Year in Review \n\nJohn R. Thomas\, Jr.\, Partner\, Healy Hafemann Magee Thomas (moderator)\nStuart F. Delery\, Partner\, Gibson\, Dunn\, & Crutcher LLP\nTejinder Singh\, Partner\, Goldstein & Russell\, P.C.\nClaire M. Sylvia\, Partner\, Phillips & Cohen LLP\n\n[9:45  – 10:45 a.m.] Panel 2: AseraCare and the Future of Medical Necessity Cases \n\nPaul Chan\, Principal\, Bird Marella (moderator)\nEdward Baker\, Of Counsel\, Constantine Cannon\nDoug Baruch\, Litigation Partner\, Morgan Lewis\, & Bockius LLP\nNatalie Waites\, Senior Trial Counsel for Health Care Fraud\, U.S. Department of Justice\n\n[11:00 a.m. – 12:00 p.m.] Panel 3: Multi-Relator Cases \n\nMarlan Wilbanks\, Senior Partner\, Willbanks & Gouinlock (moderator)\nChris Burris\, Partner\, King & Spalding LLP\nLaurie Oberembt\, Senior Trial Counsel\, Civil Frauds Section\, U.S. Department of Justice\nMarc Raspanti\, Partner\, Pietragallo\, Gordon\, Alfano\, Bosick\, & Raspanti\n\n[12:00 – 1:30 p.m.] Keynote Luncheon \n\nJoseph H. (Jody) Hunt\, Assistant Attorney General\, Civil Division\, U.S. Department of Justice\n\n[1:30 – 2:30 p.m.] Panel 4: Emerging Trends \n\nCleveland Lawrence III\, Of Counsel\, Mehri & Skalet\, PLLC (moderator)\nEric Havian\, Partner\, Constantine Cannon\nMarcia Madsen\, Chair of Government Contracts Practice\, Mayer Brown\nJohn McKnight\, Senior Litigation Counsel/Co-Chair\, Whistleblower Practice\, Sanford Heisler Sharp\, LLP\nRebecca Tinio\, Deputy Chief of the Civil Frauds Divison\, U.S. Attorney’s Office of Southern District of New York\n\n[2:45 – 3:45 p.m.] Panel 5: CIFPA/IIFPA \n\nDavid Chizewer\, Principal\, Goldberg Kohn Ltd. (moderator)\nNiall McCarthy\, Principal\, Cotchett\, Pitre & McCarthy\, LLP\nMichael J. Levy\, Deputy General Counsel of Litigation\, California Department of Insurance\nJoel Richlin\, Deputy General Counsel and Chief Litigation Counsel\, Prime Healthcare\nRoss Silverman\, Partner\, Katten Muchin Rosenman\, LLP\n\n[4:00 – 5:00 p.m.] Panel 6: Asset Forfeiture \n\nJ. Scott Gilbert\, Counsel\, Watkins & Eager (moderator)\nRalph Caccia\, Partner\, Wiley Rein LLP\nColleen Kennedy\, Assistant U.S. Attorney\, U.S. Attorney’s Office\, Eastern District of California\nSilvija Strikis\, Partner\, Kellogg Hansen Todd Figel & Fredrick PLLC\n\nFriday\, February 28\, 2020\n[8:00 – 8:30 a.m.] Registration & Breakfast \n[8:30 – 9:45 a.m.] Panel 7: Cooperation \n\nKyle Cohen\, Assistant U.S. Attorney\, U.S. Attorney’s Office\, Middle District of Florida (moderator)\nKimberly Friday\, Member\, Osborn Maledon\, P.A.\nAdam Katz\, Assistant U.S. Attorney\, Civil Health Care Fraud Coordinator\, U.S. Attorney’s Office\, Northern District of New York\nJason Mehta\, Partner\, Bradley Arant Boult Cummings LLP\nDavid Rosenbloom\, Partner\, McDermott\, Will\, & Emery\n\n[10:00 – 11:15 a.m.] Panel 8: Dismissals \n\nColin Huntley\, Assistant Director of Justice Civil Fraud Section\, U.S. Department of Justice (moderator)\nDerek Adams\, Partner\, Feldesman Tucker Leifer Fidell LLP\nEd Crooke\, Assistant Director\, Civil Division\, Fraud Section\, U.S. Department of Justice\nAnna Haac\, Partner\, Tycko & Zavareei LLP\nCourtney Saleski\, Partner\, DLA Piper\n\n[11:30 a.m. – 12:45 p.m.] Panel 9: Discovery \n\nSelina Coleman\, Partner\, Reed Smith LLP (moderator)\nChris Harwood\, Partner\, Morvillo LLP\nAmy Kossak\, Trial Attorney\, U.S. Department of Justice\nChris LaCour\, Chief\, Tort Litigation Branch\, U.S. Army Legal Services Agency\nJed Wulfekotte\, Partner\, Stein Mitchell Beato & Missner LLP\n\n[12:45 – 2:15 p.m.] Luncheon and Fireside Chat \n\nMichael Granston\, Deputy Assistant Attorney General\, Civil Division\, U.S. Department of Justice\n\n[2:15 – 3:30 p.m.] Panel 10: AUSA Procedures\n \n\nR. Scott Oswald\, Managing Principal\, The Employment Law Group\, PC (moderator)\nAnn Bildsten\, Assistant U.S. Attorney\, U.S. Attorney’s Office\, District of Minnesota\nCharlene Fullmer\, Assistant U.S. Attorney\, U.S. Attorney’s Office\, Eastern District of Pennsylvania\nJoe Price\, Assistant U.S. Attorney\, U.S. Attorney’s Office\, Southern District of California\nJames Weinkle\, Assistant U.S. Attorney\, U.S. Attorney’s Office\, Southern District of Florida\n\n[3:45 – 5:00 p.m.] Panel 11: Ethics\n \n\nMichael E. Paulhus\, Partner\, King & Spalding LLP (moderator)\nJennifer Verkamp\, Partner\, Morgan Verkamp\, LLC\nDavid Wiseman\, Assistant Director\, Civil Fraud Section\, U.S. Department of Justice\n\n5:00 p.m.Closing Remarks \n\nRegistration\nRegistration is now closed for the 2020 Qui Tam Conference as we have reached maximum capacity for the venue. Contact meetings@fedbar.org to be placed on a wait-list to attend this year’s conference. Pending any cancellations\, we will release tickets on a first come first serve basis. \nWe look forward to hosting this program next year! \n\nHousing\nPlease find a list of hotels below that are within walking distance of the conference venue \n\nGenerator Washington DC Hotel\n1900 Connecticut Avenue NW\, Washington\, DC 20009\nPhone: 202-448-1583\n\nBooking Promo Code: GenLocal\n\n\nWashington Hilton\n1919 Connecticut Avenue NW\, Washington\, DC 20009\nPhone: 202-483-3000\n\n\n\nSponsors\n[THOUGHT LEADERS] \n \n \n[NETWORKING RECEPTION] \nPietragallo Gordon Alfano Bosick & Raspanti\, LLP \n[EVENT PARTNER] \nBird Marella \n[Breakfasts & Breaks] \nWaters Krauss & Paul \nContact Elizabeth Johnson if you are interested in sponsoring this event. \n\nIf you have any questions regarding this program\, please contact Ariel White\, Conference Coordinator.
URL:https://www.fedbar.org/event/quitam20/
LOCATION:FHI360 Conference Center\, 1825 Connecticut Ave\, NW 8th Floor\, Washington\, DC\, 20240
CATEGORIES:Qui Tam Section
ATTACH;FMTTYPE=image/jpeg:https://www.fedbar.org/wp-content/uploads/2019/12/QuiTam20-Image.jpg
GEO:38.9153362;-77.0459222
X-APPLE-STRUCTURED-LOCATION;VALUE=URI;X-ADDRESS=FHI360 Conference Center 1825 Connecticut Ave NW 8th Floor Washington DC 20240;X-APPLE-RADIUS=500;X-TITLE=1825 Connecticut Ave\, NW 8th Floor:geo:-77.0459222,38.9153362
END:VEVENT
END:VCALENDAR