BEGIN:VCALENDAR
VERSION:2.0
PRODID:-//Federal Bar Association - ECPv6.15.15//NONSGML v1.0//EN
CALSCALE:GREGORIAN
METHOD:PUBLISH
X-WR-CALNAME:Federal Bar Association
X-ORIGINAL-URL:https://www.fedbar.org
X-WR-CALDESC:Events for Federal Bar Association
REFRESH-INTERVAL;VALUE=DURATION:PT1H
X-Robots-Tag:noindex
X-PUBLISHED-TTL:PT1H
BEGIN:VTIMEZONE
TZID:America/New_York
BEGIN:DAYLIGHT
TZOFFSETFROM:-0500
TZOFFSETTO:-0400
TZNAME:EDT
DTSTART:20190310T070000
END:DAYLIGHT
BEGIN:STANDARD
TZOFFSETFROM:-0400
TZOFFSETTO:-0500
TZNAME:EST
DTSTART:20191103T060000
END:STANDARD
BEGIN:DAYLIGHT
TZOFFSETFROM:-0500
TZOFFSETTO:-0400
TZNAME:EDT
DTSTART:20200308T070000
END:DAYLIGHT
BEGIN:STANDARD
TZOFFSETFROM:-0400
TZOFFSETTO:-0500
TZNAME:EST
DTSTART:20201101T060000
END:STANDARD
BEGIN:DAYLIGHT
TZOFFSETFROM:-0500
TZOFFSETTO:-0400
TZNAME:EDT
DTSTART:20210314T070000
END:DAYLIGHT
BEGIN:STANDARD
TZOFFSETFROM:-0400
TZOFFSETTO:-0500
TZNAME:EST
DTSTART:20211107T060000
END:STANDARD
END:VTIMEZONE
BEGIN:VEVENT
DTSTART;TZID=America/New_York:20200914T180000
DTEND;TZID=America/New_York:20200914T211500
DTSTAMP:20260423T053954
CREATED:20200310T151257Z
LAST-MODIFIED:20200810T232925Z
UID:31343-1600106400-1600118100@www.fedbar.org
SUMMARY:LGBT Law Section: Emerging Issues in the LGBTQ+ Community 2020
DESCRIPTION:Join the LGBT Law Section and the DC Bar on Monday\, March 30\, 2020 to discuss emerging issues in LGBTQ+ Law. This interactive and informative class will discuss various LGBTQ+ related legal issues\, including transgender rights\, parentage\, domestic partnerships/same-sex marriage\, taxes\, and child custody.  This class will be available both in-person and via webinar. Don’t miss this opportunity to hear from our experienced panel and get the latest updates in the field of LGBTQ+ law! \n\nSpeakers\n\nJoseph C. Figini\, Delaney McKinney LLP\nMichele Zavos\, Delaney McKinney LLP\n\n\nRegistration\nRegistration Fees \n\nFBA Members: $89\nNon-members: $129\n\nHow to Register \nClick Here to be redirected to the DC Bar Event Registration Page \n\nSelect Individual Registration Button\nCreate an account with DC Bar\nSelect “FBA LGBT Law Section Members” from drop-down menu\n\n\nCLE\n3 credit hours of CLE courtesy of the DC Bar. \n\nQuestions?\nContact Brandon King\, Chair of the LGBT Law Section.
URL:https://www.fedbar.org/event/lgbt-law-section-emerging-issues-in-the-lgbtq-community-2020/
LOCATION:DC Bar\, 901 4th Street NW\, Washington DC\, DC\, 20001\, United States
CATEGORIES:District of Columbia Chapter,LGBTQ+ Law Section
GEO:38.9016818;-77.0158737
X-APPLE-STRUCTURED-LOCATION;VALUE=URI;X-ADDRESS=DC Bar 901 4th Street NW Washington DC DC 20001 United States;X-APPLE-RADIUS=500;X-TITLE=901 4th Street NW:geo:-77.0158737,38.9016818
END:VEVENT
BEGIN:VEVENT
DTSTART;TZID=America/New_York:20200227T120000
DTEND;TZID=America/New_York:20200227T140000
DTSTAMP:20260423T053954
CREATED:20200203T212733Z
LAST-MODIFIED:20200221T142000Z
UID:24760-1582804800-1582812000@www.fedbar.org
SUMMARY:Capitol Hill Chapter & FCSD: Cybersecurity for Lawyers: CISA\, The Cyber Infrastructure Security Agency Discusses the Latest Developments in Cyber Law
DESCRIPTION:Cybersecurity has become a priority for business entities\, government agencies and law firms.  For legal counsel\, advising your clients on the legal issues associated with cybersecurity attacks\, government contracting and other data security risks clients has become a growing portion of your practice.  CISA\, a new government agency was created to assist both private businesses and public sector entities with cybersecurity issues.  The CISA Legal Team will discuss what legal professions should know about current cybersecurity risks and key legislation such as the Federal Acquisition Supply Chain Security Act affecting. \n\nSpeakers\n\nSteven Kaufman\, Principal Deputy Chief Counsel\, U.S. Dept of Homeland Security (DHS)/Cybersecurity and Infrastructure Security Agency (CISA) (Moderator)\nTerence Liley\, President\, Federal Bar Association Capitol Hill Chapter (Moderator)\nDaniel Sutherland\, Chief Counsel\, U.S. Dept of Homeland Security (DHS)/Cybersecurity and Infrastructure Security Agency (CISA)\n\n\nSponsors\n\nDistrict of Columbia Bar\nFederal Bar Association\, Capitol Hill Chapter\nManagement\, Technology and Administration Committee of the D.C. Bar\n\n\nRegistration\nRegistration Fees \n\nFBA Members: $25\nGovernment/Non-profit: $25\nDC Bar Members: $30\nNon-members: $35\n\nRegistration for the discussion will be through the D.C. Bar website: Register Online \nFor those who cannot attend in person\, the event will be broadcast as a live webinar.
URL:https://www.fedbar.org/event/capitol-hill-chapter-cybersecurity-for-lawyers-cisa-the-cyber-infrastructure-security-agency-discusses-the-latest-developments-in-cyber-law/
LOCATION:DC Bar\, 901 4th Street NW\, Washington DC\, DC\, 20001\, United States
CATEGORIES:Capitol Hill Chapter
GEO:38.9016818;-77.0158737
X-APPLE-STRUCTURED-LOCATION;VALUE=URI;X-ADDRESS=DC Bar 901 4th Street NW Washington DC DC 20001 United States;X-APPLE-RADIUS=500;X-TITLE=901 4th Street NW:geo:-77.0158737,38.9016818
END:VEVENT
END:VCALENDAR