BEGIN:VCALENDAR
VERSION:2.0
PRODID:-//Federal Bar Association - ECPv6.15.15//NONSGML v1.0//EN
CALSCALE:GREGORIAN
METHOD:PUBLISH
X-ORIGINAL-URL:https://www.fedbar.org
X-WR-CALDESC:Events for Federal Bar Association
REFRESH-INTERVAL;VALUE=DURATION:PT1H
X-Robots-Tag:noindex
X-PUBLISHED-TTL:PT1H
BEGIN:VTIMEZONE
TZID:America/New_York
BEGIN:DAYLIGHT
TZOFFSETFROM:-0500
TZOFFSETTO:-0400
TZNAME:EDT
DTSTART:20190310T070000
END:DAYLIGHT
BEGIN:STANDARD
TZOFFSETFROM:-0400
TZOFFSETTO:-0500
TZNAME:EST
DTSTART:20191103T060000
END:STANDARD
BEGIN:DAYLIGHT
TZOFFSETFROM:-0500
TZOFFSETTO:-0400
TZNAME:EDT
DTSTART:20200308T070000
END:DAYLIGHT
BEGIN:STANDARD
TZOFFSETFROM:-0400
TZOFFSETTO:-0500
TZNAME:EST
DTSTART:20201101T060000
END:STANDARD
BEGIN:DAYLIGHT
TZOFFSETFROM:-0500
TZOFFSETTO:-0400
TZNAME:EDT
DTSTART:20210314T070000
END:DAYLIGHT
BEGIN:STANDARD
TZOFFSETFROM:-0400
TZOFFSETTO:-0500
TZNAME:EST
DTSTART:20211107T060000
END:STANDARD
BEGIN:DAYLIGHT
TZOFFSETFROM:-0500
TZOFFSETTO:-0400
TZNAME:EDT
DTSTART:20220313T070000
END:DAYLIGHT
BEGIN:STANDARD
TZOFFSETFROM:-0400
TZOFFSETTO:-0500
TZNAME:EST
DTSTART:20221106T060000
END:STANDARD
BEGIN:DAYLIGHT
TZOFFSETFROM:-0500
TZOFFSETTO:-0400
TZNAME:EDT
DTSTART:20230312T070000
END:DAYLIGHT
BEGIN:STANDARD
TZOFFSETFROM:-0400
TZOFFSETTO:-0500
TZNAME:EST
DTSTART:20231105T060000
END:STANDARD
END:VTIMEZONE
BEGIN:VEVENT
DTSTART;TZID=America/New_York:20221103T173000
DTEND;TZID=America/New_York:20221103T203000
DTSTAMP:20260422T180520
CREATED:20221003T145202Z
LAST-MODIFIED:20221003T160342Z
UID:286600-1667496600-1667507400@www.fedbar.org
SUMMARY:South Florida Chapter: Federal Judicial Reception and Installation
DESCRIPTION:  \nThe South Florida Chapter of the Federal Bar Association is hosting its 40th Annual Federal Judicial Reception to honor our federal judges on Thursday\, November 3rd\, 2022 from 5:30 p.m. to 8:30 p.m. at the Historic Alfred I. Dupont Building\, located at 169 E. Flagler Street\, Miami\, Florida. This year\, we have combined our Judicial Reception (which was postponed earlier this year due to Covid-19) with our annual Installation Dinner. Thus\, in addition to honoring our judiciary\, we will also be installing the officers and directors of the South Florida Chapter. \nRegistration\nSign up online\nhttps://www.fba-sdfla.org/judicial-reception-installation?utm_campaign=3830706f-aa1e-4419-a154-7bdb1183556c&utm_source=so&utm_medium=mail&cid=97c8e301-b128-43a5-84e6-075152f8fc20\nDeadline: October 31\, 2022 \nRegistration Fee  \n\n$75 FBA Member\n$100 – Non-Member\n$50 – Student\, Government\, Academic\n\nIf you have any questions regarding this program\, please contact scasey@colson.com \n 
URL:https://www.fedbar.org/event/south-florida-chapter-federal-judicial-reception-and-installation/
LOCATION:Alfred Dupont Bldg\, 169 E Flagler St\, Miami\, FL\, 33131\, United States
CATEGORIES:South Florida Chapter
ORGANIZER;CN="Stephanie Casey":MAILTO:scasey@colson.com
GEO:25.7745766;-80.1906577
X-APPLE-STRUCTURED-LOCATION;VALUE=URI;X-ADDRESS=Alfred Dupont Bldg 169 E Flagler St Miami FL 33131 United States;X-APPLE-RADIUS=500;X-TITLE=169 E Flagler St:geo:-80.1906577,25.7745766
END:VEVENT
BEGIN:VEVENT
DTSTART;TZID=America/New_York:20200206T173000
DTEND;TZID=America/New_York:20200206T203000
DTSTAMP:20260422T180520
CREATED:20191220T185743Z
LAST-MODIFIED:20200106T120359Z
UID:16473-1581010200-1581021000@www.fedbar.org
SUMMARY:South Florida: Judicial Reception
DESCRIPTION:Description: Our fabulous annual Federal Judicial reception \nSpeakers: Federal Judiciary \nPrice: \n$60 for non-members\n$50 for members\n$25 for government/academics/students \nRSVP: http://fba-sdfla.org purchase your ticket by 1/31/20 \nEvent Contact: federalbar.southflorida@gmail.com
URL:https://www.fedbar.org/event/south-florida-judicial-reception/
LOCATION:Alfred Dupont Bldg\, 169 E Flagler St\, Miami\, FL\, 33131\, United States
GEO:25.7745766;-80.1906577
X-APPLE-STRUCTURED-LOCATION;VALUE=URI;X-ADDRESS=Alfred Dupont Bldg 169 E Flagler St Miami FL 33131 United States;X-APPLE-RADIUS=500;X-TITLE=169 E Flagler St:geo:-80.1906577,25.7745766
END:VEVENT
END:VCALENDAR