BEGIN:VCALENDAR
VERSION:2.0
PRODID:-//Federal Bar Association - ECPv6.15.15//NONSGML v1.0//EN
CALSCALE:GREGORIAN
METHOD:PUBLISH
X-WR-CALNAME:Federal Bar Association
X-ORIGINAL-URL:https://www.fedbar.org
X-WR-CALDESC:Events for Federal Bar Association
REFRESH-INTERVAL;VALUE=DURATION:PT1H
X-Robots-Tag:noindex
X-PUBLISHED-TTL:PT1H
BEGIN:VTIMEZONE
TZID:America/New_York
BEGIN:DAYLIGHT
TZOFFSETFROM:-0500
TZOFFSETTO:-0400
TZNAME:EDT
DTSTART:20210314T070000
END:DAYLIGHT
BEGIN:STANDARD
TZOFFSETFROM:-0400
TZOFFSETTO:-0500
TZNAME:EST
DTSTART:20211107T060000
END:STANDARD
BEGIN:DAYLIGHT
TZOFFSETFROM:-0500
TZOFFSETTO:-0400
TZNAME:EDT
DTSTART:20220313T070000
END:DAYLIGHT
BEGIN:STANDARD
TZOFFSETFROM:-0400
TZOFFSETTO:-0500
TZNAME:EST
DTSTART:20221106T060000
END:STANDARD
BEGIN:DAYLIGHT
TZOFFSETFROM:-0500
TZOFFSETTO:-0400
TZNAME:EDT
DTSTART:20230312T070000
END:DAYLIGHT
BEGIN:STANDARD
TZOFFSETFROM:-0400
TZOFFSETTO:-0500
TZNAME:EST
DTSTART:20231105T060000
END:STANDARD
END:VTIMEZONE
BEGIN:VEVENT
DTSTART;TZID=America/New_York:20221206T180000
DTEND;TZID=America/New_York:20221206T200000
DTSTAMP:20260422T192111
CREATED:20221202T143342Z
LAST-MODIFIED:20221202T144739Z
UID:305024-1670349600-1670356800@www.fedbar.org
SUMMARY:Eastern District of Pennsylvania Chapter: Judicial Perspectives on Copyright Litigation
DESCRIPTION:Copyright litigation is\, in many ways\, similar to other litigation in federal court. But copyright cases can present unique challenges that warrant careful management\, such as the early adjudication of key issues like fair use or the availability of statutory damages and how to deal with cases in which the number of works or alleged infringements threatens to make trial unwieldy. This program will explore the litigation of copyright cases through the eyes of three federal judges sitting in the Eastern District of Pennsylvania. Judges Mitchell Goldberg\, Wendy Beetlestone\, and Joshua Wolson will discuss the management of copyright cases in the district\, with lessons for litigators of all stripes who regularly appear in federal court. \nView Event Flyer \nSpeakers\n\nHon. Wendy Beetlestone (U.S. District Court for the Eastern District of Pennsylvania)\nHon. Mitchell S. Goldberg (U.S. District Court for the Eastern District of Pennsylvania)\nHon. Joshua D. Wolson (U.S. District Court for the Eastern District of Pennsylvania)\n\nRegistration\nRegistration Fees\nDeadline to register is December 6\, 2022 \nSign Up Online\nhttps://members.copyrightsociety.org/events/judicial-perspectives-on-copyright-litigation\nRSVP: djwolfsohn@duanemorris.com \n\n$55 – FBA Member\n$95 – Non-Member\n\nCLE\nPlease note CLE will not be offered for this event.  \nIf you have questions regarding this program\, please contact Tyler Marandola at tmarandola@duanemorris.com.
URL:https://www.fedbar.org/event/eastern-district-of-pennsylvania-chapter-judicial-perspectives-on-copyright-litigation/
LOCATION:Kimpton Hotel Monaco\, 433 Chestnut Street\, Philadelphia\, PA\, 19106\, United States
CATEGORIES:Eastern District of Pennsylvania Chapter
ORGANIZER;CN="Tyler Marandola":MAILTO:mailto:tmarandola@duanemorris.com
GEO:39.9492845;-75.1489268
X-APPLE-STRUCTURED-LOCATION;VALUE=URI;X-ADDRESS=Kimpton Hotel Monaco 433 Chestnut Street Philadelphia PA 19106 United States;X-APPLE-RADIUS=500;X-TITLE=433 Chestnut Street:geo:-75.1489268,39.9492845
END:VEVENT
END:VCALENDAR