BEGIN:VCALENDAR
VERSION:2.0
PRODID:-//Federal Bar Association - ECPv6.15.15//NONSGML v1.0//EN
CALSCALE:GREGORIAN
METHOD:PUBLISH
X-ORIGINAL-URL:https://www.fedbar.org
X-WR-CALDESC:Events for Federal Bar Association
REFRESH-INTERVAL;VALUE=DURATION:PT1H
X-Robots-Tag:noindex
X-PUBLISHED-TTL:PT1H
BEGIN:VTIMEZONE
TZID:America/Chicago
BEGIN:DAYLIGHT
TZOFFSETFROM:-0600
TZOFFSETTO:-0500
TZNAME:CDT
DTSTART:20220313T080000
END:DAYLIGHT
BEGIN:STANDARD
TZOFFSETFROM:-0500
TZOFFSETTO:-0600
TZNAME:CST
DTSTART:20221106T070000
END:STANDARD
BEGIN:DAYLIGHT
TZOFFSETFROM:-0600
TZOFFSETTO:-0500
TZNAME:CDT
DTSTART:20230312T080000
END:DAYLIGHT
BEGIN:STANDARD
TZOFFSETFROM:-0500
TZOFFSETTO:-0600
TZNAME:CST
DTSTART:20231105T070000
END:STANDARD
BEGIN:DAYLIGHT
TZOFFSETFROM:-0600
TZOFFSETTO:-0500
TZNAME:CDT
DTSTART:20240310T080000
END:DAYLIGHT
BEGIN:STANDARD
TZOFFSETFROM:-0500
TZOFFSETTO:-0600
TZNAME:CST
DTSTART:20241103T070000
END:STANDARD
END:VTIMEZONE
BEGIN:VEVENT
DTSTART;TZID=America/Chicago:20230317T113000
DTEND;TZID=America/Chicago:20230317T143000
DTSTAMP:20260423T081507
CREATED:20230220T234330Z
LAST-MODIFIED:20230317T134906Z
UID:323100-1679052600-1679063400@www.fedbar.org
SUMMARY:Southern District of Illinois Chapter: 2023 Women in the Law Symposium
DESCRIPTION:Women who work in the legal profession often face unique challenges and obstacles. The Southern District of Illinois chapter of the Federal Bar Association is dedicated to facilitating necessary conversations to expose the imbalance placed on women in the legal profession and to tell the story of women who have overcome significant hurdles to serve as leaders in the law throughout the federal bar. Join us as we look back at the inspiring paths several women in our legal community have taken and forward to the work that still lies ahead. \nOur featured speaker will be the Honorable Tammy Duckworth\, United States Senator for Illinois. Senator Duckworth is an Iraq War Veteran\, a Purple Heart recipient\, and a former Assistant Secretary of the U.S. Department of Veterans Affairs. She was among the first handful of Army women to fly combat missions during Operation Iraqi Freedom and served in the Reserve Forces for 23 years before retiring at the rank of Lieutenant Colonel in 2014. She represented Illinois’s Eighth Congressional District in the U.S. House of Representatives for two terms before being elected to the United States Senate in 2016. \n[View Flyer] \nAgenda\n11:30 AM – 12:00 PM\nNetworking and cocktails \n12:00 PM – 12:30 PM\nBuffet lunch \n12:30 PM – 1:00 PM\nPanel discussion \n1:15 PM – 2:00 PM\nConversation with Senator Tammy Duckworth \n\nMaterials\n[Women in the Law CLE materials (March 2023)] \n\nRegistration\nDeadline to register is March 16\, 2023\nRSVP:https:https://www.eventbrite.com/e/2023-women-in-the-law-symposium-tickets-548076009097 \nRegistration Fee \n\nFBA Member: $75\nNon Member: $90\n\nCLE\nCLE Credit Pending. \nIf you have any questions regarding this program\, please contact Sarah Jane Hunt at sarahjane@kennedyhuntlaw.com.
URL:https://www.fedbar.org/event/southern-district-of-illinois-chapter-2023-women-in-the-law-symposium/
LOCATION:St. Clair Country Club\, 100 S. 78th Street\, Belleville\, IL\, 62223\, United States
CATEGORIES:Southern District of Illinois Chapter
ORGANIZER;CN="Sarah Jane Hunt":MAILTO:sarahjane@kennedyhuntlaw.com
GEO:38.5618934;-90.0524189
X-APPLE-STRUCTURED-LOCATION;VALUE=URI;X-ADDRESS=St. Clair Country Club 100 S. 78th Street Belleville IL 62223 United States;X-APPLE-RADIUS=500;X-TITLE=100 S. 78th Street:geo:-90.0524189,38.5618934
END:VEVENT
END:VCALENDAR