BEGIN:VCALENDAR
VERSION:2.0
PRODID:-//Federal Bar Association - ECPv6.15.15//NONSGML v1.0//EN
CALSCALE:GREGORIAN
METHOD:PUBLISH
X-ORIGINAL-URL:https://www.fedbar.org
X-WR-CALDESC:Events for Federal Bar Association
REFRESH-INTERVAL;VALUE=DURATION:PT1H
X-Robots-Tag:noindex
X-PUBLISHED-TTL:PT1H
BEGIN:VTIMEZONE
TZID:America/Chicago
BEGIN:DAYLIGHT
TZOFFSETFROM:-0600
TZOFFSETTO:-0500
TZNAME:CDT
DTSTART:20220313T080000
END:DAYLIGHT
BEGIN:STANDARD
TZOFFSETFROM:-0500
TZOFFSETTO:-0600
TZNAME:CST
DTSTART:20221106T070000
END:STANDARD
BEGIN:DAYLIGHT
TZOFFSETFROM:-0600
TZOFFSETTO:-0500
TZNAME:CDT
DTSTART:20230312T080000
END:DAYLIGHT
BEGIN:STANDARD
TZOFFSETFROM:-0500
TZOFFSETTO:-0600
TZNAME:CST
DTSTART:20231105T070000
END:STANDARD
BEGIN:DAYLIGHT
TZOFFSETFROM:-0600
TZOFFSETTO:-0500
TZNAME:CDT
DTSTART:20240310T080000
END:DAYLIGHT
BEGIN:STANDARD
TZOFFSETFROM:-0500
TZOFFSETTO:-0600
TZNAME:CST
DTSTART:20241103T070000
END:STANDARD
BEGIN:DAYLIGHT
TZOFFSETFROM:-0600
TZOFFSETTO:-0500
TZNAME:CDT
DTSTART:20250309T080000
END:DAYLIGHT
BEGIN:STANDARD
TZOFFSETFROM:-0500
TZOFFSETTO:-0600
TZNAME:CST
DTSTART:20251102T070000
END:STANDARD
END:VTIMEZONE
BEGIN:VEVENT
DTSTART;TZID=America/Chicago:20240311T120000
DTEND;TZID=America/Chicago:20240311T130000
DTSTAMP:20260423T053329
CREATED:20240228T154625Z
LAST-MODIFIED:20240228T155701Z
UID:464748-1710158400-1710162000@www.fedbar.org
SUMMARY:Oklahoma City Chapter: Brown Bag Luncheon with the Honorable Jodi W. Dishman
DESCRIPTION:Join us for a unique opportunity to connect with a federal judge over a brown bag lunch!\nSpeaker: Jodi W. Dishman – U.S. District Judge. U.S. District Court for the Western District of Oklahoma \nEvent Flyer
URL:https://www.fedbar.org/event/oklahoma-city-chapter-brown-bag-luncheon-with-the-honorable-jodi-w-dishman/
LOCATION:William J. Holloway\, Jr. U.S. Courthouse Court Clerk’s Conference Room\, 200 NW 4th Street\, First Floor\, Oklahoma City\, OK\, 73102\, United States
CATEGORIES:Oklahoma City Chapter
ATTACH;FMTTYPE=image/png:https://www.fedbar.org/wp-content/uploads/2024/02/Screenshot-2024-02-28-104308.png
ORGANIZER;CN="Nick Coffey":MAILTO:mailto:nicholas.coffey2@usdoj.gov
GEO:35.4715905;-97.5168558
X-APPLE-STRUCTURED-LOCATION;VALUE=URI;X-ADDRESS=William J. Holloway Jr. U.S. Courthouse Court Clerk’s Conference Room 200 NW 4th Street First Floor Oklahoma City OK 73102 United States;X-APPLE-RADIUS=500;X-TITLE=200 NW 4th Street\, First Floor:geo:-97.5168558,35.4715905
END:VEVENT
BEGIN:VEVENT
DTSTART;TZID=America/Chicago:20230508T120000
DTEND;TZID=America/Chicago:20230508T130000
DTSTAMP:20260423T053329
CREATED:20230501T133344Z
LAST-MODIFIED:20230501T133344Z
UID:350582-1683547200-1683550800@www.fedbar.org
SUMMARY:Oklahoma City Chapter: Brown Bag Luncheon with the Honorable Judge Stephen P. Friot
DESCRIPTION:Our Brown Bag judicial lunches allow judges and practitioners to get acquainted\, discuss best practices and preferences\, as well as other aspects of federal practice and the legal profession. \n[Event Flyer] \nSpeaker\nHon. Stephen P. Friot Judge\, United States District Court\, Western District of Oklahoma \nRegistration\nRSVP: Register Here!\nDeadline to register is May 5\, 2023 \nRegistration Fee: \n\nFree – Chapter Member Only\n\nCLE\nNo CLE for this event. \n 
URL:https://www.fedbar.org/event/oklahoma-city-chapter-brown-bag-luncheon-with-the-honorable-judge-stephen-p-friot/
LOCATION:William J. Holloway\, Jr. Courthouse (Jury Assembly Room)\, 200 NW 4th Street\, Oklahoma City\, OK\, 73102\, United States
CATEGORIES:Oklahoma City Chapter
ORGANIZER;CN="Nick Coffey":MAILTO:mailto:nicholas.coffey2@usdoj.gov
GEO:35.4715905;-97.5168558
X-APPLE-STRUCTURED-LOCATION;VALUE=URI;X-ADDRESS=William J. Holloway Jr. Courthouse (Jury Assembly Room) 200 NW 4th Street Oklahoma City OK 73102 United States;X-APPLE-RADIUS=500;X-TITLE=200 NW 4th Street:geo:-97.5168558,35.4715905
END:VEVENT
BEGIN:VEVENT
DTSTART;TZID=America/Chicago:20230327T120000
DTEND;TZID=America/Chicago:20230327T130000
DTSTAMP:20260423T053329
CREATED:20230314T172601Z
LAST-MODIFIED:20230314T173333Z
UID:330982-1679918400-1679922000@www.fedbar.org
SUMMARY:Oklahoma City Chapter: Brown Bag Luncheon with the Honorable Chief Judge Timothy D. DeGiusti
DESCRIPTION:Our Brown Bag judicial lunches allow judges and practitioners to get acquainted\, discuss best practices and preferences\, as well as other aspects of federal practice and the legal profession. \n[View Flyer] \nSpeaker\nHon. Timothy D. DeGiusti Chief Judge\, United States District Court\, Western District of Oklahoma \nRegistration\nDeadline to register is March 24\, 2023\nRSVP: Register Online \nRegistration Fee:\n\nFree\nChapter Member Only\n\nCLE\nPlease note there is no CLE provided for this program. \nIf you have any questions regarding this program\, please contact Nick Coffey at nicholas.coffey2@usdoj.gov.
URL:https://www.fedbar.org/event/oklahoma-city-chapter-brown-bag-luncheon-with-the-honorable-chief-judge-timothy-d-degiusti/
LOCATION:William J. Holloway\, Jr. U.S. Courthouse Court Clerk’s Conference Room\, 200 NW 4th Street\, First Floor\, Oklahoma City\, OK\, 73102\, United States
CATEGORIES:Oklahoma City Chapter
ORGANIZER;CN="Nick Coffey":MAILTO:mailto:nicholas.coffey2@usdoj.gov
GEO:35.4715905;-97.5168558
X-APPLE-STRUCTURED-LOCATION;VALUE=URI;X-ADDRESS=William J. Holloway Jr. U.S. Courthouse Court Clerk’s Conference Room 200 NW 4th Street First Floor Oklahoma City OK 73102 United States;X-APPLE-RADIUS=500;X-TITLE=200 NW 4th Street\, First Floor:geo:-97.5168558,35.4715905
END:VEVENT
END:VCALENDAR