BEGIN:VCALENDAR
VERSION:2.0
PRODID:-//Federal Bar Association - ECPv6.15.15//NONSGML v1.0//EN
CALSCALE:GREGORIAN
METHOD:PUBLISH
X-ORIGINAL-URL:https://www.fedbar.org
X-WR-CALDESC:Events for Federal Bar Association
REFRESH-INTERVAL;VALUE=DURATION:PT1H
X-Robots-Tag:noindex
X-PUBLISHED-TTL:PT1H
BEGIN:VTIMEZONE
TZID:America/New_York
BEGIN:DAYLIGHT
TZOFFSETFROM:-0500
TZOFFSETTO:-0400
TZNAME:EDT
DTSTART:20220313T070000
END:DAYLIGHT
BEGIN:STANDARD
TZOFFSETFROM:-0400
TZOFFSETTO:-0500
TZNAME:EST
DTSTART:20221106T060000
END:STANDARD
BEGIN:DAYLIGHT
TZOFFSETFROM:-0500
TZOFFSETTO:-0400
TZNAME:EDT
DTSTART:20230312T070000
END:DAYLIGHT
BEGIN:STANDARD
TZOFFSETFROM:-0400
TZOFFSETTO:-0500
TZNAME:EST
DTSTART:20231105T060000
END:STANDARD
BEGIN:DAYLIGHT
TZOFFSETFROM:-0500
TZOFFSETTO:-0400
TZNAME:EDT
DTSTART:20240310T070000
END:DAYLIGHT
BEGIN:STANDARD
TZOFFSETFROM:-0400
TZOFFSETTO:-0500
TZNAME:EST
DTSTART:20241103T060000
END:STANDARD
END:VTIMEZONE
BEGIN:VEVENT
DTSTART;TZID=America/New_York:20230509T103000
DTEND;TZID=America/New_York:20230509T113000
DTSTAMP:20260423T111653
CREATED:20230412T161732Z
LAST-MODIFIED:20230412T161836Z
UID:343936-1683628200-1683631800@www.fedbar.org
SUMMARY:Dayton Chapter: Ethical Responsibilities in Representing Corporate Clients
DESCRIPTION:While many lawyers represent organizations or are engaged in litigation with organizations\, these engagements raise unique ethical issues. Fundamentally\, who is your client? From whom can you take direction? With whom are you allowed to speak? What are your obligations in communicating with former employees of an entity that has counsel? What are you able to do when your client has problems in jurisdictions where you are not admitted to practice? We will discuss these issues in our presentation\, “Ethical Responsibilities in Representing Corporate Clients.” \nSpeaker\nDan Gentry\, Esq.\, Attorney\, President\, and CEO of Coolidge Wall Co.\, L.P.A. \nAs a member of the litigation department\, Dan focuses his practice on business and employment litigation and dispute resolution. He has handled a variety of business disputes\, discrimination and harassment claims\, non-competition and trade secret litigation\, tort litigation\, and other disputes arising from business operations and transactions. Dan has tried cases to judges and juries in Ohio courts\, advocated before Ohio courts of appeal and administrative agencies\, and represented clients in mediations and arbitrations. Most recently before joining the firm\, Dan served as in-house counsel to a local high-tech R&D company. He has also provided training to young lawyers and addressed local business organizations on topics of interest related to business disputes. \nRegistration\nRegistration Deadline May 8\, 2023\nSpace is limited; attendees must register. RSVP Here! \nRegistration Fee: \n\nFree – FBA Member\n$50 – Non Member\n\nCLE\n1.0 CLE Hours Anticipated. \nIf you have any questions regarding this program\, please contact Michael Mayer at  MichaelMayer@ohsd.uscourts.gov. \n 
URL:https://www.fedbar.org/event/dayton-chapter-ethical-responsibilities-in-representing-corporate-clients/
LOCATION:Walter H. Rice Federal Building and U.S Courthouse (Room 150)\, 200 West Second Street\, Dayton\, OH\, 45402\, United States
CATEGORIES:Dayton Chapter
ORGANIZER;CN="Michael Mayer":MAILTO:mailto:Michael_Mayer@ohsd.uscourts.gov
GEO:39.7594127;-84.1958444
X-APPLE-STRUCTURED-LOCATION;VALUE=URI;X-ADDRESS=Walter H. Rice Federal Building and U.S Courthouse (Room 150) 200 West Second Street Dayton OH 45402 United States;X-APPLE-RADIUS=500;X-TITLE=200 West Second Street:geo:-84.1958444,39.7594127
END:VEVENT
BEGIN:VEVENT
DTSTART;TZID=America/New_York:20230405T110000
DTEND;TZID=America/New_York:20230405T130000
DTSTAMP:20260423T111653
CREATED:20230313T203039Z
LAST-MODIFIED:20230320T162047Z
UID:330467-1680692400-1680699600@www.fedbar.org
SUMMARY:Dayton Chapter Event: State of the Court
DESCRIPTION:The State of the Court event includes presentations by judges regarding relevant events from 2022 regarding the U.S. District Court for the Southern District of Ohio and what is expected in 2023\, including changes to the various sets of federal rules. The speakers include Chief Judge Algenon L. Marbley\, District Judge Michael J. Newman\, Magistrate Judge Peter B. Silvain\, Jr.\, and Bankruptcy Judge Guy R. Humphrey. It has been approved for 1.0 general hours of CLE credit by the Ohio Supreme Court and\, immediately following the program\, attendees will be able to attend a luncheon at the courthouse\, with boxed lunches/salads catered by Dorothy Lane Market. Program materials will include identification of federal rules that were amended or added in 2022 and those that are slated to be amended or added in 2023. \nSpeakers\n\nChief Judge Algenon L. Marbley – United States District Court for the Southern District of Ohio\nDistrict Judge Michael J. Newman – United States District Court for the Southern District of Ohio\nMagistrate Judge Peter B. Silvain\, Jr. – United States District Court for the Southern District of Ohio\nBankruptcy Judge Guy R. Humphrey – United States Bankruptcy Court for the Southern District of Ohio\n\nRegistration\nDeadline to register is March 29\, 2023\nRSVP: Register Online! \nRegistration Fee: \n\nFBA Member – Free\nNon Member – $30\n\nCLE\n1.0 CLE Credit. \nIf you have any questions regarding this program\, please contact Michael Mayer at Michael_Mayer@ohsd.uscourts.gov.
URL:https://www.fedbar.org/event/dayton-chapter-event-state-of-the-court/
LOCATION:U.S. Bankruptcy Court\, 120 West Third Street\, Dayton\, OH\, 45402\, United States
CATEGORIES:Dayton Chapter
ORGANIZER;CN="Michael Mayer":MAILTO:mailto:Michael_Mayer@ohsd.uscourts.gov
GEO:39.7586516;-84.1942331
X-APPLE-STRUCTURED-LOCATION;VALUE=URI;X-ADDRESS=U.S. Bankruptcy Court 120 West Third Street Dayton OH 45402 United States;X-APPLE-RADIUS=500;X-TITLE=120 West Third Street:geo:-84.1942331,39.7586516
END:VEVENT
END:VCALENDAR