BEGIN:VCALENDAR
VERSION:2.0
PRODID:-//Federal Bar Association - ECPv6.15.15//NONSGML v1.0//EN
CALSCALE:GREGORIAN
METHOD:PUBLISH
X-ORIGINAL-URL:https://www.fedbar.org
X-WR-CALDESC:Events for Federal Bar Association
REFRESH-INTERVAL;VALUE=DURATION:PT1H
X-Robots-Tag:noindex
X-PUBLISHED-TTL:PT1H
BEGIN:VTIMEZONE
TZID:America/New_York
BEGIN:DAYLIGHT
TZOFFSETFROM:-0500
TZOFFSETTO:-0400
TZNAME:EDT
DTSTART:20210314T070000
END:DAYLIGHT
BEGIN:STANDARD
TZOFFSETFROM:-0400
TZOFFSETTO:-0500
TZNAME:EST
DTSTART:20211107T060000
END:STANDARD
BEGIN:DAYLIGHT
TZOFFSETFROM:-0500
TZOFFSETTO:-0400
TZNAME:EDT
DTSTART:20220313T070000
END:DAYLIGHT
BEGIN:STANDARD
TZOFFSETFROM:-0400
TZOFFSETTO:-0500
TZNAME:EST
DTSTART:20221106T060000
END:STANDARD
BEGIN:DAYLIGHT
TZOFFSETFROM:-0500
TZOFFSETTO:-0400
TZNAME:EDT
DTSTART:20230312T070000
END:DAYLIGHT
BEGIN:STANDARD
TZOFFSETFROM:-0400
TZOFFSETTO:-0500
TZNAME:EST
DTSTART:20231105T060000
END:STANDARD
END:VTIMEZONE
BEGIN:VEVENT
DTSTART;TZID=America/New_York:20220603T080000
DTEND;TZID=America/New_York:20220603T190000
DTSTAMP:20260423T060526
CREATED:20220329T155449Z
LAST-MODIFIED:20220516T143139Z
UID:221533-1654243200-1654282800@www.fedbar.org
SUMMARY:Western District of North Carolina Chapter: Annual Meeting & CLE - Effective Advocacy
DESCRIPTION:In addition to the FBA WDNC Chapter annual meeting and State of the District and Courthouse Annex discussions by WDNC Chief Judge Reidinger and Judge Conrad\, there will also be presentations by the Hon. Allison Jones Rushing\, Judge\, US Court of Appeals for the Fourth Circuit\, and the Hon. Richard M. Gergel\, Judge\, US District Court for the District of South Carolina as well as panel discussions featuring the District and Magistrate Judges of the US District Court for the Western District of North Carolina. \n\nSpeakers\n\nHon. Allison Jones Rushing\, Judge\, US Court of Appeals for the Fourth Circuit\nHon. Richard M. Gergel\, Judge\, US District Court for the District of South Carolina\nHon. Martin Reidinger\, Chief Judge\, US District Court for the Western District of North Carolina\nHon. Robert J. Conrad\, Judge\, US District Court for the Western District of North Carolina\nDistrict Judges for the US District Court for the Western District of North Carolina\nMagistrate Judges for the US District Court for the Western District of North Carolina\nThe District and Magistrate Judges of the United States District Court for the Western District of North Carolina\n\n\nRegistration\nRegistration Rates  \n\nJudges & Federal Law Clerks: $0\nFederal Prosecutors and Defenders: $125 by March 29\, $200 after\nFBA and Cherokee Bar Association Members: $175 by March 29\, $250 after\nAll Others:  $250 by March 29\, $325 after\n\nMake checks payable to ‘Federal Bar Association – WDNC’ and mail to McGuireWoods LLP\, Attn: Matthew Orso\, 201 N. Tryon St.\, Suite 3000\, Charlotte\, NC 28203 \n\n\n\n\n\n\n\n\n\n\n\n\n\n\n\n\n\n\n\n\n\n\n\n\n\nCLE\n\n\n\n\n\n\n\n\n6.0 CLE Credit approval pending. \n\nEmail Communication Policy \nBy registering for this event\, you agree to receive email communications from the Federal Bar Association and affiliated sponsors of the program concerning event details\, Continuing Legal Education certification\, programming changes\, upcoming events\, surveys\, and post-event communications.
URL:https://www.fedbar.org/event/western-district-of-north-carolina-chapter-annual-meeting-cle-effective-advocacy/
LOCATION:The Omni Grove Park Inn\, 290 Macon Ave.\, Asheville\, NC\, 28804\, United States
CATEGORIES:Western District of North Carolina
ATTACH;FMTTYPE=application/pdf:https://www.fedbar.org/wp-content/uploads/2022/03/FBA-WDNC-June-3-2022-Annual-Meeting-CLE-Registration-and-Agenda.pdf
ORGANIZER;CN="Matt Orso":MAILTO:morso@mcguirewoods.com
GEO:35.6199919;-82.5432495
X-APPLE-STRUCTURED-LOCATION;VALUE=URI;X-ADDRESS=The Omni Grove Park Inn 290 Macon Ave. Asheville NC 28804 United States;X-APPLE-RADIUS=500;X-TITLE=290 Macon Ave.:geo:-82.5432495,35.6199919
END:VEVENT
END:VCALENDAR