BEGIN:VCALENDAR
VERSION:2.0
PRODID:-//Federal Bar Association - ECPv6.15.15//NONSGML v1.0//EN
CALSCALE:GREGORIAN
METHOD:PUBLISH
X-WR-CALNAME:Federal Bar Association
X-ORIGINAL-URL:https://www.fedbar.org
X-WR-CALDESC:Events for Federal Bar Association
REFRESH-INTERVAL;VALUE=DURATION:PT1H
X-Robots-Tag:noindex
X-PUBLISHED-TTL:PT1H
BEGIN:VTIMEZONE
TZID:America/New_York
BEGIN:DAYLIGHT
TZOFFSETFROM:-0500
TZOFFSETTO:-0400
TZNAME:EDT
DTSTART:20220313T070000
END:DAYLIGHT
BEGIN:STANDARD
TZOFFSETFROM:-0400
TZOFFSETTO:-0500
TZNAME:EST
DTSTART:20221106T060000
END:STANDARD
BEGIN:DAYLIGHT
TZOFFSETFROM:-0500
TZOFFSETTO:-0400
TZNAME:EDT
DTSTART:20230312T070000
END:DAYLIGHT
BEGIN:STANDARD
TZOFFSETFROM:-0400
TZOFFSETTO:-0500
TZNAME:EST
DTSTART:20231105T060000
END:STANDARD
BEGIN:DAYLIGHT
TZOFFSETFROM:-0500
TZOFFSETTO:-0400
TZNAME:EDT
DTSTART:20240310T070000
END:DAYLIGHT
BEGIN:STANDARD
TZOFFSETFROM:-0400
TZOFFSETTO:-0500
TZNAME:EST
DTSTART:20241103T060000
END:STANDARD
BEGIN:DAYLIGHT
TZOFFSETFROM:-0500
TZOFFSETTO:-0400
TZNAME:EDT
DTSTART:20250309T070000
END:DAYLIGHT
BEGIN:STANDARD
TZOFFSETFROM:-0400
TZOFFSETTO:-0500
TZNAME:EST
DTSTART:20251102T060000
END:STANDARD
BEGIN:DAYLIGHT
TZOFFSETFROM:-0500
TZOFFSETTO:-0400
TZNAME:EDT
DTSTART:20260308T070000
END:DAYLIGHT
BEGIN:STANDARD
TZOFFSETFROM:-0400
TZOFFSETTO:-0500
TZNAME:EST
DTSTART:20261101T060000
END:STANDARD
END:VTIMEZONE
BEGIN:VEVENT
DTSTART;TZID=America/New_York:20250401T130000
DTEND;TZID=America/New_York:20250401T140000
DTSTAMP:20260422T214544
CREATED:20250312T131208Z
LAST-MODIFIED:20250312T131208Z
UID:695102-1743512400-1743516000@www.fedbar.org
SUMMARY:District of Columbia Chapter: FCPA Enforcement: The Path Forward
DESCRIPTION:The President’s recent Executive Order requiring a pause in FCPA enforcement and\nDepartment of Justice consideration of new enforcement guidelines are raising many\nquestions about the future of the FCPA. \nJoin the D.C. Chapter of the Federal Bar Association and the American Bar Association’s White Collar & Criminal Litigation Committee as they present an all-star panel of anticorruption practitioners from across the globe–Joe Whitley of Womble Bond Dickinson\, Ellen Pellegrini of Sidley Austin\, Chuck Duross of Morrison Foerster\, and Flavia Leardini of Mattos Filho–as they discuss what FCPA enforcement and compliance might look like in 2025 and beyond.
URL:https://www.fedbar.org/event/district-of-columbia-chapter-fcpa-enforcement-the-path-forward/
CATEGORIES:District of Columbia Chapter
ORGANIZER;CN="Eric Nitz":MAILTO:enitz@mololamken.com
END:VEVENT
BEGIN:VEVENT
DTSTART;TZID=America/New_York:20230522T110000
DTEND;TZID=America/New_York:20230522T163000
DTSTAMP:20260422T214544
CREATED:20230510T174335Z
LAST-MODIFIED:20230510T174335Z
UID:353852-1684753200-1684773000@www.fedbar.org
SUMMARY:DC Chapter: Third Annual Government Investigations Seminar
DESCRIPTION:An afternoon of discussion and commentary on the perils of navigating politically sensitive investigations. \nSpeaker\nThe Hon. Jonathan Meyer\, General Counsel of the Department of Homeland Security\, interviewed by the Hon. Joe Whitley\, former U.S. Attorney and current partner at Womble Bond Dickinson. \nPanel 1: The Hon. James Boasberg\, Chief Judge\, District Court for the District of Columbia; the Hon. Royce Lamberth\, District Judge\, District Court for the District of Columbia; the Hon. George Hazel\, Retired District Judge\, District of Maryland. \nPanel 2: Bill Pittard\, Partner\, Kaiser Dillon; Andrew Goldstein\, Partner\, Cooley LLP; Kate Duval\, Partner\, Zuckerman Spaeder LLP; Doug Letter\, General Counsel\, The Brady Campaign; and Eric Tucker\, Reporter\, The Associated Press. \nRegistration\nRegistration Deadline is May 19\, 2023\nRSVP: Register Here! \nRegistration Fee: \nFBA Member & Non Member is Free! \nCLE\nPlease note there is no CLE available for this event. \nIf you have any questions regarding this program\, please contact Eric Nitz at enitz@mololamken.com. \n 
URL:https://www.fedbar.org/event/dc-chapter-third-annual-government-investigations-seminar/
LOCATION:E. Barrett Prettyman Courthouse\, 333 Constitution Ave.\, N.W.\, Washington\, DC\, 20002\, United States
CATEGORIES:District of Columbia Chapter
ORGANIZER;CN="Eric Nitz":MAILTO:enitz@mololamken.com
GEO:38.8928935;-77.0162336
X-APPLE-STRUCTURED-LOCATION;VALUE=URI;X-ADDRESS=E. Barrett Prettyman Courthouse 333 Constitution Ave. N.W. Washington DC 20002 United States;X-APPLE-RADIUS=500;X-TITLE=333 Constitution Ave.\, N.W.:geo:-77.0162336,38.8928935
END:VEVENT
END:VCALENDAR