BEGIN:VCALENDAR
VERSION:2.0
PRODID:-//Federal Bar Association - ECPv6.15.15//NONSGML v1.0//EN
CALSCALE:GREGORIAN
METHOD:PUBLISH
X-WR-CALNAME:Federal Bar Association
X-ORIGINAL-URL:https://www.fedbar.org
X-WR-CALDESC:Events for Federal Bar Association
REFRESH-INTERVAL;VALUE=DURATION:PT1H
X-Robots-Tag:noindex
X-PUBLISHED-TTL:PT1H
BEGIN:VTIMEZONE
TZID:America/North_Dakota/Center
BEGIN:DAYLIGHT
TZOFFSETFROM:-0600
TZOFFSETTO:-0500
TZNAME:CDT
DTSTART:20210314T080000
END:DAYLIGHT
BEGIN:STANDARD
TZOFFSETFROM:-0500
TZOFFSETTO:-0600
TZNAME:CST
DTSTART:20211107T070000
END:STANDARD
BEGIN:DAYLIGHT
TZOFFSETFROM:-0600
TZOFFSETTO:-0500
TZNAME:CDT
DTSTART:20220313T080000
END:DAYLIGHT
BEGIN:STANDARD
TZOFFSETFROM:-0500
TZOFFSETTO:-0600
TZNAME:CST
DTSTART:20221106T070000
END:STANDARD
BEGIN:DAYLIGHT
TZOFFSETFROM:-0600
TZOFFSETTO:-0500
TZNAME:CDT
DTSTART:20230312T080000
END:DAYLIGHT
BEGIN:STANDARD
TZOFFSETFROM:-0500
TZOFFSETTO:-0600
TZNAME:CST
DTSTART:20231105T070000
END:STANDARD
END:VTIMEZONE
BEGIN:VEVENT
DTSTART;TZID=America/North_Dakota/Center:20221012T120000
DTEND;TZID=America/North_Dakota/Center:20221012T130000
DTSTAMP:20260423T075616
CREATED:20221003T124518Z
LAST-MODIFIED:20221004T125139Z
UID:286263-1665576000-1665579600@www.fedbar.org
SUMMARY:Minnesota Chapter: October Monthly Luncheon Series: A Conversation with Judge Susan Richard Nelson
DESCRIPTION:Please join us on October 12\, 2022 at the Minneapolis Club for a very special luncheon featuring a conversation with the Honorable Susan Richard Nelson discussing her incredible 22 years on the bench. \nSpeaker\nHonorable Susan Richard Nelson\, United States District Court for the District of Minnesota \nRegistration\nCovid vaccination is required for in-person attendance. \nSign up online\nhttp://events.r20.constantcontact.com/register/event?oeidk=a07ejeh49bra924712e&llr=foxhodsab\nDeadline: October 7\, 2022 \nRegistration Fee  \n\nComplimentary for Guest of Honor and Season Pass Holder\n$45 – FBA Member\n$60 – Non-Member\n$30 – Law Student\n$30 – Public Sector Employee\n\nCLE\n0.5 Hours \nIf you have any questions regarding this program\, please contact cmunasinghe@carlsoncaspers.com \n 
URL:https://www.fedbar.org/event/minnesota-chapter-october-monthly-luncheon-series-a-conversation-with-judge-susan-richard-nelson/
LOCATION:Minneapolis Club\, 729 2nd Ave S\, Minneapolis\, MN\, 55402\, United States
CATEGORIES:Minnesota Chapter
ORGANIZER;CN="Christy Munasinghe":MAILTO:lkyles@carlsoncaspers.com
GEO:44.9748922;-93.269805
X-APPLE-STRUCTURED-LOCATION;VALUE=URI;X-ADDRESS=Minneapolis Club 729 2nd Ave S Minneapolis MN 55402 United States;X-APPLE-RADIUS=500;X-TITLE=729 2nd Ave S:geo:-93.269805,44.9748922
END:VEVENT
END:VCALENDAR