BEGIN:VCALENDAR
VERSION:2.0
PRODID:-//Federal Bar Association - ECPv6.15.15//NONSGML v1.0//EN
CALSCALE:GREGORIAN
METHOD:PUBLISH
X-WR-CALNAME:Federal Bar Association
X-ORIGINAL-URL:https://www.fedbar.org
X-WR-CALDESC:Events for Federal Bar Association
REFRESH-INTERVAL;VALUE=DURATION:PT1H
X-Robots-Tag:noindex
X-PUBLISHED-TTL:PT1H
BEGIN:VTIMEZONE
TZID:America/New_York
BEGIN:DAYLIGHT
TZOFFSETFROM:-0500
TZOFFSETTO:-0400
TZNAME:EDT
DTSTART:20210314T070000
END:DAYLIGHT
BEGIN:STANDARD
TZOFFSETFROM:-0400
TZOFFSETTO:-0500
TZNAME:EST
DTSTART:20211107T060000
END:STANDARD
BEGIN:DAYLIGHT
TZOFFSETFROM:-0500
TZOFFSETTO:-0400
TZNAME:EDT
DTSTART:20220313T070000
END:DAYLIGHT
BEGIN:STANDARD
TZOFFSETFROM:-0400
TZOFFSETTO:-0500
TZNAME:EST
DTSTART:20221106T060000
END:STANDARD
BEGIN:DAYLIGHT
TZOFFSETFROM:-0500
TZOFFSETTO:-0400
TZNAME:EDT
DTSTART:20230312T070000
END:DAYLIGHT
BEGIN:STANDARD
TZOFFSETFROM:-0400
TZOFFSETTO:-0500
TZNAME:EST
DTSTART:20231105T060000
END:STANDARD
BEGIN:DAYLIGHT
TZOFFSETFROM:-0500
TZOFFSETTO:-0400
TZNAME:EDT
DTSTART:20240310T070000
END:DAYLIGHT
BEGIN:STANDARD
TZOFFSETFROM:-0400
TZOFFSETTO:-0500
TZNAME:EST
DTSTART:20241103T060000
END:STANDARD
END:VTIMEZONE
BEGIN:VEVENT
DTSTART;TZID=America/New_York:20230310T100000
DTEND;TZID=America/New_York:20230310T120000
DTSTAMP:20260423T094532
CREATED:20230220T215713Z
LAST-MODIFIED:20230220T225837Z
UID:323059-1678442400-1678449600@www.fedbar.org
SUMMARY:Webinar: Middle District of Pennsylvania Chapter: "Key Concepts of Bankruptcy That Every Federal Lawyer Should Know"
DESCRIPTION:[Virtual] \nPlease join the Middle District of Pennsylvania Chapter of the Federal Bar Association on Friday\, March 10\, 2023\, from 10:00 a.m. to noon EST\, for the next installment of its acclaimed CLE series. The Chapter will be presenting a two-hour virtual program entitled\, “Key Concepts of Bankruptcy That Every Federal Lawyer Should Know.” The program will explore the players in the bankruptcy world\, the different bankruptcy chapters\, the automatic stay\, the bankruptcy estate\, the bankruptcy discharge\, and how bankruptcy impacts other federal practice. The program is approved by the PACLE Board for 2.0 CLE credits (1.5 substantive and 0.5 ethics). The cost of the program is $40. \nModerated by Sarah Rothermel\, Esquire\, career law clerk to Chief Judge Van Eck\, the program features as panelists the Honorable Henry W. Van Eck\, Chief Judge of the U.S. Bankruptcy Court for the Middle District of Pennsylvania; the Honorable Mark J. Conway\, Judge of the U.S. Bankruptcy Court for the Middle District of Pennsylvania; D. Troy Sellars\, Esquire\, Assistant U.S. Trustee for the Middle District of Pennsylvania; Kara K. Gendron\, Esquire\, a Chapter 7 and Chapter 12 Trustee; and Jack N. Zaharopoulos\, Esquire\, the Standing Chapter 13 Trustee for the Middle District of Pennsylvania. \nRegistration\nDeadline to register is March 7\, 2023\nRSVP: https://FBAMDPA.regfox.com/key-concepts-of-bankruptcy-that-every-federal-lawyer-should-know \n\nFBA Member &  Non member $40\n\nCLE\nCLE 2.0 CLE Credit  (1.50 substantive and 0.50 ethics) \nIf you have any questions regarding this program\, please contact Casey Coyle ccoyle@babstcalland.com and Stefanie_Mekilo@pamd.uscourts.gov.
URL:https://www.fedbar.org/event/middle-district-of-pennsylvania-chapter-webinar-key-concepts-of-bankruptcy-that-every-federal-lawyer-should-know/
LOCATION:ZOOM
CATEGORIES:Middle District of Pennsylvania Chapter
ORGANIZER;CN="Casey Coyle &amp%3B Stefanie Pitcavage Mekilo":MAILTO:ccoyle@babstcalland.com; Stefanie_Mekilo@pamd.uscourts.gov
END:VEVENT
BEGIN:VEVENT
DTSTART;TZID=America/New_York:20221215T133000
DTEND;TZID=America/New_York:20221215T153000
DTSTAMP:20260423T094532
CREATED:20221201T153002Z
LAST-MODIFIED:20221201T153301Z
UID:304709-1671111000-1671118200@www.fedbar.org
SUMMARY:Webinar: Middle District of Pennsylvania Chapter: "Federal Appellate Practice: Tips from the Trenches"
DESCRIPTION:Please join the Middle District of Pennsylvania Chapter of the Federal Bar Association on December 15\, 2022\, for the next installment of its acclaimed CLE series-a two-hour virtual program entitled “Federal Appellate Practice: Tips from the Trenches.” Moderated by Nilam Sanghvi of the Pennsylvania Innocence Project\, the program will explore six areas of appellate practice: mediation; motions and other applications; briefing; oral argument; petitions for rehearing; and an ethics component. \nPanelists\n\nHonorable Thomas I. Vanaskie (Ret.)\, former Third Circuit judge and co-chair of Stevens & Lee’s Appellate Litigation practice group.\nDavid R. Fine\, a seasoned appellate lawyer from K&L Gates and president-elect of the Third Circuit Bar Association.\nCarl Marchioli\, Chief of the Appeals Unit for the U.S. Attorney’s Office for the Middle District of Pennsylvania and former law clerk to both Eighth Circuit Judge Steven Colloton and the late Supreme Court Justice Antonin Scalia.\n\nRegistration\n[Register Online]\nDeadline to register is December 13\, 2022 \nRegistration Fees \n\n$40 – FBA Member & Non-Member\n\nCLE\n2.0 CLE credit anticipated. Please contact Casey Coyle at  ccoyle@babstcalland.com; or Stefanie Pitcavage Mekilo at Stefanie_Mekilo@pamd.uscourts.gov for any other questions. \n 
URL:https://www.fedbar.org/event/webinar-middle-district-of-pennsylvania-chapter-federal-appellate-practice-tips-from-the-trenches/
ORGANIZER;CN="Casey Coyle &amp%3B Stefanie Pitcavage Mekilo":MAILTO:ccoyle@babstcalland.com; Stefanie_Mekilo@pamd.uscourts.gov
END:VEVENT
END:VCALENDAR