BEGIN:VCALENDAR
VERSION:2.0
PRODID:-//Federal Bar Association - ECPv6.15.15//NONSGML v1.0//EN
CALSCALE:GREGORIAN
METHOD:PUBLISH
X-WR-CALNAME:Federal Bar Association
X-ORIGINAL-URL:https://www.fedbar.org
X-WR-CALDESC:Events for Federal Bar Association
REFRESH-INTERVAL;VALUE=DURATION:PT1H
X-Robots-Tag:noindex
X-PUBLISHED-TTL:PT1H
BEGIN:VTIMEZONE
TZID:America/New_York
BEGIN:DAYLIGHT
TZOFFSETFROM:-0500
TZOFFSETTO:-0400
TZNAME:EDT
DTSTART:20230312T070000
END:DAYLIGHT
BEGIN:STANDARD
TZOFFSETFROM:-0400
TZOFFSETTO:-0500
TZNAME:EST
DTSTART:20231105T060000
END:STANDARD
BEGIN:DAYLIGHT
TZOFFSETFROM:-0500
TZOFFSETTO:-0400
TZNAME:EDT
DTSTART:20240310T070000
END:DAYLIGHT
BEGIN:STANDARD
TZOFFSETFROM:-0400
TZOFFSETTO:-0500
TZNAME:EST
DTSTART:20241103T060000
END:STANDARD
BEGIN:DAYLIGHT
TZOFFSETFROM:-0500
TZOFFSETTO:-0400
TZNAME:EDT
DTSTART:20250309T070000
END:DAYLIGHT
BEGIN:STANDARD
TZOFFSETFROM:-0400
TZOFFSETTO:-0500
TZNAME:EST
DTSTART:20251102T060000
END:STANDARD
BEGIN:DAYLIGHT
TZOFFSETFROM:-0500
TZOFFSETTO:-0400
TZNAME:EDT
DTSTART:20260308T070000
END:DAYLIGHT
BEGIN:STANDARD
TZOFFSETFROM:-0400
TZOFFSETTO:-0500
TZNAME:EST
DTSTART:20261101T060000
END:STANDARD
END:VTIMEZONE
BEGIN:VTIMEZONE
TZID:America/Chicago
BEGIN:DAYLIGHT
TZOFFSETFROM:-0600
TZOFFSETTO:-0500
TZNAME:CDT
DTSTART:20210314T080000
END:DAYLIGHT
BEGIN:STANDARD
TZOFFSETFROM:-0500
TZOFFSETTO:-0600
TZNAME:CST
DTSTART:20211107T070000
END:STANDARD
BEGIN:DAYLIGHT
TZOFFSETFROM:-0600
TZOFFSETTO:-0500
TZNAME:CDT
DTSTART:20220313T080000
END:DAYLIGHT
BEGIN:STANDARD
TZOFFSETFROM:-0500
TZOFFSETTO:-0600
TZNAME:CST
DTSTART:20221106T070000
END:STANDARD
BEGIN:DAYLIGHT
TZOFFSETFROM:-0600
TZOFFSETTO:-0500
TZNAME:CDT
DTSTART:20230312T080000
END:DAYLIGHT
BEGIN:STANDARD
TZOFFSETFROM:-0500
TZOFFSETTO:-0600
TZNAME:CST
DTSTART:20231105T070000
END:STANDARD
BEGIN:DAYLIGHT
TZOFFSETFROM:-0600
TZOFFSETTO:-0500
TZNAME:CDT
DTSTART:20240310T080000
END:DAYLIGHT
BEGIN:STANDARD
TZOFFSETFROM:-0500
TZOFFSETTO:-0600
TZNAME:CST
DTSTART:20241103T070000
END:STANDARD
END:VTIMEZONE
BEGIN:VEVENT
DTSTART;TZID=America/New_York:20250121T113000
DTEND;TZID=America/New_York:20250121T130000
DTSTAMP:20260423T063112
CREATED:20250106T175803Z
LAST-MODIFIED:20250106T175803Z
UID:648905-1737459000-1737464400@www.fedbar.org
SUMMARY:Mississippi Chapter: FBA CLE Luncheon - Chief Judge Ozerden
DESCRIPTION:Register Today!  The Mississippi Chapter of the Federal Bar Association is hosting a CLE luncheon on Tuesday\, January 21\, 2025\, at the Capital Club in downtown Jackson\, Mississippi.  This in-person event will feature the Honorable Sul Ozerden\, Chief District Judge of the United States District Court for the Southern District of Mississippi. \n  \nThe buffet line opens at 11:30 a.m.\, and the program begins at noon.  Please pre-register so we can relay the anticipated attendance to the Capital Club:  https://forms.gle/pYY1Xs1i1Xk3vMYw5 \n  \nThe cost of the meal is $25 for FBA members\, $30 for non-members\, and no cost for federal judges.  If you are not already an FBA member\, you can join online through the following registration link: https://www.fedbar.org/membership/join/ \n  \nAttendees may pay in advance via PayPal or at the door by cash or check.  Checks can be made payable to the Federal Bar Association\, MS Chapter.  Attendees receive 1 hour of CLE credit with the Mississippi Bar. \n  \nWe look forward to seeing you on January 21!  Please contact McKenna Cloud by email (mcloud@bakerdonelson.com) with any questions.
URL:https://www.fedbar.org/event/mississippi-chapter-fba-cle-luncheon-chief-judge-ozerden/
LOCATION:Capital Club Jackson\, 125 S Congress St\, Jackson\, MS\, 39201\, United States
CATEGORIES:Mississippi Chapter
ORGANIZER;CN="Candace Gregory":MAILTO:candace.gregory@phelps.com
GEO:32.2988372;-90.1833772
X-APPLE-STRUCTURED-LOCATION;VALUE=URI;X-ADDRESS=Capital Club Jackson 125 S Congress St Jackson MS 39201 United States;X-APPLE-RADIUS=500;X-TITLE=125 S Congress St:geo:-90.1833772,32.2988372
END:VEVENT
BEGIN:VEVENT
DTSTART;TZID=America/New_York:20240718T113000
DTEND;TZID=America/New_York:20240718T130000
DTSTAMP:20260423T063112
CREATED:20240703T201502Z
LAST-MODIFIED:20240703T201502Z
UID:520509-1721302200-1721307600@www.fedbar.org
SUMMARY:Mississippi Chapter: July 2024 CLE Luncheon
DESCRIPTION:Register today! Please join us for this in-person CLE opportunity featuring the Judges for the United States Bankruptcy Courts for the Southern and Northern Districts of Mississippi. \n  \nThe buffet line opens at 11:30 a.m.\, and the program begins at noon.\n\nPlease pre-register so that we can relay the anticipated attendance to the Capital Club.\n\nThe cost of the meal is $25 for FBA members\, $30 for non-members\, and no cost to Federal Judges.  Attendees may pay in advance via PayPal or at the door by cash or check.  Checks can be made payable to Federal Bar Association\, MS Chapter.\n\n\nRefunds are available if sought by 8 a.m. the day before the event.  Contact Jennifer Case (jennifer.l.case@usdoj.gov) for assistance with refunds.
URL:https://www.fedbar.org/event/mississippi-chapter-july-2024-cle-luncheon/
LOCATION:Capital Club Jackson\, 125 S Congress St\, Jackson\, MS\, 39201\, United States
CATEGORIES:In Person Chapter CLE,Mississippi Chapter
ORGANIZER;CN="Candace Gregory":MAILTO:candace.gregory@phelps.com
GEO:32.2988372;-90.1833772
X-APPLE-STRUCTURED-LOCATION;VALUE=URI;X-ADDRESS=Capital Club Jackson 125 S Congress St Jackson MS 39201 United States;X-APPLE-RADIUS=500;X-TITLE=125 S Congress St:geo:-90.1833772,32.2988372
END:VEVENT
BEGIN:VEVENT
DTSTART;TZID=America/New_York:20240620T110000
DTEND;TZID=America/New_York:20240620T130000
DTSTAMP:20260423T063112
CREATED:20240425T175529Z
LAST-MODIFIED:20240425T175746Z
UID:489940-1718881200-1718888400@www.fedbar.org
SUMMARY:Mississippi Chapter: June 2024 CLE Luncheon (Gulfport)
DESCRIPTION:Thursday\, June 20\, 2024 | 11:00 a.m. – 1:00 p.m. \nGreat Southern Club\, 2510 14th St.\, Gulfport\, MS 39501\n\n\nPlease join us for this in-person CLE opportunity featuring the Honorable Sul Ozerden\, the Honorable Taylor McNeel\, the Honorable Louis Guirola\, Jr.\, the Honorable Robert Myers\, and the Honorable Bradley W. Rath of the United States District Court for the Southern District of Mississippi.\n\nThe first hour of the event will feature a presentation from the Federal District Judges.  The second hour will include a presentation from the Federal Magistrate Judges.  Participants will enjoy a break to visit the buffet between presentations.  The Mississippi Bar will offer two hours of CLE credit to attendees. \n\n\nPlease pre-register to secure your attendance\, as seating capacity is limited to 70 attendees.\n\nThe cost of attendance is $50 for FBA members\, $60 for non-members\, and no cost to Federal Judges.  Attendees may pay in advance via PayPal or at the door by cash or check.  Checks can be made payable to Federal Bar Association\, MS Chapter.\n\nRefunds are available if sought by June 13\, 2024\, one week before the event.  Contact Jennifer Case (jennifer.l.case@usdoj.gov) for assistance with refunds.
URL:https://www.fedbar.org/event/mississippi-chapter-june-2024-cle-luncheon-gulfport/
LOCATION:Great Southern Club in Gulfport\, MS\, 2510 14th Street\, Gulfport\, MS\, 39501\, United States
CATEGORIES:CLE Chapter Presented,In Person Chapter CLE,Mississippi Chapter
ORGANIZER;CN="Candace Gregory":MAILTO:candace.gregory@phelps.com
GEO:30.3686166;-89.0936668
X-APPLE-STRUCTURED-LOCATION;VALUE=URI;X-ADDRESS=Great Southern Club in Gulfport MS 2510 14th Street Gulfport MS 39501 United States;X-APPLE-RADIUS=500;X-TITLE=2510 14th Street:geo:-89.0936668,30.3686166
END:VEVENT
BEGIN:VEVENT
DTSTART;TZID=America/New_York:20240516T113000
DTEND;TZID=America/New_York:20240516T130000
DTSTAMP:20260423T063112
CREATED:20240415T131100Z
LAST-MODIFIED:20240415T135655Z
UID:485177-1715859000-1715864400@www.fedbar.org
SUMMARY:Mississippi Chapter: May 2024 CLE Luncheon
DESCRIPTION:Register Today!  Please join us for this in-person CLE opportunity featuring the Honorable Debra M. Brown\, Chief Judge of the United States District Court for the Northern District of Mississippi. \nThe buffet line opens at 11:30 a.m.\, and the program begins at noon. \nPlease pre-register so that we can relay the anticipated attendance to the Capital Club.\n\nThe cost of the meal is $25 for FBA members\, $30 for non-members\, and no cost to Federal Judges.  Attendees may pay in advance via PayPal or at the door by cash or check.  Checks can be made payable to Federal Bar Association\, MS Chapter.
URL:https://www.fedbar.org/event/mississippi-chapter-may-2024-cle-luncheon/
LOCATION:Capital Club Jackson\, 125 S Congress St\, Jackson\, MS\, 39201\, United States
CATEGORIES:In Person Chapter CLE,Mississippi Chapter
ORGANIZER;CN="Candace Gregory":MAILTO:candace.gregory@phelps.com
GEO:32.2988372;-90.1833772
X-APPLE-STRUCTURED-LOCATION;VALUE=URI;X-ADDRESS=Capital Club Jackson 125 S Congress St Jackson MS 39201 United States;X-APPLE-RADIUS=500;X-TITLE=125 S Congress St:geo:-90.1833772,32.2988372
END:VEVENT
BEGIN:VEVENT
DTSTART;TZID=America/Chicago:20230516T113000
DTEND;TZID=America/Chicago:20230516T133000
DTSTAMP:20260423T063112
CREATED:20230503T142612Z
LAST-MODIFIED:20230503T142734Z
UID:351307-1684236600-1684243800@www.fedbar.org
SUMMARY:Mississippi Chapter: May CLE Luncheon
DESCRIPTION:Register today! Please join us for this in-person CLE opportunity featuring the Honorable Carlton Reeves\, District Judge for the United States District Court for the Southern District of Mississippi\, who will present on his role as Chair of the U.S. Sentencing Commission. \nThe buffet line opens at 11:30 a.m.\, and the program begins at noon.  \nPlease pre-register so that we can relay the anticipated attendance to the Capital Club. \nRegistration\nDeadline to register is May 16\, 2023\nAttendees may pay in advance via PayPal or at the door by cash or check. Checks can be made payable to Federal Bar Association\, MS Chapter. Regardless of payment method\, all attendees are encouraged to RSVP: Register Here! \nRegistration Fee: \n\n$25 FBA Member\n$30 Non Member\nFree – Judge\n\nCLE\nCLE: 1.0 CLE Credit Anticipated \nIf you have any questions regarding this program\, please contact Candace Gregory at candace.gregory@phelps.com.
URL:https://www.fedbar.org/event/mississippi-chapter-may-cle-luncheon/
LOCATION:Capital Club\, 125 S. Congress Street\, Jackson\, MS\, 39201\, United States
CATEGORIES:Mississippi Chapter
ORGANIZER;CN="Candace Gregory":MAILTO:candace.gregory@phelps.com
GEO:32.2988372;-90.1833772
X-APPLE-STRUCTURED-LOCATION;VALUE=URI;X-ADDRESS=Capital Club 125 S. Congress Street Jackson MS 39201 United States;X-APPLE-RADIUS=500;X-TITLE=125 S. Congress Street:geo:-90.1833772,32.2988372
END:VEVENT
BEGIN:VEVENT
DTSTART;TZID=America/Chicago:20221115T110000
DTEND;TZID=America/Chicago:20221115T130000
DTSTAMP:20260423T063112
CREATED:20221109T192630Z
LAST-MODIFIED:20221109T201308Z
UID:298386-1668510000-1668517200@www.fedbar.org
SUMMARY:Mississippi Chapter: November CLE Luncheon
DESCRIPTION:Register today! The Mississippi Chapter of the Federal Bar Association is excited to announce that it is hosting a CLE luncheon on Tuesday\, November 15\, 2022 at the Capital Club in downtown Jackson\, Mississippi. This in-person CLE luncheon will feature United States Bankruptcy Judge Jamie Wilson\, Southern District of Mississippi and United States Bankruptcy Judge Selene Maddox\, Northern District of Mississippi. \nAgenda\n\n11:30 a.m. –  Lunch Buffet\n12:00 p.m. – Program Start\n\nSpeakers\nUnited States Bankruptcy Judge Jamie Wilson\, Southern District of Mississippi\nUnited States Bankruptcy Judge Selene Maddox\, Northern District of Mississippi \nRegistration\nSign Up Online\nRSVP: https://forms.gle/AgcquCpqhtK5jYww6\nAttendees may pay in advance via PayPal or at the door by cash or check. \n\n\n\nRegistration Fee \n\nComplimentary – Judges\n$25 FBA Member\n$30 Non-Member\n\nCLE\n1.0 CLE (anticipated) by Mississippi Chapter. \nAdditionally\, we encourage you to renew your membership in the Federal Bar Association or to join if you are not a member. Your membership directly supports the activities of our chapter\, and we appreciate your support! In addition to listing membership in the Federal Bar Association on your professional resume or website\, you will be a part of the only organization that focuses on federal practice and will receive access to valuable resources for federal practice\, including “The Federal Lawyer” Magazine\, exclusive CLE opportunities\, and more. Our organization provides support to the federal judiciary in Mississippi and promotes the opportunity to hear directly from federal judges and to network with other federal practitioners. \nTo join FBA click here \nIf you have any questions regarding this program\, please contact Candace Gregory at Candace.Gregory@ago.ms.gov. \n 
URL:https://www.fedbar.org/event/mississippi-chapter-november-cle-luncheon/
LOCATION:Capital Club\, 125 S. Congress Street\, Jackson\, MS\, 39201\, United States
CATEGORIES:Mississippi Chapter
ORGANIZER;CN="Candace Gregory":MAILTO:candace.gregory@phelps.com
GEO:32.2988372;-90.1833772
X-APPLE-STRUCTURED-LOCATION;VALUE=URI;X-ADDRESS=Capital Club 125 S. Congress Street Jackson MS 39201 United States;X-APPLE-RADIUS=500;X-TITLE=125 S. Congress Street:geo:-90.1833772,32.2988372
END:VEVENT
END:VCALENDAR