BEGIN:VCALENDAR
VERSION:2.0
PRODID:-//Federal Bar Association - ECPv6.15.15//NONSGML v1.0//EN
CALSCALE:GREGORIAN
METHOD:PUBLISH
X-WR-CALNAME:Federal Bar Association
X-ORIGINAL-URL:https://www.fedbar.org
X-WR-CALDESC:Events for Federal Bar Association
REFRESH-INTERVAL;VALUE=DURATION:PT1H
X-Robots-Tag:noindex
X-PUBLISHED-TTL:PT1H
BEGIN:VTIMEZONE
TZID:America/Chicago
BEGIN:DAYLIGHT
TZOFFSETFROM:-0600
TZOFFSETTO:-0500
TZNAME:CDT
DTSTART:20210314T080000
END:DAYLIGHT
BEGIN:STANDARD
TZOFFSETFROM:-0500
TZOFFSETTO:-0600
TZNAME:CST
DTSTART:20211107T070000
END:STANDARD
BEGIN:DAYLIGHT
TZOFFSETFROM:-0600
TZOFFSETTO:-0500
TZNAME:CDT
DTSTART:20220313T080000
END:DAYLIGHT
BEGIN:STANDARD
TZOFFSETFROM:-0500
TZOFFSETTO:-0600
TZNAME:CST
DTSTART:20221106T070000
END:STANDARD
BEGIN:DAYLIGHT
TZOFFSETFROM:-0600
TZOFFSETTO:-0500
TZNAME:CDT
DTSTART:20230312T080000
END:DAYLIGHT
BEGIN:STANDARD
TZOFFSETFROM:-0500
TZOFFSETTO:-0600
TZNAME:CST
DTSTART:20231105T070000
END:STANDARD
BEGIN:DAYLIGHT
TZOFFSETFROM:-0600
TZOFFSETTO:-0500
TZNAME:CDT
DTSTART:20240310T080000
END:DAYLIGHT
BEGIN:STANDARD
TZOFFSETFROM:-0500
TZOFFSETTO:-0600
TZNAME:CST
DTSTART:20241103T070000
END:STANDARD
END:VTIMEZONE
BEGIN:VEVENT
DTSTART;TZID=America/Chicago:20230620T113000
DTEND;TZID=America/Chicago:20230620T130000
DTSTAMP:20260422T222354
CREATED:20230601T143251Z
LAST-MODIFIED:20230601T193610Z
UID:361727-1687260600-1687266000@www.fedbar.org
SUMMARY:Mississippi Chapter: June CLE Luncheon
DESCRIPTION:Please join us for this in-person CLE opportunity featuring the magistrate judges from the Northern District of Mississippi: the Honorable David Sanders\, Jane Virden\, and Roy Percy. \nThe buffet line opens at 11:30 a.m.\, and the program begins at noon. \nPlease pre-register so that we can relay the anticipated attendance to the Capital Club. \nSpeakers\nMagistrate judges from the Northern District of Mississippi: the Honorable David Sanders\, Jane Virden\, and Roy Percy. \nRegistration\nDeadline to register is June 20\, 2023 \nAttendees may pay in advance via PayPal or at the door by cash or check. Checks can be made payable to Federal Bar Association\, MS Chapter. Regardless of payment method\, all attendees are encouraged to RSVP.\nRSVP HERE! \nRegistration Fee: \n\n$25.00 – FBA Member\n$30 – Non Member\nJudge – Free\n\nCLE\n1.0 CLE is Anticipated for this event. \nIf you have any questions regarding this program\, please contact Candace Gregory at Candace.Gregory@phelps.com.
URL:https://www.fedbar.org/event/mississippi-chapter-june-cle-luncheon/
LOCATION:Capital Club\, 125 S. Congress Street\, Jackson\, MS\, 39201\, United States
CATEGORIES:Mississippi Chapter
ORGANIZER;CN="Candace Gregory":MAILTO:candace.gregory@phelps.com
GEO:32.2988372;-90.1833772
X-APPLE-STRUCTURED-LOCATION;VALUE=URI;X-ADDRESS=Capital Club 125 S. Congress Street Jackson MS 39201 United States;X-APPLE-RADIUS=500;X-TITLE=125 S. Congress Street:geo:-90.1833772,32.2988372
END:VEVENT
BEGIN:VEVENT
DTSTART;TZID=America/Chicago:20230131T113000
DTEND;TZID=America/Chicago:20230131T133000
DTSTAMP:20260422T222354
CREATED:20230119T205945Z
LAST-MODIFIED:20230119T210814Z
UID:312862-1675164600-1675171800@www.fedbar.org
SUMMARY:Mississippi Chapter: January CLE Luncheon
DESCRIPTION:Register today! The Mississippi Chapter of the Federal Bar Association is hosting a CLE luncheon on Tuesday\, January 31\, 2022 at the Capital Club in downtown Jackson\, Mississippi. This in-person CLE luncheon will feature Judge Daniel P. Jordan III\, Chief Judge of the United States District Court for the Southern District of Mississippi\, who will offer an update on current issues and happenings affecting the Southern District. Voting will also be held for the 2023 proposed slate of officers. \nThe buffet line will open at 11:30 a.m.\, and the program will begin at noon. \nSpeaker\nChief Judge Daniel P. Jordan III was nominated to the United States District Court for the Southern District of Mississippi by President George W. Bush on April 24\, 2006. He has served as chief judge since 2017. Chief Judge Jordan is a faithful supporter of the Federal Bar Association and has spoken at many Mississippi Chapter events. We are very glad to welcome him for our January CLE Luncheon! \nRegistration\nDeadline to register is January 31\, 2023\nAttendees may pay in advance via PayPal or at the door by cash or check. Regardless of payment method\, all attendees are encouraged to RSVP via the following link: [Register Online] \nRegistration Fees: \n\n$25 FBA Member\n$30 Non-Member\nNo cost to Judge\n\nCLE\n1.0 \nIf you have questions regarding this program\, please contact Candace Gregory at candace.gregory@phelps.com.
URL:https://www.fedbar.org/event/mississippi-chapter-january-cle-luncheon/
LOCATION:Capital Club\, 125 S. Congress Street\, Jackson\, MS\, 39201\, United States
CATEGORIES:Mississippi Chapter
ORGANIZER;CN="Candace Gregory":MAILTO:candace.gregory@phelps.com
GEO:32.2988372;-90.1833772
X-APPLE-STRUCTURED-LOCATION;VALUE=URI;X-ADDRESS=Capital Club 125 S. Congress Street Jackson MS 39201 United States;X-APPLE-RADIUS=500;X-TITLE=125 S. Congress Street:geo:-90.1833772,32.2988372
END:VEVENT
BEGIN:VEVENT
DTSTART;TZID=America/Chicago:20221202T113000
DTEND;TZID=America/Chicago:20221202T130000
DTSTAMP:20260422T222354
CREATED:20221129T131937Z
LAST-MODIFIED:20221129T131937Z
UID:304024-1669980600-1669986000@www.fedbar.org
SUMMARY:Mississippi Chapter: Discussion with Judge Bradley Rath\, United States Magistrate Judge for the Southern District of Mississippi
DESCRIPTION:The Mississippi Chapter of the Federal Bar Association is excited to announce that it is once again co-hosting a CLE luncheon with the Harrison County Bar Association on Friday\, December 2\, 2022 at the Great Southern Club in Gulfport\, Mississippi. This in-person CLE luncheon will feature Judge Bradley Rath\, United States Magistrate Judge for the Southern District of Mississippi. \nJudge Rath was appointed to serve as Magistrate Judge on August 1\, 2022\, to a seat previously held by the late Judge John C. Gargiulo. A native of the Mississippi Gulf Coast\, Judge Rath was graduated from the University of Mississippi in 2000\, and entered private practice\, where he worked primarily as a solo attorney representing individuals and small businesses. Judge Rath also served as a municipal judge for five South Mississippi cities from 2008 until his appointment to the federal bench. \nRegister\nThe buffet line will open at 11:30 a.m.\, and the program will begin at noon. \n\nNo cost to Judges\n$25 – FBA Member\n$30 – Non-Member\n\nAttendees may pay in advance via PayPal or at the door by cash or check. Regardless of payment method\, all attendees are encouraged to RSVP. \n\nRegister online\nDeadline to register is December 2\, 2022 \nCLE\n1.0 CLE. \nIf you have questions regarding this program\, please contact Candace Gregory at Candace.Gregory@ago.ms.gov. \n 
URL:https://www.fedbar.org/event/mississippi-chapter-discussion-with-judge-bradley-rath-united-states-magistrate-judge-for-the-southern-district-of-mississippi/
LOCATION:Great Southern Club in Gulfport\, MS\, 2510 14th Street\, Gulfport\, MS\, 39501\, United States
CATEGORIES:Mississippi Chapter
ORGANIZER;CN="Candace Gregory":MAILTO:candace.gregory@phelps.com
GEO:30.3686166;-89.0936668
X-APPLE-STRUCTURED-LOCATION;VALUE=URI;X-ADDRESS=Great Southern Club in Gulfport MS 2510 14th Street Gulfport MS 39501 United States;X-APPLE-RADIUS=500;X-TITLE=2510 14th Street:geo:-89.0936668,30.3686166
END:VEVENT
END:VCALENDAR