BEGIN:VCALENDAR
VERSION:2.0
PRODID:-//Federal Bar Association - ECPv6.15.15//NONSGML v1.0//EN
CALSCALE:GREGORIAN
METHOD:PUBLISH
X-WR-CALNAME:Federal Bar Association
X-ORIGINAL-URL:https://www.fedbar.org
X-WR-CALDESC:Events for Federal Bar Association
REFRESH-INTERVAL;VALUE=DURATION:PT1H
X-Robots-Tag:noindex
X-PUBLISHED-TTL:PT1H
BEGIN:VTIMEZONE
TZID:America/Chicago
BEGIN:DAYLIGHT
TZOFFSETFROM:-0600
TZOFFSETTO:-0500
TZNAME:CDT
DTSTART:20230312T080000
END:DAYLIGHT
BEGIN:STANDARD
TZOFFSETFROM:-0500
TZOFFSETTO:-0600
TZNAME:CST
DTSTART:20231105T070000
END:STANDARD
BEGIN:DAYLIGHT
TZOFFSETFROM:-0600
TZOFFSETTO:-0500
TZNAME:CDT
DTSTART:20240310T080000
END:DAYLIGHT
BEGIN:STANDARD
TZOFFSETFROM:-0500
TZOFFSETTO:-0600
TZNAME:CST
DTSTART:20241103T070000
END:STANDARD
BEGIN:DAYLIGHT
TZOFFSETFROM:-0600
TZOFFSETTO:-0500
TZNAME:CDT
DTSTART:20250309T080000
END:DAYLIGHT
BEGIN:STANDARD
TZOFFSETFROM:-0500
TZOFFSETTO:-0600
TZNAME:CST
DTSTART:20251102T070000
END:STANDARD
END:VTIMEZONE
BEGIN:VEVENT
DTSTART;TZID=America/Chicago:20241003T173000
DTEND;TZID=America/Chicago:20241003T200000
DTSTAMP:20260423T065200
CREATED:20240909T154007Z
LAST-MODIFIED:20240909T154007Z
UID:547443-1727976600-1727985600@www.fedbar.org
SUMMARY:17th Annual Holloway Lecture
DESCRIPTION:You’re cordially invited to an unforgettable evening with the Oklahoma City chapter of the Federal Bar Association on Thursday\, October 3\, at 5:30 p.m. at the Meinders Hall of Mirrors. \nJoin us for the 17th Annual Holloway Lecture\, where intellectual engagement meets camaraderie in a one-of-a-kind event. \nOur distinguished guest\, Professor Eugene Volokh\, will lead a thought-provoking discussion on today’s most critical legal challenges. Take advantage of this rare chance to delve into the intricacies of the law with one of the field’s most esteemed voices. \nThe evening kicks off with a lively reception where you can connect with fellow legal professionals\, followed by a dinner where conversation can continue. This is your opportunity to network with some of the most respected figures in the legal community. \nAfterward\, immerse yourself in an engaging lecture with Professor Volokh\, offering insights that promise to enrich your understanding and practice of law. \nDon’t miss this exceptional opportunity to expand your legal horizons and build lasting connections. We look forward to welcoming you for an evening of enrichment\, dialogue\, and discovery.
URL:https://www.fedbar.org/event/17th-annual-holloway-lecture/
ATTACH;FMTTYPE=image/jpeg:https://www.fedbar.org/wp-content/uploads/2024/09/Holloway-Lecture-2024-2.jpg
END:VEVENT
END:VCALENDAR