BEGIN:VCALENDAR
VERSION:2.0
PRODID:-//Federal Bar Association - ECPv6.15.15//NONSGML v1.0//EN
CALSCALE:GREGORIAN
METHOD:PUBLISH
X-ORIGINAL-URL:https://www.fedbar.org
X-WR-CALDESC:Events for Federal Bar Association
REFRESH-INTERVAL;VALUE=DURATION:PT1H
X-Robots-Tag:noindex
X-PUBLISHED-TTL:PT1H
BEGIN:VTIMEZONE
TZID:America/New_York
BEGIN:DAYLIGHT
TZOFFSETFROM:-0500
TZOFFSETTO:-0400
TZNAME:EDT
DTSTART:20230312T070000
END:DAYLIGHT
BEGIN:STANDARD
TZOFFSETFROM:-0400
TZOFFSETTO:-0500
TZNAME:EST
DTSTART:20231105T060000
END:STANDARD
BEGIN:DAYLIGHT
TZOFFSETFROM:-0500
TZOFFSETTO:-0400
TZNAME:EDT
DTSTART:20240310T070000
END:DAYLIGHT
BEGIN:STANDARD
TZOFFSETFROM:-0400
TZOFFSETTO:-0500
TZNAME:EST
DTSTART:20241103T060000
END:STANDARD
BEGIN:DAYLIGHT
TZOFFSETFROM:-0500
TZOFFSETTO:-0400
TZNAME:EDT
DTSTART:20250309T070000
END:DAYLIGHT
BEGIN:STANDARD
TZOFFSETFROM:-0400
TZOFFSETTO:-0500
TZNAME:EST
DTSTART:20251102T060000
END:STANDARD
END:VTIMEZONE
BEGIN:VEVENT
DTSTART;TZID=America/New_York:20240717T140000
DTEND;TZID=America/New_York:20240717T140000
DTSTAMP:20260423T062532
CREATED:20240613T194435Z
LAST-MODIFIED:20240712T171118Z
UID:507519-1721224800-1721224800@www.fedbar.org
SUMMARY:60 Years of the Civil Rights Act
DESCRIPTION:This panel of civil rights experts will discuss the 60 years of history\, influence\, and impact of the Civil Rights Act of 1964. Join us as we celebrate this monumental anniversary with the insights of legal minds who have been a party to its story along the way! \n2:00 pm – 3:00 pm (Q&A from 3:00-3:15 p.m.-not considered for CLE).  Please note: The CLE is 60 minutes\, with additional time allowed for Q&A of the panelists.\nPresented by the Professional Development Committee in partnership with the Civil Rights Section\, and the Diversity & Inclusion Committee. \n\n\nRegister Now!\nFor questions regarding this program\, please contact MyLaw CLE by email: registration@mylawcle.com or phone: 877-406-8636. \n\nAbout the Presenters\n \nThe Honorable Nancy G. Abudu\, Judge\, U.S. Court of Appeals for the Eleventh Circuit \nNancy G. Abudu was confirmed as a Circuit Judge for the U.S. Court of Appeals for the Eleventh Circuit in May 2023. She is based in Atlanta\, Georgia. \nPrior to her appointment\, Abudu was a lawyer with the Southern Poverty Law Center (SPLC) where she served as the organization’s first-ever Deputy Legal Director for Voting Rights\, and then SPLC’s first Director of Strategic Litigation. Her responsibilities included overseeing all the organization’s legal programmatic work which\, in addition to voting rights\, included immigrants’ rights\, criminal justice reform\, children’s rights\, LGBTQ rights\, and special litigation related to hate groups. \nAbudu also spent almost 14 years with the American Civil Liberties Union\, first as a voting rights attorney with the national office and then as the legal director for the Florida affiliate. Her experience also includes being an associate with Skadden\, Arps\, Slate\, Meagher & Flom LLP in the firm’s New York office and working in the Eleventh Circuit’s staff attorney office early on in her career. \nHer civic activities have included serving on the Standing Committee on Election Law for the American Bar Association\, the ABA’s Taskforce on Building Public Trust in the American Justice System\, and the Advisory Committee for the National Voting Rights Institute\, as well as co- chairing the Georgia Association of Black Women Attorneys’ political participation committee and serving on the board of the Georgia Citizen’s Coalition on Hunger. \n \n\n\nDr. Clayborne Carson\, Professor of History\, emeritus\, Stanford University \nClayborne Carson\, Ph.D. is Martin Luther King\, Jr. Centennial Professor Emeritus and Senior Fellow\, Stanford’s Center on Democracy\, Development and the Rule of Law of the Freeman Spogli Institute for International Studies\, Stanford University. \nDr. Carson has devoted most of his professional life to the study of Martin Luther King\, Jr. and the movements King inspired. Since receiving his doctorate from UCLA in 1975\, Dr. Carson has taught at Stanford University\, where he has served as Martin Luther King\, Jr.\, Centennial Professor of History (now Emeritus). He has devoted his professional life to the study of Martin Luther King\, Jr.\, and the human rights movements inspired by King\, Mohandas K. Gandhi\, and other visionaries. \nHis award-winning first book\, In Struggle: SNCC and the Black Awakening of the 1960s\, was published in 1981 and remains the definitive study of the courageous activists and organizers who challenged the strongholds of segregation. In 1985\, Mrs. Coretta Scott King chose Dr. Carson to edit and publish a definitive\, multi-volume edition of her late husband’s speeches\, sermons\, correspondence\, publications\, and unpublished writings. \nIn addition to publishing numerous other books and scholarly articles\, Carson has also reached broader audiences as a senior advisor to the Eyes on the Prize series and his contributions to more than two dozen subsequent documentaries. After launching the online Liberation Curriculum for K-12 students\, Carson founded Stanford’s Martin Luther King\, Jr.\, Research and Education Institute in 2005 to disseminate King-related educational resources to a global audience. \nAfter retiring as the King Institute’s Director\, Carson has continued his online educational efforts by establishing The World House Project to collaborate with other human rights advocates to realize King’s vision of a global community in which all people can “learn somehow to live with each other in peace.” \n  \n \n\n\nSenator Doug Jones\, Counsel\, ArentFox Schiff\n \nIn 2017\, Doug Jones shocked the political establishment by winning a special election to fill a U.S. Senate seat in Alabama – the first Democrat to do so in the state in 25 years. As a member of the Banking and Housing Committee\, the Health\, Education\, Labor\, and Pensions (HELP) Committee\, the Armed Services Committee\, the Homeland Security and Governmental Affairs Committee\, and the Committee on Aging\, he quickly built a reputation as a well-regarded and effective legislator. He passed more than two dozen bipartisan bills into law in just three years\, including legislation to end the military widow’s tax\, provide permanent funding for historically black colleges and universities (HBCUs)\, shed light on Civil Rights-era cold cases\, and expand access to broadband in rural communities. He was also one of the principal architects of the anti-money laundering legislation passed by Congress as part of the National Defense Authorization Act of 2020. \nSenator Jones began his career in 1979 as staff counsel to the U.S. Senate Judiciary Committee for Senator Howell Heflin (D-AL). Following his stint in Washington\, Senator Jones served as an Assistant United States Attorney from 1980-1984. He left government service in 1984 and was in the private practice of law in Birmingham\, Alabama\, until President Bill Clinton nominated him to the position of United States Attorney for the Northern District of Alabama. His nomination was confirmed by the Senate in November 1997 and he served as U.S. Attorney until June 2001. It was while serving in that position that Senator Jones successfully prosecuted two of the four men responsible for the 1963 bombing of the 16th Street Baptist Church that killed four young girls\, finally bringing full justice and closure nearly 40 years after the attack. Along with taking on the Ku Klux Klan\, he indicted domestic terrorist Eric Rudolph and prosecuted other criminals who sought to use fear\, hatred\, and violence to inhibit the rights of others. \nJones continued his push for civil rights while in the Senate.  He was the principal author of the Civil Rights Cold Case Commission Act which was signed into law and now fully operational.  He was also a co-sponsor of the John R. Lewis Voting Rights Advancement Act\, the Equality Act\, the Fair Pay Act and the George Floyd Justice in Policing Act.  Harkening back to the civil rights history in Birmingham\, Senator Jones started the annual tradition of having a bipartisan group of Senators read Dr. King’s “Letter from a Birmingham Jail” on floor of the United States Senate.  He has received numerous awards and honors for his work on civil rights. \nBetween his time as U.S. Attorney and his election to the Senate\, Senator Jones was in the private practice of law\, handling white collar\, False Claims Act\, and security fraud class actions. He has represented multinational corporations\, small businesses\, and individuals in high-stakes civil and criminal litigation. \nSenator Jones is admitted to\, and practices law in\, Alabama. His office address is 2130 Highland Ave.\, 3rd Floor\, Birmingham\, AL 35205. \n\n\nAbout the Moderator\n\n\n \n\nDon Quinn\, Managing Partner\, Quinn Patton \nDon is a graduate of Harvard University\, the University of Missouri\, and Washington State University. He has 20 years of business leadership experience\, is a combat veteran and 32nd Degree Mason. His favorite part of being a lawyer is going to trial and representing clients in cases against some of the most prominent organizations in the world. \n  \n\n\nRegister Here!\n\nLive Broadcast | FBA Member: $0\nLive Broadcast | Nonmember: $95\nOn-Demand Broadcast | FBA Member: $50\nOn-Demand Broadcast | Nonmember: $95\n\nFor questions regarding this program\, please contact MyLaw CLE by email: registration@mylawcle.com or phone: 877-406-8636.\n\n\n\n\n\n\n\n\n\n\n\n\n\n\n\n\n\n\n\n\n\n\n\n\nCLE\nPlease note: CLE for this webinar has not been pre-approved.\nMyLaw and the FBA will seek 1.0 General CLE credit hours in 60-minute states\, and 1.25 General CLE credit hours in 50-minute states. \nPosted credit hours are estimated and subject to respective state approval and rounding rules. CLE qualifications vary by state/jurisdiction. \nFor questions regarding this program\, please contact MyLaw CLE by email: registration@mylawcle.com or phone: 877-406-8636.\n\n\n\n\n\n\n\n\nEmail Communication Policy\nBy registering for this event\, you agree to receive email communication from the Federal Bar Association and affiliated sponsors of the program concerning event details\, Continuing Legal Education certification\, programming changes\, upcoming events\, surveys\, and post-event communications. \nRecording Disclaimer\nBy registering for an online FBA program\, you agree to the recording of audio and visual content presented during the live event and consent to subsequent use of the recording by the FBA. You agree that the recording is the sole property of the FBA and that the recording may be used by the FBA in any manner in its sole and absolute discretion. This recording may include questions and poll responses provided by you during the live event. If you do not consent to the recording and the FBA’s use of the same\, do not register for the event. \n\n\n\n\n Add to calendar
URL:https://www.fedbar.org/event/60-years-of-the-civil-rights-act/
END:VEVENT
BEGIN:VEVENT
DTSTART;TZID=America/New_York:20240717T140000
DTEND;TZID=America/New_York:20240717T150000
DTSTAMP:20260423T062532
CREATED:20240709T162953Z
LAST-MODIFIED:20240717T132457Z
UID:523507-1721224800-1721228400@www.fedbar.org
SUMMARY:2024 Summer Law Clerk Program: Careers in the Federal Election Commission Webinar
DESCRIPTION:This Federal Election Commission roundtable will feature attorneys from the four divisions of the Office of General Counsel. These attorneys will explain what their departments are responsible for\, what they are currently working on\, and provide some background about how they came to work for the Commission. \n  \nPresented by the Younger Lawyers Division \nRegistration is Closed \n\nSpeakers\n\nJustine di Giovanni\nLisa Gomes\nSteve Hajjar\nJoanna Waldstreicher\nShaina Ward\n\n\nRegistration\nRegistration is Closed \nRegistration Fees \n\nComplimentary for FBA Members & Non-Members\n\n\n\n\n\n\n\n\n\nLive Captioning: Closed captioning is available for all virtual webcasts. \n\n\nInternet Requirements: Virtual programs require suitable internet strength to stream online panels. A minimum internet connection of 800 Kbps is recommended for an optimal attendee experience. Test your connection here.  \n\n\n\n\n\n\n\n\n\n\n\n\n\n\n\n\nCLE\nPlease note CLE will not be offered for this event.  \n\n\n\n\n\n\n\n\nFrequently Asked Questions\nQ: How do I access the virtual webinar?\nA: Each webinar will have a unique link to watch the live broadcast. Registered attendees will receive login instructions via a calendar invitations 24 hours prior to the webinar. \nQ: Will recordings of the sessions be available after the event?\nA: Approved sessions will be available for registrants to view live and on-demand following the webinar. \nQ: Who do I contact for more information?\nA: Please contact sections@fedbar.org for any other questions. \n\nEmail Communication Policy\nBy registering for this event\, you agree to receive email communication from the Federal Bar Association and affiliated sponsors of the program concerning event details\, Continuing Legal Education certification\, programming changes\, upcoming events\, surveys\, and post-event communications. \nRecording Disclaimer\nBy registering for an online FBA program\, you agree to the recording of audio and visual content presented during the live event and consent to subsequent use of the recording by the FBA. You agree that the recording is the sole property of the FBA and that the recording may be used by the FBA in any manner in its sole and absolute discretion. This recording may include questions and poll responses provided by you during the live event. If you do not consent to the recording and the FBA’s use of the same\, do not register for the event. \nIf you have any questions regarding this program\, please contact Daniel Hamilton\, Program Coordinator\, at sections@fedbar.org
URL:https://www.fedbar.org/event/2024-summer-law-clerk-program-careers-in-the-federal-election-comission-webinar/
END:VEVENT
BEGIN:VEVENT
DTSTART;TZID=America/New_York:20240717T160000
DTEND;TZID=America/New_York:20240717T173000
DTSTAMP:20260423T062532
CREATED:20240705T203811Z
LAST-MODIFIED:20240716T185041Z
UID:522064-1721232000-1721237400@www.fedbar.org
SUMMARY:Qui Tam Section: The False Claims Act: A Practitioner's Perspective
DESCRIPTION:This program is designed for law students\, law clerks\, and newer lawyers to share an insider’s view on the practice of civil enforcement law in the False Claims Act and other whistleblower statutes with perspectives from the bench\, the government\, the whistleblower counsel\, and defense counsel.\nThe event will be held at the Holland & Knight Miami Offices 701 Brickell Ave.\, Suite 3300\, Miami\, FL 33131\n[Register Here]\nSpeakers: \nThe Bench: The Hon. Ryon McCabe\nMagistrate Judge\nU.S. District Court for the Southern District of Florida \nThe Government: AUSA Matthew Feeley\nDeputy Chief for Health Care Fraud & Affirmative Civil Enforcement\nU.S. Attorney’s Office\, Southern District of Florida \nAUSA Clarissa Pinheiro\nAssistant United States Attorney\nU.S. Attorney’s Office\, Southern District of Florida \nThe Whistleblower: Pamela Coyle Brecht\nAdvisory Board Member\, Federal Bar Association Qui Tam Section\nPietragallo Gordon Alfano Bosick & Raspanti\, LLP \n \nThe Defense: Megan Mocho\nChair\, Federal Bar Association Qui Tam Section\nCo-Chair\, White Collar and Investigations\, Holland & Knight LLP \n \nModerated by: Rachel V. Rose\nNational Board of Directors\, Federal Bar Association\nRachel V. Rose – Attorney at Law\, PLLC \n \nQuestions may be directed to Megan Mocho @ megan.mocho@hklaw.com.
URL:https://www.fedbar.org/event/qui-tam-section-the-false-claims-act-a-practitioners-perspective/
CATEGORIES:Qui Tam Section
END:VEVENT
BEGIN:VEVENT
DTSTART;TZID=America/New_York:20240718T113000
DTEND;TZID=America/New_York:20240718T130000
DTSTAMP:20260423T062532
CREATED:20240703T201502Z
LAST-MODIFIED:20240703T201502Z
UID:520509-1721302200-1721307600@www.fedbar.org
SUMMARY:Mississippi Chapter: July 2024 CLE Luncheon
DESCRIPTION:Register today! Please join us for this in-person CLE opportunity featuring the Judges for the United States Bankruptcy Courts for the Southern and Northern Districts of Mississippi. \n  \nThe buffet line opens at 11:30 a.m.\, and the program begins at noon.\n\nPlease pre-register so that we can relay the anticipated attendance to the Capital Club.\n\nThe cost of the meal is $25 for FBA members\, $30 for non-members\, and no cost to Federal Judges.  Attendees may pay in advance via PayPal or at the door by cash or check.  Checks can be made payable to Federal Bar Association\, MS Chapter.\n\n\nRefunds are available if sought by 8 a.m. the day before the event.  Contact Jennifer Case (jennifer.l.case@usdoj.gov) for assistance with refunds.
URL:https://www.fedbar.org/event/mississippi-chapter-july-2024-cle-luncheon/
LOCATION:Capital Club Jackson\, 125 S Congress St\, Jackson\, MS\, 39201\, United States
CATEGORIES:In Person Chapter CLE,Mississippi Chapter
ORGANIZER;CN="Candace Gregory":MAILTO:candace.gregory@phelps.com
GEO:32.2988372;-90.1833772
X-APPLE-STRUCTURED-LOCATION;VALUE=URI;X-ADDRESS=Capital Club Jackson 125 S Congress St Jackson MS 39201 United States;X-APPLE-RADIUS=500;X-TITLE=125 S Congress St:geo:-90.1833772,32.2988372
END:VEVENT
END:VCALENDAR