BEGIN:VCALENDAR
VERSION:2.0
PRODID:-//Federal Bar Association - ECPv6.15.15//NONSGML v1.0//EN
CALSCALE:GREGORIAN
METHOD:PUBLISH
X-WR-CALNAME:Federal Bar Association
X-ORIGINAL-URL:https://www.fedbar.org
X-WR-CALDESC:Events for Federal Bar Association
REFRESH-INTERVAL;VALUE=DURATION:PT1H
X-Robots-Tag:noindex
X-PUBLISHED-TTL:PT1H
BEGIN:VTIMEZONE
TZID:America/New_York
BEGIN:DAYLIGHT
TZOFFSETFROM:-0500
TZOFFSETTO:-0400
TZNAME:EDT
DTSTART:20230312T070000
END:DAYLIGHT
BEGIN:STANDARD
TZOFFSETFROM:-0400
TZOFFSETTO:-0500
TZNAME:EST
DTSTART:20231105T060000
END:STANDARD
BEGIN:DAYLIGHT
TZOFFSETFROM:-0500
TZOFFSETTO:-0400
TZNAME:EDT
DTSTART:20240310T070000
END:DAYLIGHT
BEGIN:STANDARD
TZOFFSETFROM:-0400
TZOFFSETTO:-0500
TZNAME:EST
DTSTART:20241103T060000
END:STANDARD
BEGIN:DAYLIGHT
TZOFFSETFROM:-0500
TZOFFSETTO:-0400
TZNAME:EDT
DTSTART:20250309T070000
END:DAYLIGHT
BEGIN:STANDARD
TZOFFSETFROM:-0400
TZOFFSETTO:-0500
TZNAME:EST
DTSTART:20251102T060000
END:STANDARD
END:VTIMEZONE
BEGIN:VEVENT
DTSTART;TZID=America/New_York:20240626T140000
DTEND;TZID=America/New_York:20240626T140000
DTSTAMP:20260423T045628
CREATED:20240510T162843Z
LAST-MODIFIED:20240524T153959Z
UID:496571-1719410400-1719410400@www.fedbar.org
SUMMARY:Webinar:  Civil Appeals: The Basics
DESCRIPTION:June 26 @ 2:00 pm – 3:00 pm (Q&A from 3:00-3:15 p.m.-not considered for CLE) \nSeeking relief from a federal appellate court can be a daunting responsibility for any litigator. This webinar will help demystify the process by covering the essentials of civil appeals and potential pitfalls along the way. During this roundtable discussion\, panelists will provide insights on substantive and procedural considerations throughout the appellate process\, as well as practical tips for practitioners. \nPlease note: The CLE is 60 minutes\, with additional time allowed for Q&A of the panelists. \nPresented by the Professional Development Committee & the Younger Lawyers Division. \n\n\nClick Here to Register.\nFor questions regarding this program\, please contact MyLaw CLE by email: registration@mylawcle.com or phone: 877-406-8636. \n\nAbout the Presenters\nEduard (“Ed”)  Guedes\, Partner\, Weiss Serota Helfman Cole + Bierman \nA Fellow of the prestigious American Academy of Appellate Lawyers and ranked by Chambers USA in appellate law\, Ed Guedes is widely known for his representation of business and government clients in high-stakes appeals. His in-depth knowledge and experience were further recognized when he was nominated in 2008 to fill a vacancy on the Florida Supreme Court. \nEd is also Board Certified in Appellate Practice by the Florida Bar. He has litigated dozens of appeals before the Florida Supreme Court\, Florida’s district courts of appeal and the U.S. Courts of Appeals in a wide variety of matters\, including medical malpractice\, premises liability\, insurance liability\, First Amendment and constitutional litigation\, family law\, state and federal administrative rule-making and regulation\, home rule authority and preemption\, election law\, civil rights\, land use and zoning\, intellectual property and labor and employment issues. \nEd’s clients span a diverse range of industries\, from a national supermarket chain to local governments. He works with each client to develop cost-effective litigation strategies that clarify and shape the law\, ultimately advancing their broader business goals. \nEd represented more than 40 city and county governments in defending a $200 million federal class action lawsuit involving red-light camera programs  across Florida. His successful strategy in numerous state court proceedings\, which culminated in a unanimous Florida Supreme Court decision upholding the legality of the programs\, led to a decisive dismissal of the class action. In another appellate victory\, Ed represented the manufacturer of the breath-alcohol testing instrument used in Florida in a legal battle over the company’s source code. Ed’s strategic approach to trial court and appellate proceedings led to a change in existing case law in Florida and establishing new precedent\, when the Florida Supreme Court issued a unanimous decision in his client’s favor. In another precedent-setting decision from the Florida Supreme Court\, Ed represented a national insurance carrier in establishing the carrier’s right through subrogation to pursue a malpractice claim against its insured’s retained counsel. \nEd is regularly quoted in the media on his high-profile cases. As a Fellow of the American Academy of Appellate Lawyers\, he belongs to an exclusive group of only 350 attorneys who practice at the highest standards of appellate advocacy in the country. \n \nMelissa Patterson\, U. S. Department of Justice (Civil Appeals Division) \nMs. Patterson is an Assistant Director at the Appellate Staff of the Civil Division at the Justice Department.  She has represented the federal government as lead counsel in dozens of appeals in a wide range of civil litigation matters\, with a special focus on intellectual property\, administrative law\, and constitutional separation-of-powers issues\, as well as representing the United States in the Supreme Court while on detail as an Assistant to the Solicitor General.  Ms. Patterson is a member of the Federal Circuit Advisory Council\, and an adjunct professor at Georgetown University Law Center\, where she teaches the Appellate Practice Seminar.  She served as a judicial law clerk to Judge Raymond C. Fisher of the U.S. Court of Appeals for the Ninth Circuit.  Ms. Patterson received her law degree from Harvard Law School\, and a B.S. in Biomedical Engineering and a B.A. in English from the University of Southern California. \nAmanda Rice\, Partner\, Jones Day \nAmanda Rice is a partner in Jones Day’s Issues & Appeals practice.  She has argued in the U.S. Supreme Court\, as well as in most of the federal courts of appeals and a number of state appellate courts.  Her practice covers a broad range of substantive areas.  Recent matters have run the gamut from due process questions\, to arbitration issues\, to administrative procedure.  As the Detroit Office’s pro bono partner\, Amanda coordinates the office’s pro bono efforts and maintains her own active pro bono caseload\, with a focus on civil rights\, LGBTQ issues\, and immigration. \nAmanda has taught legal writing at the University of Michigan Law School and firearms law at Wayne State Law School. She also worked in the appellate practice of another national law firm.  Before all of that\, she graduated from Harvard Law School and then served as a judicial clerk at all three levels of the federal judiciary\, clerking first for Judge Boasberg on the U.S. District Court for the District of Columbia\, then for Judge Tatel on the U.S. Court of Appeals for the D.C. Circuit\, and finally for Justice Kagan on the U.S. Supreme Court. \nAbout the Moderator\n\n \nJean Phillip  (J.P.) Shami\, Associate\, Jones Day \nJean Phillip (J.P.) Shami is an Associate in the Health Care & Life Sciences practice group at Jones Day. J.P. represents and advises health care entities in a broad range of litigation and regulatory matters. J.P. also regularly appears in state and federal court in complex commercial litigation matters. J.P. maintains an active pro bono case load\, assisting asylum seekers and victims of human trafficking. Prior to joining Jones Day in 2022\, J.P. served as a judicial law clerk to Judge Darrin P. Gayles of the U.S. District Court for the Southern District of Florida\, where he worked on a wide array of civil matters. Additionally\, J.P. served as a Teach For America corps member in the Dallas-Fort Worth region of Texas prior to attending law school. \n\n\nRegister Here!\n\nLive Broadcast | FBA Member: $0\nLive Broadcast | Nonmember: $95\nOn-Demand Broadcast | FBA Member: $50\nOn-Demand Broadcast | Nonmember: $95\n\nFor questions regarding this program\, please contact MyLaw CLE by email: registration@mylawcle.com or phone: 877-406-8636.\n\n\n\n\n\n\n\n\n\n\n\n\n\n\n\n\n\n\n\n\n\n\n\n\nCLE\nPlease note: CLE for this webinar has not been pre-approved.\nMyLaw and the FBA will seek 1.5 General CLE credit hours in 60-minute states\, and 1.75 General CLE credit hours in 50-minute states. \nPosted credit hours are estimated and subject to respective state approval and rounding rules. CLE qualifications vary by state/jurisdiction. \nFor questions regarding this program\, please contact MyLaw CLE by email: registration@mylawcle.com or phone: 877-406-8636.\n\n\n\n\n\n\n\n\nEmail Communication Policy\nBy registering for this event\, you agree to receive email communication from the Federal Bar Association and affiliated sponsors of the program concerning event details\, Continuing Legal Education certification\, programming changes\, upcoming events\, surveys\, and post-event communications. \nRecording Disclaimer\nBy registering for an online FBA program\, you agree to the recording of audio and visual content presented during the live event and consent to subsequent use of the recording by the FBA. You agree that the recording is the sole property of the FBA and that the recording may be used by the FBA in any manner in its sole and absolute discretion. This recording may include questions and poll responses provided by you during the live event. If you do not consent to the recording and the FBA’s use of the same\, do not register for the event. \n\n\n\n\n Add to calendar
URL:https://www.fedbar.org/event/webinar-civil-appeals-the-basics/
END:VEVENT
BEGIN:VEVENT
DTSTART;TZID=America/New_York:20240627T150000
DTEND;TZID=America/New_York:20240627T170000
DTSTAMP:20260423T045628
CREATED:20240605T141342Z
LAST-MODIFIED:20240610T161337Z
UID:508213-1719500400-1719507600@www.fedbar.org
SUMMARY:MA & RI Chapters: Veterans' legal issues\, considerations\, and resources: an overview for Federal Bar Association members
DESCRIPTION:About the Event:\nVeterans Legal Services\, in collaboration with the U.S. District Court for the District of Massachusetts and the United States District Court for the District of Rhode Island\, will host a panel discussion and training for Federal Bar Association members. The program will highlight veterans’ legal issues\, considerations\, and resources. This event will provide an orientation on military culture for legal practitioners\, identify the most common legal issues veterans face and related considerations\, and share information about resources available for veterans. \nRegister HERE\n\nVeterans Legal Services event information page\n\n\nSpeakers:\nTara Dunn\, Judicial Law Clerk\, U.S. District Court\, District of Massachusetts; USAF Reserves \nNicholas Hasenfus\, Partner\, Holland & Knight; USMC Veteran; Veterans Legal Services Board Member and Chair of Education & Outreach Committee \nAlexandra (Alex) Trobe\, Associate\, Williams & Connolly; USAF Veteran; Veterans Legal Services Board Member \nNora Tyer-Witek\, Clerk of Court\, U.S. District Court\, District of Rhode Island; USMC Veteran and former Judge Advocate General \n  \nFederal Bar Involvement:\nMA & RI Chapters co-hosting in conjunction with the Judiciary Division and Veterans & Military Law Section.
URL:https://www.fedbar.org/event/ma-ri-chapters-veterans-legal-issues-considerations-and-resources-an-overview/
LOCATION:Hybrid: Boston\, MA; Providence\, RI; Zoom\, 1 Courthouse Way\, Boston\, MA\, 02210\, United States
CATEGORIES:Massachusetts Chapter,Rhode Island Chapter,Veterans Law Section
ORGANIZER;CN="Robert Farrell":MAILTO:rob_farrell@mad.uscourts.gov
END:VEVENT
END:VCALENDAR