BEGIN:VCALENDAR
VERSION:2.0
PRODID:-//Federal Bar Association - ECPv6.15.15//NONSGML v1.0//EN
CALSCALE:GREGORIAN
METHOD:PUBLISH
X-WR-CALNAME:Federal Bar Association
X-ORIGINAL-URL:https://www.fedbar.org
X-WR-CALDESC:Events for Federal Bar Association
REFRESH-INTERVAL;VALUE=DURATION:PT1H
X-Robots-Tag:noindex
X-PUBLISHED-TTL:PT1H
BEGIN:VTIMEZONE
TZID:America/Los_Angeles
BEGIN:DAYLIGHT
TZOFFSETFROM:-0800
TZOFFSETTO:-0700
TZNAME:PDT
DTSTART:20230312T100000
END:DAYLIGHT
BEGIN:STANDARD
TZOFFSETFROM:-0700
TZOFFSETTO:-0800
TZNAME:PST
DTSTART:20231105T090000
END:STANDARD
BEGIN:DAYLIGHT
TZOFFSETFROM:-0800
TZOFFSETTO:-0700
TZNAME:PDT
DTSTART:20240310T100000
END:DAYLIGHT
BEGIN:STANDARD
TZOFFSETFROM:-0700
TZOFFSETTO:-0800
TZNAME:PST
DTSTART:20241103T090000
END:STANDARD
BEGIN:DAYLIGHT
TZOFFSETFROM:-0800
TZOFFSETTO:-0700
TZNAME:PDT
DTSTART:20250309T100000
END:DAYLIGHT
BEGIN:STANDARD
TZOFFSETFROM:-0700
TZOFFSETTO:-0800
TZNAME:PST
DTSTART:20251102T090000
END:STANDARD
END:VTIMEZONE
BEGIN:VTIMEZONE
TZID:America/New_York
BEGIN:DAYLIGHT
TZOFFSETFROM:-0500
TZOFFSETTO:-0400
TZNAME:EDT
DTSTART:20230312T070000
END:DAYLIGHT
BEGIN:STANDARD
TZOFFSETFROM:-0400
TZOFFSETTO:-0500
TZNAME:EST
DTSTART:20231105T060000
END:STANDARD
BEGIN:DAYLIGHT
TZOFFSETFROM:-0500
TZOFFSETTO:-0400
TZNAME:EDT
DTSTART:20240310T070000
END:DAYLIGHT
BEGIN:STANDARD
TZOFFSETFROM:-0400
TZOFFSETTO:-0500
TZNAME:EST
DTSTART:20241103T060000
END:STANDARD
BEGIN:DAYLIGHT
TZOFFSETFROM:-0500
TZOFFSETTO:-0400
TZNAME:EDT
DTSTART:20250309T070000
END:DAYLIGHT
BEGIN:STANDARD
TZOFFSETFROM:-0400
TZOFFSETTO:-0500
TZNAME:EST
DTSTART:20251102T060000
END:STANDARD
END:VTIMEZONE
BEGIN:VEVENT
DTSTART;TZID=America/Los_Angeles:20240605T113000
DTEND;TZID=America/Los_Angeles:20240605T130000
DTSTAMP:20260422T214559
CREATED:20240516T141532Z
LAST-MODIFIED:20240516T141708Z
UID:496127-1717587000-1717592400@www.fedbar.org
SUMMARY:Orange County Chapter: Annual Pro Bono Opportunities Luncheon
DESCRIPTION:Join us to learn about federal pro bono opportunities available to our practitioners through the various pro bono programs in our district\, circuit\, and bankruptcy courts.\nWe invite you to a complimentary\, in-person Pro Bono luncheon.\nJoin us to learn about federal pro bono opportunities available\nto our practitioners through the various pro bono programs\nin our district\, circuit\, and bankruptcy courts. \nWe will hear from some of our Central District judges\nabout opportunities for attorney involvement\, as well as from\nrepresentatives of organizations including the 9th Circuit Pro\nBono Appeals Program\, Central District California Civil Rights\nPanel\, Public Law Center\, Elder Law & Disability Rights Center\nand Veterans Legal Institute.\nSpace is limited. We hope you can join us.\nThere is no charge for this event\, but reservations are required.
URL:https://www.fedbar.org/event/orange-county-chapter-annual-pro-bono-opportunities-luncheon/
LOCATION:The Pacific Club\, 4110 MacArthur Blvd.\, Newport Beach\, CA\, 92660\, United States
CATEGORIES:Orange County Chapter
ORGANIZER;CN="FBA/OC":MAILTO:info@FBAOC.com
END:VEVENT
BEGIN:VEVENT
DTSTART;TZID=America/New_York:20240605T120000
DTEND;TZID=America/New_York:20240605T133000
DTSTAMP:20260422T214559
CREATED:20240322T133144Z
LAST-MODIFIED:20240322T133144Z
UID:473015-1717588800-1717594200@www.fedbar.org
SUMMARY:Qui Tam Section: [VIRTUAL] FCA Enforcement in California
DESCRIPTION:**Program hosted in (ET) time zone** \nThis False Claims Act roundtable includes the Affirmative Civil Enforcement Coordinators and equivalents from each of the four California U.S. Attorney’s Offices. The panel will discuss the uniqueness of each district; the triage\, work up\, and litigation procedures for affirmative civil cases; and the general practice viewpoints on litigating qui tam cases. \n*** This event does not offer CLE credit *** \n[Register Online]\n\nPresenters\nRoss M. Cuff\, U.S. Attorney’s Office\, C.D. Cal. \n  \n  \n  \n  \nColleen Kennedy\, U.S. Attorney’s Office\, E.D. Cal. \n  \n  \n  \nSai Mohan\, U.S. Attorney’s Office\, N.D. Cal. \n  \n  \n  \n  \n  \nJoseph Price\, Jr.\, U.S. Attorney’s Office\, S.D. Cal. \n  \n  \n  \n  \n  \n  \nModerator\n \nDylan M. Aste\, U.S. Attorney’s Office\, S.D. Cal. \n  \n  \n  \n  \n  \n  \n\nRegistration\n[Register Online]\n \n\nFBA Members: $0\nNon-Members: $0\n\n\nCLE\nPlease note that CLE credit is not offered for this webinar. \n\nEmail Communication Policy \nBy registering for this event\, you agree to receive email communications from the Federal Bar Association and affiliated sponsors of the program concerning event details\, Continuing Legal Education certification\, programming changes\, upcoming events\, surveys\, and post-event communications. \nRecording Disclaimer \nBy registering for an FBA webinar\, you agree to the recording of audio and visual content presented during the live event and consent to subsequent use of the recording by the FBA. You agree that the recording is the sole property of the FBA and that the recording may be used by the FBA in any manner in its sole and absolute discretion. This recording may include questions and poll responses provided by you during the live event. If you do not consent to the recording and the FBA’s use of the same\, do not register for the event. \nIf you have any questions regarding this program\, please contact sections@fedbar.org.
URL:https://www.fedbar.org/event/fca-calif/
CATEGORIES:Qui Tam Section
END:VEVENT
BEGIN:VEVENT
DTSTART;TZID=America/New_York:20240607T080000
DTEND;TZID=America/New_York:20240607T190000
DTSTAMP:20260422T214559
CREATED:20240531T165151Z
LAST-MODIFIED:20240531T180401Z
UID:506028-1717747200-1717786800@www.fedbar.org
SUMMARY:WDNC Chapter: Annual Meeting and CLE
DESCRIPTION:Announcing the 2024 FBA WDNC Annual Meeting and CLE\nFriday\, June 7\, 2024\nLocation: The Omni Grove Park Inn\, 290 Macon Ave.\, Asheville\, NC 28804\nTheme: Effective Advocacy in the Federal Courts \nClick HERE for the agenda PDF \nInformation on the Panel Presentations: \nThe Pretrial/Post-Trial Issues Panel will focus on the following: (1) pleadings and written advocacy\, (2) oral\nadvocacy at hearings\, (3) discovery disputes and motions for attorney’s fees\, and (4) plea hearings\, sentencing\,\nand supervised release hearings. If you have questions or additional topics you would like to pose to the Panel\,\ne- mail Matt Orso at Matthew.Orso@troutman.com. \nThe Trial Issues Panel will focus on the following: (1) effective closing arguments\, (2) use of technology (the\neffective and the ineffective)\, (3) jury trial advocacy\, and (4) bench trial advocacy. If you have questions or\nadditional topics you would like to pose to the Panel\, e-mail Thomas Walker at Thomas.Walker@alston.com. \nThe Magistrate Judge Panel will focus on the following: (1) discovery disputes and (2) electronic litigation\nmatters. If you have questions or additional topics you would like to pose to the Panel\, e-mail Caroline\nMcLean at caroline.mclean@usdoj.gov \nCLE: Application will be made for 6 hours of N.C. State Bar CLE credit.
URL:https://www.fedbar.org/event/wdnc-chapter-annual-meeting-and-cle/
LOCATION:The Omni Grove Park Inn\, 290 Macon Ave.\, Asheville\, NC\, 28804\, United States
CATEGORIES:In Person Chapter CLE,Western District of North Carolina
ATTACH;FMTTYPE=image/png:https://www.fedbar.org/wp-content/uploads/2024/05/Screenshot-2024-05-31-124459.png
ORGANIZER;CN="Thomas Walker":MAILTO:Thomas.Walker@alston.com
GEO:35.6199919;-82.5432495
X-APPLE-STRUCTURED-LOCATION;VALUE=URI;X-ADDRESS=The Omni Grove Park Inn 290 Macon Ave. Asheville NC 28804 United States;X-APPLE-RADIUS=500;X-TITLE=290 Macon Ave.:geo:-82.5432495,35.6199919
END:VEVENT
END:VCALENDAR