BEGIN:VCALENDAR
VERSION:2.0
PRODID:-//Federal Bar Association - ECPv6.15.15//NONSGML v1.0//EN
CALSCALE:GREGORIAN
METHOD:PUBLISH
X-ORIGINAL-URL:https://www.fedbar.org
X-WR-CALDESC:Events for Federal Bar Association
REFRESH-INTERVAL;VALUE=DURATION:PT1H
X-Robots-Tag:noindex
X-PUBLISHED-TTL:PT1H
BEGIN:VTIMEZONE
TZID:America/Los_Angeles
BEGIN:DAYLIGHT
TZOFFSETFROM:-0800
TZOFFSETTO:-0700
TZNAME:PDT
DTSTART:20230312T100000
END:DAYLIGHT
BEGIN:STANDARD
TZOFFSETFROM:-0700
TZOFFSETTO:-0800
TZNAME:PST
DTSTART:20231105T090000
END:STANDARD
BEGIN:DAYLIGHT
TZOFFSETFROM:-0800
TZOFFSETTO:-0700
TZNAME:PDT
DTSTART:20240310T100000
END:DAYLIGHT
BEGIN:STANDARD
TZOFFSETFROM:-0700
TZOFFSETTO:-0800
TZNAME:PST
DTSTART:20241103T090000
END:STANDARD
BEGIN:DAYLIGHT
TZOFFSETFROM:-0800
TZOFFSETTO:-0700
TZNAME:PDT
DTSTART:20250309T100000
END:DAYLIGHT
BEGIN:STANDARD
TZOFFSETFROM:-0700
TZOFFSETTO:-0800
TZNAME:PST
DTSTART:20251102T090000
END:STANDARD
END:VTIMEZONE
BEGIN:VTIMEZONE
TZID:America/New_York
BEGIN:DAYLIGHT
TZOFFSETFROM:-0500
TZOFFSETTO:-0400
TZNAME:EDT
DTSTART:20230312T070000
END:DAYLIGHT
BEGIN:STANDARD
TZOFFSETFROM:-0400
TZOFFSETTO:-0500
TZNAME:EST
DTSTART:20231105T060000
END:STANDARD
BEGIN:DAYLIGHT
TZOFFSETFROM:-0500
TZOFFSETTO:-0400
TZNAME:EDT
DTSTART:20240310T070000
END:DAYLIGHT
BEGIN:STANDARD
TZOFFSETFROM:-0400
TZOFFSETTO:-0500
TZNAME:EST
DTSTART:20241103T060000
END:STANDARD
BEGIN:DAYLIGHT
TZOFFSETFROM:-0500
TZOFFSETTO:-0400
TZNAME:EDT
DTSTART:20250309T070000
END:DAYLIGHT
BEGIN:STANDARD
TZOFFSETFROM:-0400
TZOFFSETTO:-0500
TZNAME:EST
DTSTART:20251102T060000
END:STANDARD
END:VTIMEZONE
BEGIN:VTIMEZONE
TZID:America/Chicago
BEGIN:DAYLIGHT
TZOFFSETFROM:-0600
TZOFFSETTO:-0500
TZNAME:CDT
DTSTART:20230312T080000
END:DAYLIGHT
BEGIN:STANDARD
TZOFFSETFROM:-0500
TZOFFSETTO:-0600
TZNAME:CST
DTSTART:20231105T070000
END:STANDARD
BEGIN:DAYLIGHT
TZOFFSETFROM:-0600
TZOFFSETTO:-0500
TZNAME:CDT
DTSTART:20240310T080000
END:DAYLIGHT
BEGIN:STANDARD
TZOFFSETFROM:-0500
TZOFFSETTO:-0600
TZNAME:CST
DTSTART:20241103T070000
END:STANDARD
BEGIN:DAYLIGHT
TZOFFSETFROM:-0600
TZOFFSETTO:-0500
TZNAME:CDT
DTSTART:20250309T080000
END:DAYLIGHT
BEGIN:STANDARD
TZOFFSETFROM:-0500
TZOFFSETTO:-0600
TZNAME:CST
DTSTART:20251102T070000
END:STANDARD
END:VTIMEZONE
BEGIN:VEVENT
DTSTART;TZID=America/Los_Angeles:20240326T170000
DTEND;TZID=America/Los_Angeles:20240326T183000
DTSTAMP:20260419T183500
CREATED:20240308T201912Z
LAST-MODIFIED:20240308T204142Z
UID:468555-1711472400-1711477800@www.fedbar.org
SUMMARY:NDCA Chapter: PERSPECTIVES FROM THE BENCH AND BAR: MULTIDISTRICT LITIGATION CLE
DESCRIPTION:This will be a panel discussion of new developments in Multidistrict litigation with leaders in this field.  Moderated by the Honorable Jon Tigar (NDCA) the panel will include the Honorable Karen K. Caldwell\, EDKY\, Chair of the United States Judicial Panel on MDL; Honorable Yvonne Gonzalez Rogers\, Sarah London (Partner Leiff Cabraser Heimann & Bernstein) and Neal Potischman (Partner\, Davis Polk). \n 
URL:https://www.fedbar.org/event/ndca-chapter-perspectives-from-the-bench-and-bar-multidistrict-litigation-cle/
CATEGORIES:In Person Chapter CLE,Northern District of California Chapter,Virtual Chapter CLE
ATTACH;FMTTYPE=image/jpeg:https://www.fedbar.org/wp-content/uploads/2024/03/Multidistrict-with-logos.jpg
ORGANIZER;CN="Alex Murray":MAILTO:admin@fbandca.org
END:VEVENT
BEGIN:VEVENT
DTSTART;TZID=America/New_York:20240327T140000
DTEND;TZID=America/New_York:20240327T150000
DTSTAMP:20260419T183500
CREATED:20240304T140154Z
LAST-MODIFIED:20240327T130518Z
UID:462759-1711548000-1711551600@www.fedbar.org
SUMMARY:Webinar: Through Her Clerks' Eyes: The Barrier-Breaking Career of Judge Motley and What it Means Today
DESCRIPTION:In celebration of the Black History month and Women’s History month\, please join the Federal Bar Association’s Diversity and Inclusion Committee for a webinar honoring the legacy of trailblazing judge Hon. Constance Baker Motley. Join us as two of Judge Motley’s former law clerks share their personal insights and experiences working with Judge Motley. How she managed her cases and trials and some of the landmark litigations she ruled on\, including Ludtke v Kuhn and Blank v Sullivan & Cromwell. Ask questions and learn about the exciting Hon. Constance Baker Motley Diversity\, Equity\, and Inclusion Young Professionals Essay Writing Competition – for more information on the contest. Deadline is May 10\, 2024.  For more information\, visit the essay page. \nPresented by the Diversity and Inclusion Committee \n \n  \nRegistration is Closed\n\nAbout the Presenters and Former Clerks of Hon. Constance Baker Motley\nRichard Jasper\, Criminal Defense Lawyer \nRichard Jasper is a practicing criminal defense lawyer in the New York City metropolitan area.   He is a graduate of Wesleyan University\, Middletown\, Connecticut\, and New York Law School.  Following law school\, he served as deputy clerk to Chief Judge Constance Baker Motley\, United States District Judge for the Southern District of New York.  He has participated in over seventy-five federal death eligible cases either as Learned Counsel or Resource Counsel. In addition\, Mr. Jasper has tried three federal death penalty cases to a verdict without a death sentence. He has represented defendants in post 911 terrorist and racketeering cases. He has been a member of the faculty at the Santa Clara University School of Law Death Penalty College since 2008 and member of the Faculty at the National College for Capital Voir Dire in Boulder\, Colorado since 2014.  He is a member of the Federal Capital Resource Project and serves on the Board of Directors of Advancing Real Change (ARC)\, an organization that assists mitigation specialists in capital cases.  He also previously served on the Board of Directors of both the New York Criminal Bar Association and the New York State Association of Criminal Defense Lawyers.  He received the 2019 Honorable Lewis Cohen’s Award for Professional Excellence. In 2023 received the Gideons Promise Champion of the Community Award. \nAmber Koonce\, Assistant Counsel\, Legal Defense Fund \nAmber M. Koonce is an Assistant Counsel at the NAACP Legal Defense Fund (LDF). Her civil rights practice covers matters of economic justice\, First Amendment protections\, affirmative action\, desegregation\, and criminal justice. Amber has represented Pulitzer Prize-winning journalist Nikole Hannah Jones in her tenure dispute with UNC\, a class of Black parents and students challenging for the desegregation of their school district in Alabama\, and incarcerated individuals seeking access to covid mitigation measures in Arkansas\, among others. Amber has substantial experience advising mission-driven financial institutions regarding title VI\, title VII\, and Section 1981 parameters for programs supporting underrepresented minorities. Amber received her J.D. from Yale Law School and her B.A. from the University of North Carolina at Chapel Hill. \nRiad P. Williams\, Assistant Deputy Chief Court Attorney\, Law Department of the Appellate Division Second Department \nRiad P. Williams is an Assistant Deputy Chief Court Attorney for the Law Department of the Appellate Division Second Department.  In that role\, Riad supervises and instructs approximately 50 to 60 Appellate Court Attorneys in the preparation of confidential reports for the Justices of the Appellate Division.   Before becoming a Law Department supervisor in 2019\, Riad was an Appellate Court Attorney\, who analyzed complex legal issues and prepared confidential reports for the Justices of the Appellate Division. \nPrior to joining the Law Department of the Appellate Division in 2006\, Riad was a Certified Financial Planner at Morgan Stanley and JP Morgan Chase.  She was responsible for creating wealth management plans and specialized investment solutions for her clients.  Prior to that\, Riad worked as an associate at Morrison & Foerster.  In 1994-1995\, Riad had the wonderful opportunity to clerk for the Honorable Constance Baker Motley. \nRiad earned an A.B. in Political Philosophy with Honors from Princeton University where she was awarded the “Class of 1869 Prize in Ethics” for her senior thesis.  Riad graduated from New York University Law School with dual degrees: J.D. and an M.A. in Philosophy\, and was an associate editor of the Law Review. \n  \n\nRegistration\nRegistration is Closed \nRegistration for this event will close Tuesday\, March 26 at 2:00 PM EDT. \nRegistration Fees \n\nComplimentary for FBA Members & Non-Members\n\n\n\n\n\n\n\n\n\nLive Captioning: Closed captioning is available for all virtual webcasts. \n\n\nInternet Requirements: Virtual programs require suitable internet strength to stream online panels. A minimum internet connection of 800 Kbps is recommended for an optimal attendee experience. Test your connection here.  \n\n\n\n\n\n\n\n\n\n\n\n\n\n\n\n\nCLE\nPlease note CLE will not be offered for this event.  \n\n\n\n\n\n\n\n\nFrequently Asked Questions\nQ: How do I access the virtual webinar?\nA: Each webinar will have a unique link to watch the live broadcast. Registered attendees will receive login instructions via a calendar invitations 24 hours prior to the webinar. \nQ: Will recordings of the sessions be available after the event?\nA: Approved sessions will be available for registrants to view live and on-demand following the webinar. \nQ: Who do I contact for more information?\nA: Please contact sections@fedbar.org for any other questions. \n\nEmail Communication Policy\nBy registering for this event\, you agree to receive email communication from the Federal Bar Association and affiliated sponsors of the program concerning event details\, Continuing Legal Education certification\, programming changes\, upcoming events\, surveys\, and post-event communications. \nRecording Disclaimer\nBy registering for an online FBA program\, you agree to the recording of audio and visual content presented during the live event and consent to subsequent use of the recording by the FBA. You agree that the recording is the sole property of the FBA and that the recording may be used by the FBA in any manner in its sole and absolute discretion. This recording may include questions and poll responses provided by you during the live event. If you do not consent to the recording and the FBA’s use of the same\, do not register for the event. \nIf you have any questions regarding this program\, please contact Shaniece\, Program Coordinator\, at sections@fedbar.org
URL:https://www.fedbar.org/event/webinar-through-her-clerks-eyes-the-barrier-breaking-career-of-judge-motley-and-what-it-means-today/
END:VEVENT
BEGIN:VEVENT
DTSTART;TZID=America/Chicago:20240328T113000
DTEND;TZID=America/Chicago:20240328T130000
DTSTAMP:20260419T183500
CREATED:20240223T194214Z
LAST-MODIFIED:20240223T194239Z
UID:462749-1711625400-1711630800@www.fedbar.org
SUMMARY:Mississippi Chapter: March CLE Luncheon
DESCRIPTION:Todd W. Gee was confirmed as the United States Attorney for the Southern District of Mississippi on September 29\, 2023. As United States Attorney\, Mr. Gee supervises the investigation and prosecution of all federal crimes and the litigation of all civil matters in which the United States has an interest.\nFederal Public Defender Omodare Jupiter began his tenure as the Federal Public Defender for the Northern and Southern Districts of Mississippi on April 1\, 2019. Before his appointment to this position\, Mr. Omodare served in the same capacity for the District of the United States Virgin Islands from 2013 – 2019.\nWe are very glad to welcome them for our CLE Luncheon! \nRegister today! Please join us for this in-person CLE opportunity featuring United States Attorney Todd W. Gee and Federal Public Defender Omodare Jupiter.\nThe buffet line opens at 11:30 a.m.\, and the program begins at noon.\nPlease pre-register so that we can relay the anticipated attendance to the Capital Club.
URL:https://www.fedbar.org/event/mississippi-chapter-march-cle-luncheon-2024/
LOCATION:Capital Club Jackson\, 125 S Congress St\, Jackson\, MS\, 39201\, United States
CATEGORIES:In Person Chapter CLE,Mississippi Chapter
ORGANIZER;CN="Jennifer Case":MAILTO:FedBarMS@gmail.com
GEO:32.2988372;-90.1833772
X-APPLE-STRUCTURED-LOCATION;VALUE=URI;X-ADDRESS=Capital Club Jackson 125 S Congress St Jackson MS 39201 United States;X-APPLE-RADIUS=500;X-TITLE=125 S Congress St:geo:-90.1833772,32.2988372
END:VEVENT
END:VCALENDAR