BEGIN:VCALENDAR
VERSION:2.0
PRODID:-//Federal Bar Association - ECPv6.15.15//NONSGML v1.0//EN
CALSCALE:GREGORIAN
METHOD:PUBLISH
X-ORIGINAL-URL:https://www.fedbar.org
X-WR-CALDESC:Events for Federal Bar Association
REFRESH-INTERVAL;VALUE=DURATION:PT1H
X-Robots-Tag:noindex
X-PUBLISHED-TTL:PT1H
BEGIN:VTIMEZONE
TZID:America/New_York
BEGIN:DAYLIGHT
TZOFFSETFROM:-0500
TZOFFSETTO:-0400
TZNAME:EDT
DTSTART:20230312T070000
END:DAYLIGHT
BEGIN:STANDARD
TZOFFSETFROM:-0400
TZOFFSETTO:-0500
TZNAME:EST
DTSTART:20231105T060000
END:STANDARD
BEGIN:DAYLIGHT
TZOFFSETFROM:-0500
TZOFFSETTO:-0400
TZNAME:EDT
DTSTART:20240310T070000
END:DAYLIGHT
BEGIN:STANDARD
TZOFFSETFROM:-0400
TZOFFSETTO:-0500
TZNAME:EST
DTSTART:20241103T060000
END:STANDARD
BEGIN:DAYLIGHT
TZOFFSETFROM:-0500
TZOFFSETTO:-0400
TZNAME:EDT
DTSTART:20250309T070000
END:DAYLIGHT
BEGIN:STANDARD
TZOFFSETFROM:-0400
TZOFFSETTO:-0500
TZNAME:EST
DTSTART:20251102T060000
END:STANDARD
END:VTIMEZONE
BEGIN:VTIMEZONE
TZID:America/Los_Angeles
BEGIN:DAYLIGHT
TZOFFSETFROM:-0800
TZOFFSETTO:-0700
TZNAME:PDT
DTSTART:20230312T100000
END:DAYLIGHT
BEGIN:STANDARD
TZOFFSETFROM:-0700
TZOFFSETTO:-0800
TZNAME:PST
DTSTART:20231105T090000
END:STANDARD
BEGIN:DAYLIGHT
TZOFFSETFROM:-0800
TZOFFSETTO:-0700
TZNAME:PDT
DTSTART:20240310T100000
END:DAYLIGHT
BEGIN:STANDARD
TZOFFSETFROM:-0700
TZOFFSETTO:-0800
TZNAME:PST
DTSTART:20241103T090000
END:STANDARD
BEGIN:DAYLIGHT
TZOFFSETFROM:-0800
TZOFFSETTO:-0700
TZNAME:PDT
DTSTART:20250309T100000
END:DAYLIGHT
BEGIN:STANDARD
TZOFFSETFROM:-0700
TZOFFSETTO:-0800
TZNAME:PST
DTSTART:20251102T090000
END:STANDARD
END:VTIMEZONE
BEGIN:VTIMEZONE
TZID:America/Chicago
BEGIN:DAYLIGHT
TZOFFSETFROM:-0600
TZOFFSETTO:-0500
TZNAME:CDT
DTSTART:20230312T080000
END:DAYLIGHT
BEGIN:STANDARD
TZOFFSETFROM:-0500
TZOFFSETTO:-0600
TZNAME:CST
DTSTART:20231105T070000
END:STANDARD
BEGIN:DAYLIGHT
TZOFFSETFROM:-0600
TZOFFSETTO:-0500
TZNAME:CDT
DTSTART:20240310T080000
END:DAYLIGHT
BEGIN:STANDARD
TZOFFSETFROM:-0500
TZOFFSETTO:-0600
TZNAME:CST
DTSTART:20241103T070000
END:STANDARD
BEGIN:DAYLIGHT
TZOFFSETFROM:-0600
TZOFFSETTO:-0500
TZNAME:CDT
DTSTART:20250309T080000
END:DAYLIGHT
BEGIN:STANDARD
TZOFFSETFROM:-0500
TZOFFSETTO:-0600
TZNAME:CST
DTSTART:20251102T070000
END:STANDARD
END:VTIMEZONE
BEGIN:VEVENT
DTSTART;TZID=America/New_York:20240206T094500
DTEND;TZID=America/New_York:20240206T160000
DTSTAMP:20260420T030233
CREATED:20240122T161223Z
LAST-MODIFIED:20240124T144326Z
UID:445014-1707212700-1707235200@www.fedbar.org
SUMMARY:DC & Maryland Chapters: The 4th Annual Government Enforcement & Investigations Seminar 4 Hours CLE
DESCRIPTION:The D.C. and Maryland Chapters and Federal Litigation Section\nof the Federal Bar Association \npresent \nThe 4th Annual Government Enforcement & Investigations Seminar (4 Hours of CLE) \nfeaturing \nKeynote: The Hon. Thomas B. Griffith & Benjamin L. Ginsberg\ndiscussing their July 2022 report “Lost\, Not Stolen” \nPublic Corruption Cases in 2024\nCrypto & Sanctions: The New Frontier \n– and – \nA View from the (Chief Judge’s) Bench:\nA conversation with the Hon. James K. Bredar\, the Hon. James E.\nBoasberg\, the Hon. Royce C. Lamberth & the Hon. Beryl A. Howell \nFebruary 6\, 2024\n9:45 a.m. – 4:00 p.m. \nE. Barrett Prettyman U.S. Courthouse\nCeremonial Courtroom\n333 Constitution Ave.\, N.W.\nWashington\, D.C. 20001 \nIncludes 4 Hours of CLE\, Lunch\, and Post-Conference Reception \nQuestions? Contact Tom Barnard tbarnard( a t )bakerdonelson.com\nor Eric Nitz enitz( a t )mololamken.com
URL:https://www.fedbar.org/event/the-4th-annual-government-enforcement-investigations-seminar-4-hours-cle/
LOCATION:E. Barrett Prettyman United States Courthouse\, 333 Constitution Ave. NW\, Washington\, DC\, 20001
CATEGORIES:CLE in Person,District of Columbia Chapter,Federal Litigation Section,Maryland Chapter
ATTACH;FMTTYPE=image/jpeg:https://www.fedbar.org/wp-content/uploads/2024/01/1208px-E._Barrett_Prettyman_Federal_Courthouse_DC.jpg
GEO:38.8928935;-77.0162336
X-APPLE-STRUCTURED-LOCATION;VALUE=URI;X-ADDRESS=E. Barrett Prettyman United States Courthouse 333 Constitution Ave. NW Washington DC 20001;X-APPLE-RADIUS=500;X-TITLE=333 Constitution Ave. NW:geo:-77.0162336,38.8928935
END:VEVENT
BEGIN:VEVENT
DTSTART;TZID=America/New_York:20240207T140000
DTEND;TZID=America/New_York:20240207T150000
DTSTAMP:20260420T030233
CREATED:20240110T163819Z
LAST-MODIFIED:20240205T194701Z
UID:440560-1707314400-1707318000@www.fedbar.org
SUMMARY:Webinar: Navigating Rough Seas: What Every Vessel Owner or Operator Should Know About the Amendments to Title 46 U.S.C. Concerning Sexual Assault and Sexual Harassment (SASH) Reporting Requirements and More!
DESCRIPTION:This panel discussion will address the scope of the amendments by explaining what entities and personnel are required to report sexual assault and harassment\, what qualifies as such\, and the required timing of reports as well as what information must be posted and where. This discussion will also address the surveillance requirements\, the mandated master key control system\, and the safety management system requirements. Specifically\, the panelists will discuss what vessels must maintain a video surveillance system\, where the system must be located\, the retention requirements for surveillance footage\, and some ambiguities in the statutory language. The panelists will also address the requirements of a master key control system\, who shall have access\, and what must be included in a safety management system regarding sexual assault and sexual harassment. Finally\, the panelists will discuss the addition of a statutory cause of action under the Jones Act for an injury resulting from sexual assault or harassment and the statute of limitations for bring that action. \nPresented by the Admiralty Law Section. \nFor questions regarding this program\, please contact MyLaw CLE by email: registration@mylawcle.com or phone: 877-406-8636. \n\nAbout the Presenters\nModerator: Matthew A. Moeller\, Owner & Managing Attorney\, The Moeller Firm LLC\nMatthew’s practices include the representation of vessel owner and operators\, contractors\, shipyards\, and other businesses in maritime\, construction and commercial disputes. He has handled maritime matters throughout the Gulf South\, the Pacific Northwest\, the Midwest\, and the Eastern Seaboard. Matthew regularly defends Jones Act\, Longshore Harbor and Worker’s Compensation Act\, and general maritime personal injury claims\, and both defends and prosecutes maritime contractual disputes and maritime property damage matters. He also represents underwriters and marine insurers in insurance coverage matters. Matthew’s experience also includes the defense of insurers\, hotel operators\, and transportation companies in land-based personal injury actions. In addition to his litigation practice\, Matthew counsels maritime clients in forming and negotiating master service agreements\, master time charter agreements\, third-party access and boarding agreements\, and vessel construction contracts. Matthew counsels other businesses in preparing and negotiating non-compete\, non-disclosure\, non-solicitation\, and professional services contracts. Matthew serves as outside general counsel for numerous clients including the largest liftboat owner/operator in the Gulf of Mexico. \nLieutenant Commander Lynn A. Buchannan\, Detachment Chief\, Suspension & Revocation National Center of Expertise (S&R NCOE)\, U.S. Coast Guard\nLieutenant Commander Buchanan is the Suspension and Revocation NCOE Detachment Chief. In this capacity\, she leads a team of eight civilians and three military members to provide expert advice to field investigators and the Office of Investigations & Casualty Analysis (CG-INV) at Coast Guard Headquarters. She also assigns attorneys to represent the Coast Guard at administrative hearings\, supports course alignment at TRACEN Yorktown\, and liaises with entities such as the National Maritime Center\, the Transportation Security Administration (TSA)\, and Coast Guard Investigative Services.  She previously served at Atlantic Area Legal (LANT-094) as a Senior Staff attorney\, providing legal advice to operational commands and the Atlantic Area Commander. From 2014-2017\, she served as an Investigating Officer at Marine Safety Unit Port Arthur\, Texas. There\, she investigated various marine casualties to determine their root cause and served as the legal advisor on multiple Suspension and Revocation proceedings. Her other past assignments include: 2010-2012\, Legal and Defense Services at Headquarters; 2012-2013\, U.S. Navy Defense Service Office located at the Washington Navy Yard\, DC; and 2013-2014\, General Law at Headquarters. She also served four years with the U.S. Air Force as a Security Policeman after high school\, leaving the service as an E-4. Lieutenant Commander Buchanan graduated from Minot State University with a BS in Criminal Justice\, Magna Cum Laude\, in 1999. She graduated from the University of North Carolina\, School of Law\, in Chapel Hill\, North Carolina\, in 2003. She is admitted to practice in the State of Florida\, as well as the Middle District of Florida and the Court of Appeals for the Armed Forces. She also recently graduated from the University of South Florida with a Master’s in Public Health. Prior to joining the CG\, LCDR Buchanan was an Assistant State Attorney for Brevard County\, Florida for four years\, prosecuting Misdemeanor crimes. Military awards include the CG Commendation Medal (2)\, the CG Achievement Medal\, the USN/USMC Achievement Medal\, Air Force Achievement Medal\, the Southwest Asia Medal with Device (2)\, Global War on Terrorism Service Medal\, Air Force Nuclear Deterrence Operations Service Medal with “N” device\, Armed Forces Service Medal\, CG Meritorious Team Commendation Ribbon (6)\, and the Air Force Good Conduct Medal. Lieutenant Commander Buchanan enjoys spending time with her husband of 27 years\, Timothy\, their two children\, Jaida (23) and Jacob (15)\, their three cats (Leopold\, George and Fernando)\, and one dog (Annabelle). \nJennifer Mehaffey\, Senior Attorney / National Technical Advisor\, Coast Guard Suspension and Revocation National Center of Expertise (S&R NCOE)\, National Maritime Center\, U.S. Coast Guard\nJennifer represents the Coast Guard in suspension and revocation (S&R) administrative proceedings against a Mariner’s MMC\, as well as developing and implementing policy related to Coast Guard S&R activities. Prior to her position with the Coast Guard S&R NCOE\, Jennifer was an attorney with the Coast Guard Offices of Regulations and Administrative Law and Maritime and International Law\, Prevention Division.  Jennifer also worked with the offshore energy sector as Chief of National Safety Enforcement Division with the Bureau of Safety and Environmental Enforcement (BSEE). Jennifer has a B.A. from Mount Holyoke College\, a J.D. from Roger Williams University\, and a Masters in Marine Affairs from the University of Rhode Island.  She came to D.C. as a Sea Grant Fellow working with the Committee Marine Transportation System (CMTS).  For hobbies\, Jennifer rides her motorcycle and wanders aimlessly to interesting places as much as possible. \nJennifer Porter\, Senior Claims Director\, Thomas Miller\nJennifer is a Senior Claims Director and a member of the Bodily Injury team. She specializes in bodily injury and West Coast pollution/environmental issues. Prior to joining Thomas Miller in 2018\, she was a partner at a West Coast maritime defense firm\, where she specialized in longshore and crew bodily injury matters as well as pollution casualties and emergency response. Jennifer handles significant pollution incidents on the West Coast for the Club and is Vice Chair of the MLA’s Committee on Marine Pollution and Maritime Crimes. Jennifer is on the Board of the MLA and is an active member of US WISTA. Jennifer is originally from California and sailed competitively for Stanford University during her college years. She then earned her law degree at the University of San Francisco Law School where she was an editor for the Maritime Law Journal. \n\nRegistration\n[Register Now!]\nRegistration for this event will close Wednesday\, February 7\, 2024\, at 2:00 PM EDT. \n\nLive Broadcast | FBA Member: $0\nLive Broadcast | Nonmember: $95\nOn-Demand Broadcast | FBA Member: $50\nOn-Demand Broadcast | Nonmember: $95\n\nFor questions regarding this program\, please contact MyLaw CLE by email: registration@mylawcle.com or phone: 877-406-8636.\n\n(!) Please note: CLE for this webinar has not been pre-approved.\nMyLaw and the FBA will seek 1.0 General CLE credit hours in 60-minute states\, and 1.2 General CLE credit hours in 50-minute states. \nPosted credit hours are estimated and subject to respective state approval and rounding rules. CLE qualifications vary by state/jurisdiction. \nFor questions regarding this program\, please contact MyLaw CLE by email: registration@mylawcle.com or phone: 877-406-8636.
URL:https://www.fedbar.org/event/webinar-navigating-rough-seas-what-every-vessel-owner-or-operator-should-know-about-the-amendments-to-title-46-u-s-c-concerning-sexual-assault-and-sexual-harassment-sash-reporting-requirements-an/
CATEGORIES:Admiralty Law Section
END:VEVENT
BEGIN:VEVENT
DTSTART;TZID=America/Los_Angeles:20240207T170000
DTEND;TZID=America/Los_Angeles:20240207T183000
DTSTAMP:20260420T030233
CREATED:20240118T224518Z
LAST-MODIFIED:20240131T163821Z
UID:443625-1707325200-1707330600@www.fedbar.org
SUMMARY:Northern District of California Chapter: Restoration and Recovery of Art Stolen by Nazis
DESCRIPTION:This will be a panel discussion of the efforts to recover stolen artwork by the Nazis during WWII. \n\nRICHARD ARONOWITZ—Global Head of Restitution for Christies\nJUDGE SIMON FRANKEL—San Francisco Superior Court. Prior the joining the bench\, he litigated cases involving the return of art.\nPATRICK RYAN—attorney at Bartko LLP who has been involved in litigation to recover stolen art.\nKARREN SHOROFSKY—Professor at the University of San Francisco\, Museum Studies Graduate Program & School of Law. Prof. Shorofsky has spent most of her own law career focused on legal issues related to the arts\, technology\, and museums and other nonprofit institutions. Before joining USF\, Karren worked in the general counsel’s office of the Museum of Modern Art in New York and practiced Intellectual Property law with major San Francisco law firms as an Associate\, Partner and Of Counsel.\n\n\nRegistration\n[Register Online]\nhttps://ndhistoricialsociety.ticketleap.com/stolenartifacts/\nRSVP and Purchase Tickets Online by February 6\, 2024 \n\nFBA MEMBERS – IN-PERSON $30.00\nNON-FBA MEMBERS – IN-PERSON $50.00\nCOURT\, STUDENTS\, GOV’T /NON-PROFIT – IN-PERSON $0.00\nFBA MEMBERS – VIRTUAL $20.00\nNON-FBA MEMBERS – VIRTUAL $30.00\nCOURT\, STUDENTS\, GOV’T/NON-PROFIT – VIRTUAL $0.00\n\nQuestions regarding this event can be directed to admin@fbandca.org
URL:https://www.fedbar.org/event/northern-district-of-california-chapter-restoration-and-recovery-of-art-stolen-by-nazis/
LOCATION:Phillip Burton Federal Building & United States Courthouse\, 450 Golden Gate Avenue\, San Francisco\, CA\, 94102\, United States
CATEGORIES:Northern District of California Chapter
GEO:37.7819473;-122.4181453
X-APPLE-STRUCTURED-LOCATION;VALUE=URI;X-ADDRESS=Phillip Burton Federal Building & United States Courthouse 450 Golden Gate Avenue San Francisco CA 94102 United States;X-APPLE-RADIUS=500;X-TITLE=450 Golden Gate Avenue:geo:-122.4181453,37.7819473
END:VEVENT
BEGIN:VEVENT
DTSTART;TZID=America/Chicago:20240208T120000
DTEND;TZID=America/Chicago:20240208T120000
DTSTAMP:20260420T030233
CREATED:20240108T201638Z
LAST-MODIFIED:20240207T192859Z
UID:439826-1707393600-1707393600@www.fedbar.org
SUMMARY:Webinar: Immigration Law Section: Current Border Issues and Policies
DESCRIPTION:Join the Immigration Law Section’s Newer Lawyers Division for their webinar series. This webinar series enables attendees to receive education and mentoring from seasoned immigration attorneys in specific areas of immigration law. Panelists Priscilla Orta and Taylor Levy will discuss current border issues and policies. \nPresented by the Immigration Law Section \n\nPresenters\n\nTaylor Levy\, Taylor Levy Law \nTaylor Levy is an immigration attorney in San Francisco\, California. After a decade working with various nonprofits\, Taylor founded her own legal consulting firm dedicated to protecting the rights of asylum-seekers arriving at our southern border. Taylor provides education and advocacy around issues affecting asylum-seekers at the border\, including mentoring other attorneys\, presenting at conferences\, speaking to the press\, and hosting professional delegations visiting the area.  Taylor received her J.D. from Mitchell Hamline School of Law and holds an M.A. from the University of Texas at El Paso and a B.A. from the University of Colorado. \n\nPriscilla Orta\, Lawyers for Good Government \nPriscilla Orta supervises Lawyer’s for Good Government’s (L4GG) efforts at the border with Project Corazon\, which was created to defend the rights of migrants in the face of inhumane immigration policies. Priscilla has worked in immigration law and in immigrant organizing since graduating law school. In total\, Priscilla has spent seven years in Brownsville\, Texas\, and considers the Valley her home.  Priscilla has a JD from Columbia Law School and a BA in History from Harvard College. \n  \n  \n\nRegistration\nRegistration is Closed \nRegistration Fees \n\nComplimentary for FBA Members & Non-Members\n\nLive Captioning: Closed captioning is available for all virtual webcasts. \nInternet Requirements: Virtual programs require suitable internet strength to stream online panels. A minimum internet connection of 800 Kbps is recommended for an optimal attendee experience. Test your connection here.  \n\nCLE\nPlease note CLE will not be offered for this event.  \n\nFrequently Asked Questions \nQ: How do I access the virtual webinar?\nA: Each webinar will have a unique link to watch the live broadcast. Registered attendees will receive login instructions via a calendar invitations 24 hours prior to the webinar. \nQ: Will recordings of the sessions be available after the event?\nA: Approved sessions will be available for registrants to view live and on-demand following the webinar. \nQ: Who do I contact for more information?\nA: Please contact sections@fedbar.org for any other questions. \n\nEmail Communication Policy\nBy registering for this event\, you agree to receive email communication from the Federal Bar Association and affiliated sponsors of the program concerning event details\, Continuing Legal Education certification\, programming changes\, upcoming events\, surveys\, and post-event communications. \nRecording Disclaimer\nBy registering for an online FBA program\, you agree to the recording of audio and visual content presented during the live event and consent to subsequent use of the recording by the FBA. You agree that the recording is the sole property of the FBA and that the recording may be used by the FBA in any manner in its sole and absolute discretion. This recording may include questions and poll responses provided by you during the live event. If you do not consent to the recording and the FBA’s use of the same\, do not register for the event. \nIf you have any questions regarding this program\, please contact Shaniece Rigans\, Professional Development Coordinator\, at srigans@fedbar.org
URL:https://www.fedbar.org/event/webinar-immigration-law-section-current-border-issues-and-policies/
CATEGORIES:Immigration Law Section
END:VEVENT
BEGIN:VEVENT
DTSTART;TZID=America/New_York:20240208T160000
DTEND;TZID=America/New_York:20240208T170000
DTSTAMP:20260420T030233
CREATED:20240119T153002Z
LAST-MODIFIED:20240402T163752Z
UID:443869-1707408000-1707411600@www.fedbar.org
SUMMARY:Webinar: Educational Outreach for Federal Judges
DESCRIPTION:In pursuit of its mission\, the Federal Bar Association (FBA) monitors legislation and educates members of the Legislative and Executive Branches about issues affecting the federal legal system and the administration of justice. Wider involvement from the broader membership\, including federal judges\, is essential. The experiences and insights of federal judges can be highly relevant and informative for legislators; however\, the prospect of “lobbying” or direct advocacy to government officials can raise questions about what is and is not permitted by the governing codes of conduct. We invite you to join us for a discussion on the guidelines established by the FBA to support the Judiciary’s engagement in educational outreach. \nThe FBA Educational Outreach Guidelines for Federal Judges and Nonjudicial Court Employees can be found here. \nSponsored by the Judiciary Division  \n\nModerator\nHon. Beth Bloom\nFBA Judiciary Division Chair\nDistrict Judge\nU.S. District Court for the Southern District of Florida \nPresenters\nHon. Paul M. Black\nChief Judge\nU.S. Bankruptcy Court for the Western District of Virginia \nHon. Esther Salas\nDistrict Judge\nU.S. District Court for the District of New Jersey \nHon. Mimi Tsankov\nPresident\nNational Association of Immigration Judges (NAIJ) \nCissy Jackson\nGovernment Relations Counsel\nArentFox Schiff
URL:https://www.fedbar.org/event/webinar-educational-outreach-for-federal-judges/
CATEGORIES:Judiciary Division
END:VEVENT
END:VCALENDAR