BEGIN:VCALENDAR
VERSION:2.0
PRODID:-//Federal Bar Association - ECPv6.15.15//NONSGML v1.0//EN
CALSCALE:GREGORIAN
METHOD:PUBLISH
X-ORIGINAL-URL:https://www.fedbar.org
X-WR-CALDESC:Events for Federal Bar Association
REFRESH-INTERVAL;VALUE=DURATION:PT1H
X-Robots-Tag:noindex
X-PUBLISHED-TTL:PT1H
BEGIN:VTIMEZONE
TZID:America/Chicago
BEGIN:DAYLIGHT
TZOFFSETFROM:-0600
TZOFFSETTO:-0500
TZNAME:CDT
DTSTART:20230312T080000
END:DAYLIGHT
BEGIN:STANDARD
TZOFFSETFROM:-0500
TZOFFSETTO:-0600
TZNAME:CST
DTSTART:20231105T070000
END:STANDARD
BEGIN:DAYLIGHT
TZOFFSETFROM:-0600
TZOFFSETTO:-0500
TZNAME:CDT
DTSTART:20240310T080000
END:DAYLIGHT
BEGIN:STANDARD
TZOFFSETFROM:-0500
TZOFFSETTO:-0600
TZNAME:CST
DTSTART:20241103T070000
END:STANDARD
BEGIN:DAYLIGHT
TZOFFSETFROM:-0600
TZOFFSETTO:-0500
TZNAME:CDT
DTSTART:20250309T080000
END:DAYLIGHT
BEGIN:STANDARD
TZOFFSETFROM:-0500
TZOFFSETTO:-0600
TZNAME:CST
DTSTART:20251102T070000
END:STANDARD
END:VTIMEZONE
BEGIN:VTIMEZONE
TZID:America/New_York
BEGIN:DAYLIGHT
TZOFFSETFROM:-0500
TZOFFSETTO:-0400
TZNAME:EDT
DTSTART:20230312T070000
END:DAYLIGHT
BEGIN:STANDARD
TZOFFSETFROM:-0400
TZOFFSETTO:-0500
TZNAME:EST
DTSTART:20231105T060000
END:STANDARD
BEGIN:DAYLIGHT
TZOFFSETFROM:-0500
TZOFFSETTO:-0400
TZNAME:EDT
DTSTART:20240310T070000
END:DAYLIGHT
BEGIN:STANDARD
TZOFFSETFROM:-0400
TZOFFSETTO:-0500
TZNAME:EST
DTSTART:20241103T060000
END:STANDARD
BEGIN:DAYLIGHT
TZOFFSETFROM:-0500
TZOFFSETTO:-0400
TZNAME:EDT
DTSTART:20250309T070000
END:DAYLIGHT
BEGIN:STANDARD
TZOFFSETFROM:-0400
TZOFFSETTO:-0500
TZNAME:EST
DTSTART:20251102T060000
END:STANDARD
END:VTIMEZONE
BEGIN:VTIMEZONE
TZID:America/Los_Angeles
BEGIN:DAYLIGHT
TZOFFSETFROM:-0800
TZOFFSETTO:-0700
TZNAME:PDT
DTSTART:20230312T100000
END:DAYLIGHT
BEGIN:STANDARD
TZOFFSETFROM:-0700
TZOFFSETTO:-0800
TZNAME:PST
DTSTART:20231105T090000
END:STANDARD
BEGIN:DAYLIGHT
TZOFFSETFROM:-0800
TZOFFSETTO:-0700
TZNAME:PDT
DTSTART:20240310T100000
END:DAYLIGHT
BEGIN:STANDARD
TZOFFSETFROM:-0700
TZOFFSETTO:-0800
TZNAME:PST
DTSTART:20241103T090000
END:STANDARD
BEGIN:DAYLIGHT
TZOFFSETFROM:-0800
TZOFFSETTO:-0700
TZNAME:PDT
DTSTART:20250309T100000
END:DAYLIGHT
BEGIN:STANDARD
TZOFFSETFROM:-0700
TZOFFSETTO:-0800
TZNAME:PST
DTSTART:20251102T090000
END:STANDARD
END:VTIMEZONE
BEGIN:VEVENT
DTSTART;TZID=America/Chicago:20240123T100000
DTEND;TZID=America/Chicago:20240123T110000
DTSTAMP:20260419T205330
CREATED:20240118T223638Z
LAST-MODIFIED:20240118T223638Z
UID:443621-1706004000-1706007600@www.fedbar.org
SUMMARY:Oklahoma City Chapter: Appellate Advocacy Panel
DESCRIPTION:Join us for the Appellate Advocacy Panel on Tuesday\, Jan 23\, 2024 at the United States Courthouse. This in-person event offers a unique opportunity to learn from experienced legal professionals in an informal setting. Whether you’re a law student\, attorney\, or simply interested in the field\, this panel discussion is perfect for you. \nDuring the event\, our esteemed panelists will share their insights and expertise on appellate advocacy\, covering various topics such as effective argument techniques\, persuasive writing\, and navigating the appeals process. You’ll gain valuable knowledge and practical tips that can enhance your legal skills and improve your chances of success in appellate court. This is your chance to engage with seasoned attorneys and judges\, ask questions\, and network with like-minded individuals. Don’t miss out on this exciting opportunity to expand your legal horizons and connect with professionals in the field. \nMark your calendar and make sure to arrive on time. We look forward to seeing you at the Appellate Advocacy Panel at the United States Courthouse on Tue\, Jan 23\, 2024. Get ready for a day of insightful discussions and valuable connections! \n\nCHIEF JUDGE JEROME HOLMES | United States Court of Appeals for the Tenth Circuit\nJUDGE ROBERT BACHARACH | United States Court of Appeals for the Tenth Circuit\n\n\nRegistration\nRSVP and Purchase Tickets Online by January 22\, 2024\nwww.eventbrite.com/e/appellate-advocacy-panel-tickets-796970238437 \n\nFBA MEMBERS – Free\nNON-FBA MEMBERS – $30\n\n\nCLE\nThe Oklahoma City Chapter is seeking 1 CLE Credit (OK Bar Provider Only) for this event. \n\nQuestions regarding this event can be directed to Amanda Finch at OklahomaCityFBA@okcfedbar.com or 405-234-3257.
URL:https://www.fedbar.org/event/oklahoma-city-chapter-appellate-advocacy-panel/
LOCATION:William J. Holloway\, Jr. Courthouse (Jury Assembly Room)\, 200 NW 4th Street\, Oklahoma City\, OK\, 73102\, United States
CATEGORIES:Oklahoma City Chapter
GEO:35.4715905;-97.5168558
X-APPLE-STRUCTURED-LOCATION;VALUE=URI;X-ADDRESS=William J. Holloway Jr. Courthouse (Jury Assembly Room) 200 NW 4th Street Oklahoma City OK 73102 United States;X-APPLE-RADIUS=500;X-TITLE=200 NW 4th Street:geo:-97.5168558,35.4715905
END:VEVENT
BEGIN:VEVENT
DTSTART;TZID=America/Chicago:20240123T113000
DTEND;TZID=America/Chicago:20240123T133000
DTSTAMP:20260419T205330
CREATED:20240110T215511Z
LAST-MODIFIED:20240110T215511Z
UID:440686-1706009400-1706016600@www.fedbar.org
SUMMARY:Mississippi Chapter: January CLE Luncheon
DESCRIPTION:The Mississippi Chapter of the Federal Bar Association is hosting a CLE luncheon on Tuesday\, January 23\, 2024\, at the Capital Club in downtown Jackson\, Mississippi. The event will feature Chief Judge Daniel P. Jordan III and will allow the FBA an opportunity to thank Judge Keith Ball for his years of service. \nThe buffet line opens at 11:30 a.m.\, and the program begins at noon. Please pre-register so that we can relay the anticipated attendance to the Capital Club. \n\nRegistration\n[RSVP Online] no later than January 23\nhttps://forms.gle/ZSGwARhvQUJkpNKE7 \n\n$25 FBA Member\n$30 Nonmember\nNo Cost to Federal Judges\n\nAttendees may pay in advance via PayPal or at the door by cash or check. Checks can be made payable to Federal Bar Association\, MS Chapter. Regardless of payment method\, all attendees are encouraged to RSVP via the above link. \n\nCLE\nThe Mississippi Chapter is seeking 1.0 CLE Credit for this event. \n\nQuestions regarding this event can be directed to Candace Gregory (Candace.Gregory@phelps.com)
URL:https://www.fedbar.org/event/mississippi-chapter-january-cle-luncheon-2/
LOCATION:The Capital Club\, 125 South Congress Street\, Jackson\, MS\, 39215
CATEGORIES:Mississippi Chapter
GEO:32.2988372;-90.1833772
X-APPLE-STRUCTURED-LOCATION;VALUE=URI;X-ADDRESS=The Capital Club 125 South Congress Street Jackson MS 39215;X-APPLE-RADIUS=500;X-TITLE=125 South Congress Street:geo:-90.1833772,32.2988372
END:VEVENT
BEGIN:VEVENT
DTSTART;TZID=America/New_York:20240124T140000
DTEND;TZID=America/New_York:20240124T150000
DTSTAMP:20260419T205330
CREATED:20231206T230739Z
LAST-MODIFIED:20240124T164943Z
UID:427974-1706104800-1706108400@www.fedbar.org
SUMMARY:Webinar: Bankruptcy on Fire: A Discussion of Cases in the U.S. Supreme Court and Other Courts that Will Spark Interest in 2024
DESCRIPTION:Join us for an essential conversation on pending bankruptcy issues. This practical\, judge-led conversation will emphasize the current pending U.S. Supreme Court bankruptcy and appeals cases\, including key points that every practitioner should understand and potential current and future implications. Featured panelists include Hon. Elizabeth Gunn\, Bankruptcy Judge\, District of Columbia\, Hon. Andrew Altenburg\, Jr.\, Bankruptcy Judge\, District of New Jersey\, and Hon. John Gregg\, Bankruptcy Judge\, Western District of Michigan. Experienced practitioners and rising professionals alike are encouraged to attend. \nPresented by the Bankruptcy Law Section. \nFor questions regarding this program\, please contact MyLaw CLE by email: registration@mylawcle.com or phone: 877-406-8636. \n  \n\nAbout the Presenters\nModerator: Elizabeth Rogers\, Associate\, Stevens & Lee\, P.C.\nElizabeth A. Rogers is a bankruptcy and financial restructuring associate at Stevens & Lee\, P.C. in Wilmington\, Del. Liz served as a judicial law clerk to the Hon. Guy R. Humphrey\, United States Bankruptcy Judge for the Southern District of Ohio\, from 2021 – 2023. She graduated from Georgetown University Law Center in 2019. Liz is a member of the FBA bankruptcy section’s leadership board. \n  \nHon. Andrew Altenburg\, Jr.\, Bankruptcy Judge\, District of New Jersey\nAndrew B. Altenburg\, Jr. was appointed to the bench for the United States Bankruptcy Court for the District of New Jersey in Camden\, New Jersey\, on May 19\, 2014. Prior to his appointment\, Judge Altenburg served as Law Clerk to the Honorable Daniel J. Moore\, United States Bankruptcy Judge for the District of New Jersey in Newark\, New Jersey\, as an associate with the firm of Davis\, Reberkenny & Abramowitz in Cherry Hill\, New Jersey\, and finally as the sole shareholder of Andrew B. Altenburg\, Jr.\, Esquire P.C. in Marlton\, New Jersey. Judge Altenburg concentrated his practice in bankruptcy law\, credit union representation\, and debtor/creditor rights. Judge Altenburg received his B.A. degree\, cum laude\, from Niagara University and his J.D. degree from the University of Dayton School of Law. He is admitted to the state bars of New Jersey and Pennsylvania as well as\, the District Courts of New Jersey and the Eastern District of Pennsylvania\, and the Third Circuit Court of Appeals. He is a member of the National Conference of Bankruptcy Judges and has served on several committees for that organization. Judge Altenburg is proud to serve as the court liaison to The Honorable Judith H. Wizmur Bankruptcy Pro Bono Project at Rutgers Law School – Camden. Judge Altenburg has served as an editor\, author\, and frequent speaker/panelist to many professional and educational organizations including: the Association of the Federal Bar of New Jersey; New Jersey Institute for Continuing Legal Education; New Jersey State Bar Association; various local bar associations and groups; local schools; Eastern District of Pennsylvania Bankruptcy Conference; Pennsylvania Bar Institute; ABI; AIRA; IWIRC; NACBA; NAFER; NCBJ; NYIC; TMA; Western District of Michigan Federal Bar Association; Fordham Law School; Mississippi Bankruptcy Conference; and the National Constitution Center. Before his appointment\, Judge Altenburg was an author and the Editor-In-Chief of the 2005\, 2007\, and 2009 BANKRUPTCY PRACTICE: Skills & Methods textbook and the 2012 BANKRUPTCY: PRACTICAL SKILLS SERIES textbook for the New Jersey Institute for Continuing Legal Education. \nHon. John Gregg\, Bankruptcy Judge\, Western District of Michigan\nHon. John T. Gregg was appointed as a bankruptcy judge in the United States Bankruptcy Court for the Western District of Michigan on July 17\, 2014.  He was recently appointed to the Bankruptcy Appellate Panel for the Sixth Circuit.  Before his appointment\, Judge Gregg was a partner with the law firm of Barnes & Thornburg LLP\, where he focused on corporate restructuring\, bankruptcy and other insolvency matters.  Judge Gregg was the chair of the education committee of the National Conference of Bankruptcy Judges in 2022\, serves on the board of directors of the American Bankruptcy Institute\, is a fellow of the American College of Bankruptcy\, and is a member of the American Law Institute.  He earned his B.A. from the University of Michigan and his J.D. from DePaul University College of Law.  Judge Gregg is a frequent writer and speaker on bankruptcy and other commercial issues.  He has written and co-edited numerous secondary sources\, including Collier Guide to Chapter 11\, published by LexisNexis\, Strategies for Secured Creditors in Workouts and Foreclosures\, published by ALI-ABA\, Issues for Suppliers and Customers of Financially Troubled Auto Suppliers\, published by the American Bankruptcy Institute\, Michigan Security Interests in Personal Property\, published by the Institute of Continuing Legal Education\, Handling Consumer and Small Business Bankruptcies in Michigan\, published by the Institute of Continuing Legal Education\, Interrupted! Understanding Bankruptcy’s Effects on Manufacturing Supply Chains\, published by the American Bankruptcy Institute\, and Receiverships in Michigan\, published by the Institute of Continuing Legal Education. \nHon. Elizabeth Gunn\, Bankruptcy Judge\, District of Columbia\nHon. Elizabeth L. Gunn was appointed as a bankruptcy judge for the District of Columbia on September 4\, 2020. A COVID-era selection and appointment\, she was sworn in by Zoom from her living room. Before her appointment\, Judge Gunn served as an Assistant Attorney General for the Commonwealth of Virginia as the bankruptcy specialist for the Division of Child Support Enforcement. In 2017\, Judge Gunn was recognized by the American Bankruptcy Institute as a member of its inaugural class of 40 Under 40 and in 2022 was recognized by the Bar Association of the District of Columbia as its Judicial Honoree and recipient of the BADC’s Suzanne V. Richards Foundation Grant. Judge Gunn serves as an Associate Editor of the American Bankruptcy Institute Law Journal and is a Coordinating and Associate Editor of the American Bankruptcy Institute Law Journal. Judge Gunn sits on the boards of the Federal Bar Association Bankruptcy Section\, International Women’s Insolvency and Restructuring Confederation\, American Bar Association National Conference of Federal Trial Judges\, and the Chesapeake Chapter of the Turnaround Management Association. She is a member of the Walter Chandler Bankruptcy Inn of Court and is Board Certified in Consumer Law by the American Board of Certification. Judge Gunn received her BA\, cum laude\, from Willamette University in Salem\, Oregon and her law degree\, cum laude\, from Boston College Law School. \n\nRegistration\n[Register Now!]\nRegistration for this event will close Wednesday\, January 24\, 2024\, at 2:00 PM EDT. \n\nLive Broadcast | FBA Member: $0\nLive Broadcast | Nonmember: $95\nOn-Demand Broadcast | FBA Member: $50\nOn-Demand Broadcast | Nonmember: $95\n\nFor questions regarding this program\, please contact MyLaw CLE by email: registration@mylawcle.com or phone: 877-406-8636.\n\nCLE\n(!) Please note: CLE for this webinar has not been pre-approved.\nMyLawCLE and the FBA will seek 1.0 General CLE credit hours in 60-minute states\, and 1.2 General CLE credit hours in 50-minute states. \nPosted credit hours are estimated and subject to respective state approval and rounding rules. CLE qualifications vary by state/jurisdiction. \n\nFor questions regarding this program\, please contact MyLaw CLE by email: registration@mylawcle.com or phone: 877-406-8636.
URL:https://www.fedbar.org/event/webinar-a-discussion-of-todays-hottest-bankruptcy-cases/
CATEGORIES:Bankruptcy Law Section
END:VEVENT
BEGIN:VEVENT
DTSTART;TZID=America/Los_Angeles:20240124T163000
DTEND;TZID=America/Los_Angeles:20240124T173000
DTSTAMP:20260419T205330
CREATED:20240104T161622Z
LAST-MODIFIED:20240104T162133Z
UID:438295-1706113800-1706117400@www.fedbar.org
SUMMARY:Northern District of California Chapter: Making the Northern District's ADR Panel Work For You
DESCRIPTION:How the NDCA Flagship Program Can Help Your Clients in Cases Big and Small\nOur ADR program is a model for our nation’s District Courts. Make it work for you. Hear from experienced practitioners and neutrals about how our all-star ADR panel can serve your clients in the most complex\, high-stakes\, and fractious cases. Learn how the program is evolving and changing to meet today’s challenges. In-person reception to follow. \nSpeakers: \n\nUnited States Magistrate Judge Sallie Kim\, ADR Magistrate Judge for the Northern District of California\nJill Kopeikin\, ADR Program Director\, Northern District of California\nMindy Morton\, Partner\, Procopio\, Cory\, Hargreaves & Savitch LLP\nBijal Vakil\, Partner and Global Co-Head of Technology\, Allen & Overy LLP\nand Moderated by: Deborah Gitin\, Senior Counsel\, U.S. Department of Justice\, Environmental Enforcement Section (appearing in personal capacity)\n\nRegistration\nRSVP and Purchase Tickets Online by January 23\, 2024\nhttps://fbandca.ticketleap.com/adr2024/ \n\nFBA MEMBERS – IN-PERSON $30.00\nNON-FBA MEMBERS – IN-PERSON $50.00\nCOURT\, STUDENTS\, GOV’T /NON-PROFIT – IN-PERSON $0.00\nFBA MEMBERS – VIRTUAL $20.00\nNON-FBA MEMBERS – VIRTUAL $35.00\nCOURT\, STUDENTS\, GOV’T/NON-PROFIT – VIRTUAL $0.00\n\nCLE\nThe Northern District of California Chapter is seeking 1 CLE Credit ((CA Bar Provider Only) for this event. \nQuestions regarding this event can be directed to admin@fbandca.org or 916-849-8164
URL:https://www.fedbar.org/event/northern-district-of-california-making-the-northern-districts-adr-panel-work-for-you/
LOCATION:Thelton E. Henderson Ceremonial Courtroom\, 19th Floor\, 450 Golden Gate Avenue\, San Francisco\,\, 94102\, United States
CATEGORIES:Northern District of California Chapter
GEO:37.7819473;-122.4181453
X-APPLE-STRUCTURED-LOCATION;VALUE=URI;X-ADDRESS=Thelton E. Henderson Ceremonial Courtroom 19th Floor 450 Golden Gate Avenue San Francisco 94102 United States;X-APPLE-RADIUS=500;X-TITLE=450 Golden Gate Avenue:geo:-122.4181453,37.7819473
END:VEVENT
BEGIN:VEVENT
DTSTART;TZID=America/New_York:20240125T140000
DTEND;TZID=America/New_York:20240125T150000
DTSTAMP:20260419T205330
CREATED:20240104T174915Z
LAST-MODIFIED:20240118T171238Z
UID:438305-1706191200-1706194800@www.fedbar.org
SUMMARY:Webinar: Honoring the Legacy of Associate Justice Sandra Day O’Connor
DESCRIPTION:The Federal Bar Association is honored to welcome three of Justice Sandra Day O’Connor’s incredibly successful former law clerks – Professor Lisa Griffin (Duke)\, Professor Oona Hathaway (Yale)\, and Silvija Strikis (Partner\, Kellogg\, Hansen\, Todd\, Figel & Frederick\, PLLC) – to discuss her 25 years as an Associate Justice on the U.S. Supreme Court. Justice O’Connor was the first woman appointed to the U.S. Supreme Court. She was known on the court as a majority builder whenever possible and cared about the civility and cohesion of the Court. Justice O’Connor continued her work promoting the rule of law and judicial independence after her retirement from the Supreme Court. Please join us in honoring a true pioneer. \n\n\nPresented by the Professional Development Committee \n\nAbout the Moderator\nBonnie Greenberg\, Retired\, Department of Justice\n \nBonnie S. Greenberg was with the Department of Justice (DOJ) for over 37 years and currently serves as a director on the Federal Bar Association (FBA) Board and Chair of the FBA’s Professional Development Committee.  She was an Assistant United States Attorney for the District of Maryland for most of her time at DOJ. \nMs. Greenberg has served the Maryland Chapter of the FBA in a variety of capacities\, most notably as Chapter President and Chapter Delegate. \n  \n\n\n  \nAbout the Presenters\nProfessor Lisa Kern Griffin\, Candace M. Carroll and Leonard B. Simon Distinguished Professor of Law\, Duke University \nLisa Kern Griffin is the Candace M. Carroll and Leonard B. Simon Distinguished Professor of Law at Duke University. She teaches and writes about constitutional criminal procedure\, evidence\, and federal criminal justice. Her recent scholarship concerns the status and significance of silence in criminal investigations\, the relationship between constructing narratives and achieving factual accuracy in the courtroom\, the criminalization of dishonesty in legal institutions\, and the impact of popular culture about the criminal justice system. Griffin’s book\, False Honesty: Truth\, Lies\, and the Misleading Law of Questioning\, is forthcoming from Cambridge University Press. Her academic articles have appeared in the California Law Review\, the Columbia Law Review\, the Duke Law Journal\, the Georgetown Law Journal\, the New York University Law Review\, the North Carolina Law Review\, the Texas Law Review\, and the online editions of the Cornell Law Review and the Michigan Law Review\, among others. She has also edited and contributed to volumes of Law & Contemporary Problems and authored chapters in several books. Her opinion essays have been published in various outlets\, including The Atlantic\, Slate\, SCOTUSblog\, and The New York Times. Griffin joined the Duke Law faculty in 2008 and is the recipient of the Distinguished Teaching Award and the A. Kenneth Pye Award for Excellence in Education. From 2021-2023\, she served as the Senior Associate Dean for Faculty and Research. She previously taught at the UCLA School of Law and she will be a visiting professor at Harvard Law School in 2024. Griffin is also an elected member of the American Law Institute\, has filed amicus briefs with the United States Supreme Court\, served as a legal advisor to the Senate Select Committee on Intelligence\, and has testified before the United States Congress on public corruption prosecutions and proposed revisions to the fraud statutes. \n\n\nProfessor Oona A. Hathaway\, Gerard C. and Bernice Latrobe Smith Professor of International Law\, Yale Law School \nOona A. Hathaway is the Gerard C. and Bernice Latrobe Smith Professor of International Law at Yale Law School\, Professor of International Law and Area Studies at the Yale University MacMillan Center\, Professor of the Yale University Department of Political Science\, and Director of the Yale Law School Center for Global Legal Challenges. She is also a non-resident scholar at the Carnegie Endowment for Peace. She has been a member of the Advisory Committee on International Law for the Legal Adviser at the United States Department of State since 2005. In 2014-15\, she took leave to serve as Special Counsel to the General Counsel at the U.S. Department of Defense\, where she was awarded the Office of the Secretary of Defense Award for Excellence. She is the Director of the annual Yale Cyber Leadership Forum and a member of the Council on Foreign Relations. She has published more than forty law review articles\, and The Internationalists: How a Radical Plan to Outlaw War Remade the World (with Scott Shapiro\, 2017).  She is also Executive Editor of and regular author at Just Security\, and she writes often for popular publications such as The Washington Post\, New York Times\, The Atlantic\, and Foreign Affairs. \nSilvija Strikis\, Partner\, Kellogg\, Hansen\, Todd\, Figel & Frederick\, PLLC\n \nSilvija Strikis is a partner at Kellogg\, Hansen\, Todd\, Figel & Frederick\, PLLC and has deep experience representing a wide range of clients in securities fraud\, professional malpractice\, False Claims Act\, products liability\, and other cases.  Silvija’s practice is built on a strong financial and economics background.  Before and during law school\, she practiced as a Certified Public Accountant\, providing her with the expertise to advise clients about\, and to litigate\, issues involving claims of accounting and auditing malpractice\, as well as other financial issues.  Her work on behalf of relators in False Claims Act cases has resulted in noteworthy verdicts and settlements\, including a $885 million combined civil and criminal settlement with AmerisourceBergen that is one of the largest pharmaceutical settlements in history\,  and one of the largest whistleblower verdicts upheld on appeal in Medicare fraud case against Florida skilled nursing facilities that resulted in judgment of more than $255 million and for which Silvija was named a “2017 Winning Litigator” for her role as lead counsel. \n  \n\nRegistration\n[Register Now!]\nRegistration for this event will close Wednesday\, January 24\, 2024\, at 2:00 PM EDT. \n\nFBA Member: $0\nNonmember: $95
URL:https://www.fedbar.org/event/webinar-honoring-the-legacy-of-associate-justice-sandra-day-oconnor/
END:VEVENT
END:VCALENDAR