BEGIN:VCALENDAR
VERSION:2.0
PRODID:-//Federal Bar Association - ECPv6.15.15//NONSGML v1.0//EN
CALSCALE:GREGORIAN
METHOD:PUBLISH
X-ORIGINAL-URL:https://www.fedbar.org
X-WR-CALDESC:Events for Federal Bar Association
REFRESH-INTERVAL;VALUE=DURATION:PT1H
X-Robots-Tag:noindex
X-PUBLISHED-TTL:PT1H
BEGIN:VTIMEZONE
TZID:America/Los_Angeles
BEGIN:DAYLIGHT
TZOFFSETFROM:-0800
TZOFFSETTO:-0700
TZNAME:PDT
DTSTART:20230312T100000
END:DAYLIGHT
BEGIN:STANDARD
TZOFFSETFROM:-0700
TZOFFSETTO:-0800
TZNAME:PST
DTSTART:20231105T090000
END:STANDARD
BEGIN:DAYLIGHT
TZOFFSETFROM:-0800
TZOFFSETTO:-0700
TZNAME:PDT
DTSTART:20240310T100000
END:DAYLIGHT
BEGIN:STANDARD
TZOFFSETFROM:-0700
TZOFFSETTO:-0800
TZNAME:PST
DTSTART:20241103T090000
END:STANDARD
BEGIN:DAYLIGHT
TZOFFSETFROM:-0800
TZOFFSETTO:-0700
TZNAME:PDT
DTSTART:20250309T100000
END:DAYLIGHT
BEGIN:STANDARD
TZOFFSETFROM:-0700
TZOFFSETTO:-0800
TZNAME:PST
DTSTART:20251102T090000
END:STANDARD
END:VTIMEZONE
BEGIN:VTIMEZONE
TZID:America/New_York
BEGIN:DAYLIGHT
TZOFFSETFROM:-0500
TZOFFSETTO:-0400
TZNAME:EDT
DTSTART:20230312T070000
END:DAYLIGHT
BEGIN:STANDARD
TZOFFSETFROM:-0400
TZOFFSETTO:-0500
TZNAME:EST
DTSTART:20231105T060000
END:STANDARD
BEGIN:DAYLIGHT
TZOFFSETFROM:-0500
TZOFFSETTO:-0400
TZNAME:EDT
DTSTART:20240310T070000
END:DAYLIGHT
BEGIN:STANDARD
TZOFFSETFROM:-0400
TZOFFSETTO:-0500
TZNAME:EST
DTSTART:20241103T060000
END:STANDARD
BEGIN:DAYLIGHT
TZOFFSETFROM:-0500
TZOFFSETTO:-0400
TZNAME:EDT
DTSTART:20250309T070000
END:DAYLIGHT
BEGIN:STANDARD
TZOFFSETFROM:-0400
TZOFFSETTO:-0500
TZNAME:EST
DTSTART:20251102T060000
END:STANDARD
END:VTIMEZONE
BEGIN:VEVENT
DTSTART;TZID=America/Los_Angeles:20240117T170000
DTEND;TZID=America/Los_Angeles:20240117T183000
DTSTAMP:20260421T082754
CREATED:20240104T162331Z
LAST-MODIFIED:20240104T162331Z
UID:438299-1705510800-1705516200@www.fedbar.org
SUMMARY:Northern District of California Chapter: Meet the Newest NDCA Magistrates
DESCRIPTION:This event will be an introduction to Judges Lisa Cisneros\, Peter Kang moderated by Chief Judge Donna Ryu. There will also be a discussion of the new role Magistrate Judge Joseph Spero has as a Recall Magistrate Judge. We will conduct the swearing in of new officers before the event and hold a short membership meeting. \n\nMagistrate Judge Lisa Cisneros\nMagistrate Judge Peter Kang\nMagistrate Judge Joseph Spero\nChief Magistrate Judge Donna M. Ryu\n\nRegistration\nRSVP and Purchase Tickets Online by January 16\, 2024\nhttps://MeetthenewestNDCAMJs.eventbrite.com \n\nFBA MEMBERS – IN-PERSON $30.00\nNON-FBA MEMBERS – IN-PERSON $50.00\nCOURT\, STUDENTS\, GOV’T /NON-PROFIT – IN-PERSON $0.00\nFBA MEMBERS – VIRTUAL $20.00\nNON-FBA MEMBERS – VIRTUAL $35.00\nCOURT\, STUDENTS\, GOV’T/NON-PROFIT – VIRTUAL $0.00\n\nCLE\nThe Northern District of California Chapter is seeking 1.5 CLE Credit (CA Bar Provider Only) for this event. \nQuestions regarding this event can be directed to admin@fbandca.org or 916-849-8164
URL:https://www.fedbar.org/event/northern-district-of-california-chapter-meet-the-newest-ndca-magistrates/
LOCATION:Thelton E. Henderson Ceremonial Courtroom\, 19th Floor\, 450 Golden Gate Avenue\, San Francisco\,\, 94102\, United States
CATEGORIES:Northern District of California Chapter
GEO:37.7819473;-122.4181453
X-APPLE-STRUCTURED-LOCATION;VALUE=URI;X-ADDRESS=Thelton E. Henderson Ceremonial Courtroom 19th Floor 450 Golden Gate Avenue San Francisco 94102 United States;X-APPLE-RADIUS=500;X-TITLE=450 Golden Gate Avenue:geo:-122.4181453,37.7819473
END:VEVENT
BEGIN:VEVENT
DTSTART;TZID=America/New_York:20240119T140000
DTEND;TZID=America/New_York:20240119T150000
DTSTAMP:20260421T082754
CREATED:20231113T194901Z
LAST-MODIFIED:20240119T141000Z
UID:419530-1705672800-1705676400@www.fedbar.org
SUMMARY:Webinar: Federal Bureau of Investigation Career Panel
DESCRIPTION:The Federal Bureau of Investigation is the nation’s premier law enforcement and intelligence agency. Our mission is to protect the American people and uphold the Constitution of the United States. The FBI is currently seeking professionals interested in joining our team as Special Agents. Special Agents are law enforcement officers responsible for investigating violations of federal criminal law. We seek applicants from diverse backgrounds and have found that attorneys have the personal and professional skills that make excellent Special Agents. Please join us to learn about the Special Agent application process and hear from individuals who will discuss their career path from law students and attorneys to Special Agents with the FBI. Interested professionals are encouraged to review the Eligibility requirements for Special Agents at www.fbijobs.gov \n  \nPresented by the Law Student Division and the Younger Lawyers Division  \nRegistration is Closed \n\nAbout the Presenters\nSupervisory Special Agent Alethea Harris \nSupervisory Special Agent Alethea Harris graduated from Cornell University with a Bachelor’s degree in Government in 1999\, and graduated from the George Washington University Law School in 2002. SSA Harris started her career as a Special Agent with the FBI in 2004\, and her first assignment was to work public corruption and civil rights investigations in the Newark Field Office. SSA Harris has also worked temporary duty assignments in Iraq and at FBI Headquarters in Washington\, DC. She transferred to the Boston Field Office in 2015 wherein she worked health care fraud cases until she was promoted to be a Supervisory Special Agent in February 2018 as the Associate Division Counsel (ADC) for the Boston Field Office. Since December of 2022\, SSA Harris has been the Acting Chief Division Counsel (CDC). In her role as the ADC and CDC\, she assists employees and task force officers with legal\, compliance\, and ethical issues that arise during their investigations\, to include search and seizure\, free speech\, forfeiture\, and civil litigation. \nSupervisory Special Agent Alison Pauly \nSupervisory Special Agent Alison Pauly graduated from Duke University with a degree in Political Science and Russian language. After graduation she worked as a paralegal at a large New York law firm\, then as an advocate for victims of crime in the Manhattan District Attorney’s Office. SSA Pauly then earned a J.D. and a Masters in Social Work at the University of Pennsylvania. She started her legal career in intellectual property litigation in the San Francisco Bay Area at a large law firm. After a few years\, she shifted to federal employment at the United States Department of Labor and then the FBI. SSA Pauly has worked counterintelligence investigations in San Francisco\, Boston\, and as an FBIHQ Program Manager. While in Boston\, she also spent three years working public corruption investigations. SSA Pauly spent 10 years as a member of the Evidence Response Team (ERT). She is also a member of the FBI’s Behavioral Analysis Program (BAP) where she consults with counterintelligence agents on investigations from the perspective of human behavior. SSA Pauly currently is the supervisor of a counterintelligence squad that includes FBI Boston’s Office of Private Sector (outreach) team. \nSpecial Agent Kyle Zavorotny  \nSpecial Agent Kyle Zavorotny attended Johns Hopkins University\, and after graduating with a degree in psychology joined the Baltimore Police Department\, working as a patrol officer\, a detective in the department’s Fraud Unit\, and as a sergeant in patrol. While working for the police department\, he attended the University of Maryland School of Law\, graduating in 2000. SA Zavorotny practiced law for two years in a small firm in Towson\, Maryland specializing in corporate law. In 2002\, he joined the FBI\, and was assigned to the Boston Division\, working Health Care Fraud. In 2005\, SA Zavorotny began working counterintelligence investigations\, and in 2008 was transferred to the FBI’s office in Bedford\, New Hampshire. \nSpecial Agent Courtney Pillsbury \nSpecial Agent Courtney Pillsbury graduated Boston College with a degree in Sociology and after 2 years as a paralegal went on to Boston College Law School. SA Pillsbury practiced at a large multi-national law firm in Boston for 5 years before joining the FBI in 2006. After graduating the FBI Academy\, she was assigned to the Los Angeles Field Office where she worked counterintelligence investigations for 9 years as both a case agent and supervisor. In 2015 SA Pillsbury transferred to the Boston Field Office to continue working national security violations. She is currently the Applicant Coordinator and Recruiter in the Boston Field Office where she processes and tests applicants for the Special Agent position. SA Pillsbury is a member of the Evidence Response Team (ERT)\, a team of Special Agents and professional support staff responsible for the collection of evidence as crime scenes. She is also a member of the FBI’s Behavioral Analysist Program (BAP) where she has advised counterintelligence agents on various facets of their investigations based on the behavioral profiles of the subjects. \nSpecial Agent Chenee Castruita \nSpecial Agent Chenee Castruita has a degree in Journalism from Ohio University in Athens\, Ohio and a law degree from The Ohio State University in Columbus Ohio. SA Castruita practiced personal injury law with a focus on workers compensation and medical malpractice for about three years. In 2017\, she moved to a defense firm and practiced insurance defense for over five years before joining the FBI in June of 2022. SA Castruita is currently assigned to the Public Corruption and Civil Rights squad in the Boston Field Office. \n\nRegistration\nRegistration is Closed \nRegistration for this event will close Thursday\, January 18 at 2:00 PM EDT. \nRegistration Fees \n\nFBA Member: $0\nNonmember: $75\n\n\n\n\n\n\n\n\n\nLive Captioning: Closed captioning is available for all virtual webcasts. \n\n\nInternet Requirements: Virtual programs require suitable internet strength to stream online panels. A minimum internet connection of 800 Kbps is recommended for an optimal attendee experience. Test your connection here.  \n\n\n\n\n\n\n\n\n\n\n\n\n\n\n\n\nCLE\nPlease note CLE will not be offered for this event.  \n\n\n\n\n\n\n\n\nFrequently Asked Questions\nQ: How do I access the virtual webinar?\nA: Each webinar will have a unique link to watch the live broadcast. Registered attendees will receive login instructions via a calendar invitations 24 hours prior to the webinar. \nQ: Will recordings of the sessions be available after the event?\nA: Approved sessions will be available for registrants to view live and on-demand following the webinar. \nQ: Who do I contact for more information?\nA: Please contact sections@fedbar.org for any other questions. \n\nEmail Communication Policy\nBy registering for this event\, you agree to receive email communication from the Federal Bar Association and affiliated sponsors of the program concerning event details\, Continuing Legal Education certification\, programming changes\, upcoming events\, surveys\, and post-event communications. \nRecording Disclaimer\nBy registering for an online FBA program\, you agree to the recording of audio and visual content presented during the live event and consent to subsequent use of the recording by the FBA. You agree that the recording is the sole property of the FBA and that the recording may be used by the FBA in any manner in its sole and absolute discretion. This recording may include questions and poll responses provided by you during the live event. If you do not consent to the recording and the FBA’s use of the same\, do not register for the event. \nIf you have any questions regarding this program\, please contact Daniel Hamilton\, Program Coordinator\, at sections@fedbar.org
URL:https://www.fedbar.org/event/webinar-federal-bureau-of-investigation-career-panel/
CATEGORIES:Law Student Division,Younger Lawyers Division
END:VEVENT
END:VCALENDAR