BEGIN:VCALENDAR
VERSION:2.0
PRODID:-//Federal Bar Association - ECPv6.15.15//NONSGML v1.0//EN
CALSCALE:GREGORIAN
METHOD:PUBLISH
X-WR-CALNAME:Federal Bar Association
X-ORIGINAL-URL:https://www.fedbar.org
X-WR-CALDESC:Events for Federal Bar Association
REFRESH-INTERVAL;VALUE=DURATION:PT1H
X-Robots-Tag:noindex
X-PUBLISHED-TTL:PT1H
BEGIN:VTIMEZONE
TZID:America/Los_Angeles
BEGIN:DAYLIGHT
TZOFFSETFROM:-0800
TZOFFSETTO:-0700
TZNAME:PDT
DTSTART:20220313T100000
END:DAYLIGHT
BEGIN:STANDARD
TZOFFSETFROM:-0700
TZOFFSETTO:-0800
TZNAME:PST
DTSTART:20221106T090000
END:STANDARD
BEGIN:DAYLIGHT
TZOFFSETFROM:-0800
TZOFFSETTO:-0700
TZNAME:PDT
DTSTART:20230312T100000
END:DAYLIGHT
BEGIN:STANDARD
TZOFFSETFROM:-0700
TZOFFSETTO:-0800
TZNAME:PST
DTSTART:20231105T090000
END:STANDARD
BEGIN:DAYLIGHT
TZOFFSETFROM:-0800
TZOFFSETTO:-0700
TZNAME:PDT
DTSTART:20240310T100000
END:DAYLIGHT
BEGIN:STANDARD
TZOFFSETFROM:-0700
TZOFFSETTO:-0800
TZNAME:PST
DTSTART:20241103T090000
END:STANDARD
END:VTIMEZONE
BEGIN:VTIMEZONE
TZID:America/New_York
BEGIN:DAYLIGHT
TZOFFSETFROM:-0500
TZOFFSETTO:-0400
TZNAME:EDT
DTSTART:20220313T070000
END:DAYLIGHT
BEGIN:STANDARD
TZOFFSETFROM:-0400
TZOFFSETTO:-0500
TZNAME:EST
DTSTART:20221106T060000
END:STANDARD
BEGIN:DAYLIGHT
TZOFFSETFROM:-0500
TZOFFSETTO:-0400
TZNAME:EDT
DTSTART:20230312T070000
END:DAYLIGHT
BEGIN:STANDARD
TZOFFSETFROM:-0400
TZOFFSETTO:-0500
TZNAME:EST
DTSTART:20231105T060000
END:STANDARD
BEGIN:DAYLIGHT
TZOFFSETFROM:-0500
TZOFFSETTO:-0400
TZNAME:EDT
DTSTART:20240310T070000
END:DAYLIGHT
BEGIN:STANDARD
TZOFFSETFROM:-0400
TZOFFSETTO:-0500
TZNAME:EST
DTSTART:20241103T060000
END:STANDARD
END:VTIMEZONE
BEGIN:VEVENT
DTSTART;TZID=America/Los_Angeles:20230612T163000
DTEND;TZID=America/Los_Angeles:20230612T180000
DTSTAMP:20260423T052442
CREATED:20230523T135251Z
LAST-MODIFIED:20230523T164823Z
UID:358583-1686587400-1686592800@www.fedbar.org
SUMMARY:Northern District of California Chapter: THE FENTANYL PUBLIC HEALTH CRISIS: A CONVERSATION WITH JOURNALIST AND AUTHOR SAM QUINONES
DESCRIPTION:This will be a conversation moderated by Judge Trina Thompson. SAM QUIONES is the author of “The Least of Us” and Dreamland”. He is a critically acclaimed journalist and former LA Times reporter. In-person reception to follow. \nRegistration\nDeadline to register June 8\,2023\nRSVP: Register Here! \nRSVP Contact \nRegistration Fee: \n\nIn-Person: FBA Member$30\nZoom: FBA $20\nNon-Members $60\nZoom Non-Member $30\nFPD\, AUSA\, Law Clerk Free\n\nCLE\nPlease note there is no CLE credit for this event. \nIf you have any questions regarding this program\, please contact Randy Sue Pollock at rsp@rspollocklaw.com.
URL:https://www.fedbar.org/event/northern-district-of-california-chapter-the-fentanyl-public-health-crisis-a-conversation-with-journalist-and-author-sam-quinones/
LOCATION:Thelton E. Henderson Ceremonial Courtroom\, 19th Floor\, 450 Golden Gate Avenue\, San Francisco\,\, 94102\, United States
CATEGORIES:Northern District of California Chapter
ORGANIZER;CN="Randy Sue Pollock":MAILTO:rsp@rspollocklaw.com
GEO:37.7819473;-122.4181453
X-APPLE-STRUCTURED-LOCATION;VALUE=URI;X-ADDRESS=Thelton E. Henderson Ceremonial Courtroom 19th Floor 450 Golden Gate Avenue San Francisco 94102 United States;X-APPLE-RADIUS=500;X-TITLE=450 Golden Gate Avenue:geo:-122.4181453,37.7819473
END:VEVENT
BEGIN:VEVENT
DTSTART;TZID=America/New_York:20230614T120000
DTEND;TZID=America/New_York:20230614T133000
DTSTAMP:20260423T052442
CREATED:20230508T191959Z
LAST-MODIFIED:20230601T172134Z
UID:352326-1686744000-1686749400@www.fedbar.org
SUMMARY:Qui Tam Section: [VIRTUAL] FCA Settlements- The Last Mile Of The Marathon
DESCRIPTION:**Program hosted in (ET) time zone** \nAfter years of hard work—vigorous pre-filing investigations and drafting\, lengthy Government investigations\, client hand holding\, burdensome CIDs\, and onerous meetings—the finish line is finally here. But when the last mile is in sight\, what should you—and your clients– expect during the negotiation of a False Claims Act settlement? Join moderator Regina Poserina and our esteemed colleagues Jeremy L. Friedman\, Kayla S. Kaplan\, and Daniel Schiffer as they discuss interesting aspects of FCA settlements and negotiations\, and potential potholes along the route. \n[Register Online] \n\nAbout the Presenters\nJeremy L. Friedman \, Attorney at Law  \n  \n  \n  \n  \n  \n \nKayla S. Kaplan\, Morgan Lewis \n  \n  \n  \n  \nRegina D. Poserina\, Cohen Milstein Sellers & Toll PLLC \n  \n  \n  \n  \nDaniel Schiffer\, Civil Fraud Section\, Department of Justice \n  \n  \n  \n  \n  \n\nRegistration\n[Register Online] \n\nFBA Members: $0\nNon-Members: $0\n\n\nCLE\nPlease note that CLE credit is not offered for this webinar. \n\nEmail Communication Policy \nBy registering for this event\, you agree to receive email communications from the Federal Bar Association and affiliated sponsors of the program concerning event details\, Continuing Legal Education certification\, programming changes\, upcoming events\, surveys\, and post-event communications. \nRecording Disclaimer \nBy registering for an FBA webinar\, you agree to the recording of audio and visual content presented during the live event and consent to subsequent use of the recording by the FBA. You agree that the recording is the sole property of the FBA and that the recording may be used by the FBA in any manner in its sole and absolute discretion. This recording may include questions and poll responses provided by you during the live event. If you do not consent to the recording and the FBA’s use of the same\, do not register for the event. \nIf you have any questions regarding this program\, please contact sections@fedbar.org.
URL:https://www.fedbar.org/event/fca-settle/
CATEGORIES:Qui Tam Section
END:VEVENT
BEGIN:VEVENT
DTSTART;TZID=America/New_York:20230614T140000
DTEND;TZID=America/New_York:20230614T150000
DTSTAMP:20260423T052442
CREATED:20230516T174535Z
LAST-MODIFIED:20230613T181041Z
UID:356073-1686751200-1686754800@www.fedbar.org
SUMMARY:Webinar: Bostock and The First Amendment: The Rights of LGBTQ+ Employees in the Religious Workplace
DESCRIPTION:In 2020\, the Supreme Court in Bostock v. Clayton County determined that discrimination against gay and transgender employees is discrimination on the basis of sex—leaving open the question whether\, and how\, this issue might be addressed in a case involving religious employers. In this session\, two civil-rights attorneys—both counsel for the plaintiff in Doe v. Catholic Relief Services\, a recent case in the District of Maryland—and counsel from Americans United for Separation of Church and State will provide an overview of the federal law protecting the rights of LGBTQ+ employees\, the defenses being raised by religious employers and the progress they are making in the courts\, and insight into the way some state courts are addressing these same issues. \nPresented by the Federal Bar Association’s LGBTQ+ Law Section and Civil Rights Law Section.   \n\nAbout the Presenters\n\nLauren DiMartino\, Associate\, Brown\, Goldstein & Levy LLP\nLauren A. DiMartino is an associate at Brown\, Goldstein & Levy\, LLP (“BGL”). Lauren represents clients across various areas of civil rights law\, including fair housing\, education and disability rights\, police misconduct\, and workplace discrimination. Much of Lauren’s legal experience has centered on education equity\, constitutional law\, anti-discrimination\, and government misconduct\, utilizing civil rights legislation like the Fair Housing Act and Title VII to assist individuals impacted by discriminatory conduct and to challenge systems perpetuating segregation. Prior to joining BGL\, Lauren was in Nashville clerking for Judge Martha Craig Daughtry on the Sixth Circuit Court of Appeals. She was previously the Legal Fellow at the University of Colorado School of Law’s Byron White Center for the Study of American Constitutional Law. Lauren graduated from the City University of New York School of Law\, a public-interest program\, with a concentration in Social Justice\, Equality\, and Civil Rights. She has been published in the Georgetown Journal on Poverty Law & Policy\, CUNY Law Review\, FBA Civil Rights Insider\, and Forbes Civic Nation. Prior to becoming an attorney\, Lauren worked in marketing before transitioning to work in New York City community colleges because of her commitment to racial and economic justice. She worked as an academic counselor and the Assistant Director of ASAP\, an accelerated education program aimed at removing systemic barriers to obtaining a degree. She was inspired by her students to attend law school as a tool to better advocate for marginalized communities. She remains active in higher education work and is on the Advisory Boards of the Urban Studies Program at Guttman Community College (CUNY) and of Baltimore Youth Arts. \n\nBradley Girard\, Litigation Counsel\, Americans United for Separation of Church and State\nBradley Girard is the Litigation Counsel for Americans United for Separation of Church and State (“AU”). Bradley returned to AU after serving as the Steven Gey Constitutional Litigation Fellow from 2015-17. He graduated cum laude from Georgetown Law in 2014. After law school he clerked for the Honorable Neal E. Kravitz on the D.C. Superior Court and on the United States Court of Appeals for the Sixth Circuit for the Honorable Martha Craig Daughtrey. Immediately before returning to AU\, Bradley was the clinical teaching fellow at Georgetown Law’s Appellate Courts Immersion Clinic\, where he taught students public-interest impact litigation in the federal courts of appeals and the U.S Supreme Court. He also earned an LLM in advocacy. During law school\, Bradley interned at Gupta Wessler\, Public Justice\, Mehri & Skalet\, and in the civil-rights division of the Institute for Public Representation. He also interned on the D.C. District Court\, in the chambers of the Honorable Gladys Kessler. Bradley has been published in the Georgetown Law Journal\, the Georgetown Journal on Poverty Law & Policy\, Law360\, and SCOTUSblog. \n\nAnthony May\, Associate\, Brown\, Goldstein & Levy LLP\nAnthony May is an associate at Brown\, Goldstein & Levy\, LLP. He has represented clients in a variety of complex litigation matters including assisting employees with disabilities in obtaining accessible technology and accommodations in the workplace\, representing individuals who have been wrongfully convicted\, commercial litigation disputes\, and fighting workplace discrimination based on sexual orientation. Prior to joining the firm\, Anthony was the Francis D. Murnaghan\, Jr. Appellate Advocacy Fellow at The Public Justice Center\, where he represented indigent clients\, authored amicus briefs\, and argued in the United States Court of Appeals for the Fourth Circuit and Maryland appellate courts on various anti-poverty and civil rights cases. He clerked on the Appellate Court of Maryland (formerly known as the Maryland Court of Special Appeals) for the Honorable Deborah Sweet Eyler (Ret.). While attending law school\, Anthony worked as a law clerk at Brown Goldstein & Levy\, was the Executive Symposium Editor of the Journal of Race\, Religion\, Gender & Class\, a semi-finalist in the ABA Labor & Employment Law Trial Competition\, and a Legal Writing Fellow. Anthony is a graduate of the University of Akron and the University of Maryland Francis King Carey School of Law. \n\nRegistration\nRegistration for this webinar has now closed. \nAttendees will receive the zoom streaming link in their confirmation email. Streaming information will also be circulated via email after registration closes the day prior to the webinar date. \n\nFBA Member: $0\nNonmember: $75\n\nAccessibility: Closed captioning and dial-in is available for all virtual webcasts. \nCancellation Policy: No refunds will be made for notices of cancellation received within seven (7) days of the webinar date. No-shows will be billed. Substitutions may be made up to one business day prior to the event except as the Association otherwise agrees in writing. Please contact meetings@fedbar.org with cancellation and/or substitution requests. \nInternet Requirements: Virtual programs require suitable internet strength to stream online panels. A minimum internet connection of 800 Kbps is recommended for an optimal attendee experience. Test your connection here.  \n\nCLE\nCLE: 1.0 CLE Credit \nCLE Credit will be processed/reported approximately 4-6 weeks after the event date and available for credit in states that allow credit for live webinar presentations. You must attend the live broadcast\, answer engagement polls\, and accurately enter your bar number in our database to receive credit. Certificates and required documentation for self-reporting states will be issued via email\, upon state bar approval. Thank you in advance for your patience\, as state bars are experiencing significant delays with virtual program processing. \nClick Here for more information on CLE Attendance and Reporting. \n\nEmail Communication Policy: By registering for this event\, you agree to receive email communications from the Federal Bar Association and affiliated sponsors of the program concerning event details\, Continuing Legal Education certification\, programming changes\, upcoming events\, surveys\, and post-event communications. \nRecording Disclaimer: By registering for an FBA webinar\, you agree to the recording of audio and visual content presented during the live event and consent to subsequent use of the recording by the FBA. You agree that the recording is the sole property of the FBA and that the recording may be used by the FBA in any manner in its sole and absolute discretion. This recording may include questions and poll responses provided by you during the live event. If you do not consent to the recording and the FBA’s use of the same\, do not register for the event. \nIf you have any questions regarding this program\, please contact meetings@fedbar.org.
URL:https://www.fedbar.org/event/webinar-bostockfirstamendment/
END:VEVENT
BEGIN:VEVENT
DTSTART;TZID=America/New_York:20230616T140000
DTEND;TZID=America/New_York:20230616T150000
DTSTAMP:20260423T052442
CREATED:20230525T134314Z
LAST-MODIFIED:20230615T182837Z
UID:356821-1686924000-1686927600@www.fedbar.org
SUMMARY:Webinar - A Juneteenth Commemoration. The Past is Not Past: Recognizing\, Remembering\, and Redressing Domestic Terrorism in the United States
DESCRIPTION:Please join Professor Paula C. Johnson\, Director\, Cold Case Justice Initiative (CCJI) for the Syracuse University College of Law\, for an interesting and informative discussion commemorating Juneteenth. In this presentation\, Professor Johnson will provide historical background from the pre- and post-Civil War eras and contemporary resonances stemming from the origin of Juneteenth and its present-day meanings. Additionally\, she will provide examples of racially motivated massacres of Black communities across eras from Rosewood\, FL\, Tulsa\, OK\, Wilmington\, NC\, Charleston\, SC\, and Buffalo\, NY\, in an interdisciplinary focus that includes historical\, legal\, racial\, and intersectional analysis. While commending the resilience of affected Black communities\, she will also examine the imperatives for effective legal\, educational\, and societal responses to redress and prevent the persistent plague of racial violence in the United States. \nRegistration has Closed\n\nPresenter                                               \nProfessor Paula C. Johnson\, Professor\, Syracuse University College of Law\n\nPaula C. Johnson is a professor of law at Syracuse University College of Law. She directs the Cold Case Justice Initiative (CCJI) at Syracuse University College of Law\, which investigates racially-motivated murders committed during the civil rights era and in contemporary times. She is a commissioner on the Franklin H. Williams Judicial Commission. This commission advises and educates decision makers in the New York Court System on issues surrounding litigants and employees of color\, implementing recommendations in addressing these issues to ensure equitable justice in New York State. She also is a member of the board of trustees of the Historical Society of the New York Courts. She earned her B.A. from the University of Maryland\, College Park; J.D. from Temple University School of Law; and her LL.M. from Georgetown University Law Center. Professor Johnson has held several distinguished teaching posts\, including the Haywood Burns Chair in Civil Rights at CUNY Law School (2005-2006)\, the Sparks Chair at the University of Alabama School of Law (2008)\, and the Syracuse University College of Law Bond\, Schoeneck and King  Distinguished Professorship (2004-2006).  She also has taught at law schools at the University of Arizona\, University of Baltimore\, and Northern Illinois University. \n  \nModerator\n \nMichael B. Victorian\, Associate\, Phelps Dunbar\, LLP \n\nMichael Victorian practices in the areas of labor and employment and commercial litigation. His employment litigation practice involves representation of employers in all aspects of litigation and administrative proceedings involving claims of discrimination\, harassment\, retaliation\, wrongful termination\, family and medical leave\, fair labor standards and wage and hour disputes. Michael’s commercial litigation practice involves representing clients in education and health care. \n\n\n\n\n\nHe represents clients in federal and state litigation\, as well as in administrative proceedings before the Equal Employment Opportunity Commission. He has defended lawsuits involving wages\, retaliation\, workplace harassment and discrimination claims based on age\, gender\, disability and race. His client representation spans multiple industries\, including package and freight delivery\, fueling\, construction\, education\, health care and restaurant franchising. \n\n\n\n\n\nPresented by the Professional Development Committee and Diversity & Inclusion Committee.  \n\nRegistration\nRegistration for this event has closed. \nLive Captioning: Closed captioning is available for all virtual webcasts. \n\n\n\n\n\n\n\n\nInternet Requirements: Virtual programs require suitable internet strength to stream online panels. A minimum internet connection of 800 Kbps is recommended for an optimal attendee experience. Test your connection here.  \n\n\n\n\n\n\n\n\n\n\n\n\n\n\n\n\nCLE\nPlease note: CLE will not be offered for this event.  \n\n\n\n\n\n\n\n\nFrequently Asked Questions\nQ: How do I access the virtual webinar?\nA: Each webinar will have a unique link to watch the live broadcast. Registered attendees will receive login instructions via a calendar invitations 24 hours prior to the webinar. \nQ: Will recordings of the sessions be available after the event?\nA: Approved sessions will be available for registrants to view live and on-demand following the webinar. \nQ: Who do I contact for more information?\nA: Please contact meetings@fedbar.org for any other questions. \n\nEmail Communication Policy\nBy registering for this event\, you agree to receive email communication from the Federal Bar Association and affiliated sponsors of the program concerning event details\, Continuing Legal Education certification\, programming changes\, upcoming events\, surveys\, and post-event communications. \nRecording Disclaimer\nBy registering for an online FBA program\, you agree to the recording of audio and visual content presented during the live event and consent to subsequent use of the recording by the FBA. You agree that the recording is the sole property of the FBA and that the recording may be used by the FBA in any manner in its sole and absolute discretion. This recording may include questions and poll responses provided by you during the live event. If you do not consent to the recording and the FBA’s use of the same\, do not register for the event. \nIf you have any questions regarding this program\, please contact Shaniece Rigans\, Leadership Support & Board Specialist\, at srigans@fedbar.org
URL:https://www.fedbar.org/event/webinar-a-juneteenth-commemoration-the-past-is-not-past-recognizing-remembering-and-redressing-domestic-terrorism-in-the-united-states/
END:VEVENT
BEGIN:VEVENT
DTSTART;TZID=America/New_York:20230616T150000
DTEND;TZID=America/New_York:20230616T160000
DTSTAMP:20260423T052442
CREATED:20230522T150910Z
LAST-MODIFIED:20230616T130923Z
UID:358234-1686927600-1686931200@www.fedbar.org
SUMMARY:Section on Taxation: Lawyer Up Your Well-being Strategy: A Framework for a Healthier Body and Mind
DESCRIPTION:Join the FBA Section on Taxation’s Health & Wellness Committee on Friday\, June 16th at 3pm for a virtual/in-person presentation about wellness for busy lawyers. The presenters will share from personal experience how to find work-life balance while working at a law firm or Big Four accounting firm. \nThe panelists will share quick and easy tips and tricks for easy meal planning\, approaching meditation and mental well-being\, and being active no matter how crammed the workday. Don’t miss this opportunity to learn how to overcome the challenges of balancing a demanding career with a healthy lifestyle. \nPresented by: Section on Taxation \nRegistration is Closed \n(For in-person participation details\, please email sections@fedbar.org) \n\nPresenters\nLili Kazemi\, Editor-in-Chief of the DAOFitlife blog and author of the book\, “Business Class Fitness: Diet and Exercise Strategies for Women Who Hustle” \nMarissa Rensen\, Former Chair of the FBA Section on Taxation \nMario Austin\, Registered Yoga Teacher \nDaren Gottlieb\, FBA Section on Taxation Health & Wellness Committee Co-Chair (Moderator) \n\nRegistration & Attendance Information \nRegistration is Closed \nRegistration for this event will close Thursday\, June 15 at 3 PM ET. \nRegistration Fees \n\nFBA Members & Nonmembers: Complimentary Registration\n\nFBA Tax Section membership is not required to participate\, but you are encouraged to visit https://www.fedbar.org/membership/join/for information on becoming a member.
URL:https://www.fedbar.org/event/section-on-taxation-lawyer-up-your-well-being-strategy-a-framework-for-a-healthier-body-and-mind/
END:VEVENT
END:VCALENDAR