BEGIN:VCALENDAR
VERSION:2.0
PRODID:-//Federal Bar Association - ECPv6.15.15//NONSGML v1.0//EN
CALSCALE:GREGORIAN
METHOD:PUBLISH
X-ORIGINAL-URL:https://www.fedbar.org
X-WR-CALDESC:Events for Federal Bar Association
REFRESH-INTERVAL;VALUE=DURATION:PT1H
X-Robots-Tag:noindex
X-PUBLISHED-TTL:PT1H
BEGIN:VTIMEZONE
TZID:America/Chicago
BEGIN:DAYLIGHT
TZOFFSETFROM:-0600
TZOFFSETTO:-0500
TZNAME:CDT
DTSTART:20210314T080000
END:DAYLIGHT
BEGIN:STANDARD
TZOFFSETFROM:-0500
TZOFFSETTO:-0600
TZNAME:CST
DTSTART:20211107T070000
END:STANDARD
BEGIN:DAYLIGHT
TZOFFSETFROM:-0600
TZOFFSETTO:-0500
TZNAME:CDT
DTSTART:20220313T080000
END:DAYLIGHT
BEGIN:STANDARD
TZOFFSETFROM:-0500
TZOFFSETTO:-0600
TZNAME:CST
DTSTART:20221106T070000
END:STANDARD
BEGIN:DAYLIGHT
TZOFFSETFROM:-0600
TZOFFSETTO:-0500
TZNAME:CDT
DTSTART:20230312T080000
END:DAYLIGHT
BEGIN:STANDARD
TZOFFSETFROM:-0500
TZOFFSETTO:-0600
TZNAME:CST
DTSTART:20231105T070000
END:STANDARD
END:VTIMEZONE
BEGIN:VTIMEZONE
TZID:America/New_York
BEGIN:DAYLIGHT
TZOFFSETFROM:-0500
TZOFFSETTO:-0400
TZNAME:EDT
DTSTART:20210314T070000
END:DAYLIGHT
BEGIN:STANDARD
TZOFFSETFROM:-0400
TZOFFSETTO:-0500
TZNAME:EST
DTSTART:20211107T060000
END:STANDARD
BEGIN:DAYLIGHT
TZOFFSETFROM:-0500
TZOFFSETTO:-0400
TZNAME:EDT
DTSTART:20220313T070000
END:DAYLIGHT
BEGIN:STANDARD
TZOFFSETFROM:-0400
TZOFFSETTO:-0500
TZNAME:EST
DTSTART:20221106T060000
END:STANDARD
BEGIN:DAYLIGHT
TZOFFSETFROM:-0500
TZOFFSETTO:-0400
TZNAME:EDT
DTSTART:20230312T070000
END:DAYLIGHT
BEGIN:STANDARD
TZOFFSETFROM:-0400
TZOFFSETTO:-0500
TZNAME:EST
DTSTART:20231105T060000
END:STANDARD
END:VTIMEZONE
BEGIN:VEVENT
DTSTART;TZID=America/Chicago:20220221T120000
DTEND;TZID=America/Chicago:20220221T131500
DTSTAMP:20260422T185320
CREATED:20220210T201024Z
LAST-MODIFIED:20220211T170721Z
UID:205890-1645444800-1645449300@www.fedbar.org
SUMMARY:Oklahoma City Chapter: The Road to Korematsu - A History of Anti-Asian American Immigration Laws and Opinions\, and some Reflections on Asian Americans in the Oklahoma Bar
DESCRIPTION:This Virtual CLE will provide a history of anti-Asian American immigration laws and judicial opinions\, and provide reflections on Asian Americans in the Oklahoma Bar. \n\n\n\n\n\n\n\n\n\n\n\n\n\n\n\n\n\n\n\n\n\n\n\n\nSpeakers\nHuyen Pham\, Professor of Law\, Texas A&M University School of Law \nJoseph Thai\, Glen R. Watson Centennial Chair in Law and Presidential Professor of Law\, University of Oklahoma College of Law \n\nRegistration\n\nFBA Member: $0\nNon-Member: $25\n\n\n\n\n\n\n\n\nRegister Online: https://us02web.zoom.us/webinar/register/WN_WMPaUT9FTXOLncCiV_F8BA\n\n\n\n\n\n\n\n\nPayment: Send Payment to paypal.me/fbaokcchapter\n\n\n\nCLE\n1.0 CLE Credits pending approval in accordance with the requirements of the Oklahoma Bar Association.
URL:https://www.fedbar.org/event/oklahoma-city-chapter-the-road-to-korematsu-a-history-of-anti-asian-american-immigration-laws-and-opinions-and-some-reflections-on-asian-americans-in-the-oklahoma-bar/
CATEGORIES:Oklahoma City Chapter
ORGANIZER;CN="Jake Krattiger":MAILTO:okcfedbar@gmail.com
END:VEVENT
BEGIN:VEVENT
DTSTART;TZID=America/New_York:20220223T120000
DTEND;TZID=America/New_York:20220225T170000
DTSTAMP:20260422T185320
CREATED:20211015T133747Z
LAST-MODIFIED:20220222T181406Z
UID:174638-1645617600-1645808400@www.fedbar.org
SUMMARY:[Virtual] 2022 Qui Tam Conference
DESCRIPTION:The False Claims Act – Lincoln’s Law Meets the 21st Century\nJoin the FBA’s Qui Tam Section for a three-day virtual conference from February 23 to February 25\, 2022\, starting at 12:00pm ET each day. This year’s conference will focus on how the False Claims Act (FCA)\, a law from the 19th Century\, is meeting a host of 21st Century challenges that range from telemedicine to cybersecurity to data mining. We’ll also highlight emerging DOJ priorities\, including fraud in pandemic-related spending and Medicare Part C. \nThis annual event\, dubbed “the Oscars for False Claims Act nerds” by a 2020 panelist\, provides timely perspectives from all sides of the FCA ecosystem: prosecutors\, relator-side attorneys\, defense counsel\, inspectors general\, federal judges\, and in-house counsel. \nEarn CLE credit while getting insight from the nation’s top echelon of FCA practitioners — all from the comfort of your desk. \n \nRegistration for this event is now closed. \n\n\nAgenda\n \n\nWednesday\, February 23\nAll times are in Eastern Standard Time (EST) \n12:00 PM – 1:00 PM ET | Welcome Remarks and Keynote Presentation \n[WELCOME] R. Scott Oswald\, Managing Principal\, The Employment Law Group P.C.; FBA Qui Tam Section Chair\n[KEYNOTE] Gregory E. Demske\, Chief Counsel to the Inspector General\, Office of Inspector General\, Department of Health and Human Services\nSince 2012\, Gregory E. Demske has served as Chief Counsel to the Inspector General and leads the 90-person HHS Office of Counsel to the Inspector General (OCIG). OCIG provides all legal services to HHS OIG\, including advice on audits\, investigations\, evaluations\, and OIG operations; representation of OIG in civil and administrative fraud enforcement; and issuance of guidance to the health care industry. Mr. Demske oversees all OIG internal legal advice\, coordination with the Department of Justice on False Claims Act cases involving HHS\, OIG’s civil money penalty and program exclusion enforcement\, negotiation and monitoring of corporate integrity agreements\, and industry guidance on the anti-kickback statute and other OIG enforcement authorities.  \n 1:10 PM – 2:10 PM ET | Year in Review \nOur fifth annual Year in Review panel will provide an overview of the significant developments in False Claims Act case law\, settlements\, and FCA-related government policies of 2021. Panelists will review and discuss notable developments in the Department of Justice’s policies within the Biden Administration. These include the future directions of the Granston Memo and Brand Memo\, as well as notable appellate cases on causation\, and fraudulent inducement\, materiality\, and pleading under 9(b).  \n\nJohn R. Thomas\, Jr.\,  Partner\, Hafemann Magee Thomas (moderator)\nJessie K. Liu\, Partner\, Skadden\, Arps\, Slate\, Meagher & Flom LLP\nBenjamin Wei\, U.S. Department of Justice\nClaire M. Sylvia\, Attorney\, Phillips & Cohen LLP\n\n2:20 PM – 3:20 PM ET | The False Claims Act as a Weapon Against Cyber Fraud \nThis panel will discuss how the False Claims Act (FCA) can be used as an effective weapon against cyber fraud.  The U.S. Department of Justice announced a Civil Cyber-Fraud Initiative in October of 2021.  The Civil Cyber-Fraud Initiative will employ the False Claims Act to pursue cybersecurity related fraud by government contractors and grant recipients.  Panelists will explore theories of liability and damages to include knowing failures to comply with cybersecurity standards\, knowing misrepresentations of security controls and practices\, and recognizing failures to timely report suspect breaches.  \n\nRenée Brooker\, Partner\, Tycko & Zavareei LLP (moderator)\nColleen Kennedy\, Deputy Chief\, U.S. Attorney’s Office\, Eastern District of California\nMichael Ronickher\, Partner\, Constantine Cannon LLP\nJennifer Short\, Partner\, Blank Rome LLP\n\n3:30 PM – 4:30 PM ET | Prosecuting Telehealth Fraud Under the False Claims Act \nThis panel will discuss the use of the False Claims Act (FCA) to combat the rapidly increasing problem of telehealth fraud. Topics will include recent U.S. Department of Justice settlements\, the interaction of criminal and civil remedies\, and the difficulty in recouping the substantial amount of public funds that are often obtained through illegal telehealth operations. The panel will also discuss the differing perspectives on these issues held by each of the three parties in an FCA case. \n\nDavid Wiseman\, Assistant Director\, Fraud Section\, Civil Division\, U.S. Department of Justice (moderator)\nAmy L. Easton\, Partner\, Phillips & Cohen LLP\nDavid Leviss\, Partner\, O’Melveny & Myers LLP\nCarolyn Tapie\, Assistant U.S. Attorney\, U.S. Attorney’s Office\, Middle District of Florida\n\nThursday\, February 24\nAll times are in Eastern Standard Time (EST) \n12:00 PM – 1:00 PM ET | Welcome Remarks and Keynote Presentation \n[WELCOME] Megan Mocho\, Partner\, Holland & Knight; FBA Qui Tam Section Vice-Chair\n[KEYNOTE] Matthew M. Graves\, U.S. Attorney for the District of Columbia\nMatthew M. Graves assumed the position of U.S. Attorney for the District of Columbia in November 2021. Before going to private practice for a brief period\, Graves worked at the U.S. Attorney’s Office for nearly a decade\, prosecuting a wide variety of cases as an Assistant U.S. Attorney\, and later as Acting Chief of the Fraud and Public Corruption Section. \n\n[KEYNOTE] Michael Horowitz\, Inspector General & Chair of Pandemic Response Accountability Committee (PRAC)\, U.S. Department of Justice\nAs Inspector General of the Department of Justice\, Mr. Horowitz oversees a nationwide workforce of more than 500 special agents\, auditors\, inspectors\, attorneys\, and support staff whose mission is to detect and deter waste\, fraud\, abuse\, and misconduct in DOJ programs and personnel\, and to promote economy and efficiency in Department operations.  Since April 2020\, he has simultaneously led the Pandemic Response Accountability Committee\, a committee of 21 federal Inspectors General that Congress created to oversee the over $5 trillion in federal pandemic-related emergency spending.  From 2015 to 2020\, Mr. Horowitz served as the Chair of the Council of the Inspectors General on Integrity and Efficiency (CIGIE)\, an organization comprised of all 75 federal Inspectors General.   \n1:10 PM – 2:10 PM ET | Private Equity – The Newest Face at the FCA Table \nThis panel will explore the government’s most recent target for False Claims Act (FCA) liability – private equity (PE) actors and their principals. The discussion will review the changes within the healthcare landscape\, fueled by both the DOJ’s focus on PE firms and executives whose management allegedly created or perpetuated fraud schemes. Panelists will also highlight the importance of pre- and post-acquisition due diligence in the healthcare space or any other highly regulated industry. \n\nPamela Brecht\, Partner\, Pietragallo Gordon Alfano Bosick & Raspanti\, LLP (moderator)\nAngela Humphreys\, Chair\, Healthcare Practice\, Co-Chair Healthcare Private Equity Team\, Bass\, Berry & Sims PLC\nHabib Ilahi\, Partner\, Stinson LLP\n\n2:20 PM – 3:20 PM ET | Moneyball: The Use of Data Analytics in False Claims Act Cases \nHear government\, relators’ and defense counsel perspectives on the evolving use of data analytics in False Claims Act (FCA) cases\, including: proactive government and corporate efforts to identify vulnerabilities and stop fraud; government and data-driven relators’ use of analyses to identify possible False Claims Act violations; the government’s use of data to investigate and enhance qui tam allegations; and  defense strategies and legal headwinds in data-driven cases. \n\nMatthew Howatt\, Assistant U.S. Attorney\, U.S. Attorney’s Office\, Eastern District of Pennsylvania  (moderator)\nJonathan Ferry\, Partner\, Bradley Arant Boult Cummings LLP\nKathleen McGinty\, Acting Deputy Director\, Fraud Investigations Group\, U.S. Centers for Medicare & Medicaid Services\nJeremy Wells\, Partner\, Reid Collins & Tsai LLP\n\n3:30 PM – 4:30 PM ET | Statistical Sampling and the False Claims Act: Update and Trends \nThis panel will feature perspectives from former government officials\, as well as members of the defense and whistleblower bars\, to examine the perennial issue of statistical sampling in civil fraud cases. The panel will review the legal landscape and provide a history of the use of statistical sampling in False Claims Act (FCA) cases. The panelists will discuss their experiences with sampling in a range of cases and provide practical advice on when sampling is appropriate and how it can be used effectively. The panelists will also discuss where statistical sampling might be headed in the future. \n\nBenjamin C. Mizer\, Partner\, Jones Day (moderator)\nMatthew D. Benedetto\, Partner\, WilmerHale\nMary Inman\, Partner\, Constantine Cannon LLP\nStephen Lee\, Partner\, Benesch\, Friedlander\, Coplan & Aronoff LLP\n\nFriday\, February 25\nAll times are in Eastern Standard Time (EST) \n[WELCOME] Michael Moore\, Partner\, Moore Hall\, LLC \n12:00 PM – 1:00 PM ET | Pandemic-Related Fraud and the FCA \nThe U.S. Department of Justice will rely on the False Claims Act (FCA) to pursue fraud in connection with the more than $5 trillion in pandemic-related spending authorized by Congress. This panel will discuss the emerging trends in FCA enforcement relating to pandemic response programs\, featuring diverse perspectives from attorneys representing whistleblowers\, defendants\, and the government in connection with False Claims Act matters.  Among other things\, the panel will discuss developments\, challenges\, and misconceptions relating to FCA enforcement in this emerging area. \n\nColin Huntley\, Deputy Director\, Fraud Section\, Civil Division\, U.S. Department of Justice (moderator)\nErica Blachman Hitchings\, Partner\, Whistleblower Law Collaborative\, LLC\nJeffrey Gleason\, Partner\, Robins Kaplan LLP\nPaul Kaufman\, Assistant U.S. Attorney\, U.S. Attorney’s Office\, Eastern District of Pennsylvania\n\n1:10 PM – 2:10 PM ET | The Modern Relator \nThis panel of experienced qui tam Plaintiff lawyers will provide an in-depth discussion on the evolution of qui tam cases\, from the traditional individual whistleblower to the corporate relator. Join this impressive panel of lawyers in their discussion about the various forms of relators\, including corporations and professional data miners\, and the motivation behind these relator types. The panel will share their experiences with true corporate relators versus corporate fiction and provide useful insight as to how courts have been perceiving these various relator forms.  The panel will also discuss modern alternatives to the traditional relator\, such as relator coalitions\, and the driving factors behind creating such arrangements.  The panelists will also provide an overview of some of their more notable cases and what they learned from representing the “modern relator.” \n\nAlison Hawthorne\, Principal\, Beasley Allen (moderator)\nJames F. Barger\, Jr.\, Principal\, Frohsin Barger Walthall & Bucy\nJason Marcus\, Principal\, Bracker & Marcus LLC\nRobert “Bob” Thomas\, Jr.\, Managing Member\, Whistleblower Law Collaborative LLC\n\n2:20 PM – 3:35 PM ET | Strategies in Evaluating and Pursuing Medicare Part C and Medicaid Managed Care Cases—Falsity and Damages \nThis panel will address proving falsity and damages in Medicare Part C and Medicaid Managed Care FCA cases. We will discuss how to successfully evaluate falsity in the Part C context and satisfy materiality concerns\, focusing on risk adjustment cases. With respect to damages\, the panel will address damages theories in two contexts–fraud by the Managed Care insurers or plan programs and fraud by providers and intermediaries or vendors on the Managed Care program. \n\nSara Vann\, Assistant Attorney General\, Medicaid Fraud Division\, Office of the Attorney General\, State of Georgia (moderator)\nEdward Crooke\, Assistant Director\, Fraud Section\, Civil Division\, U.S. Department of Justice\nEva Gunasekera\, Partner\, Tycko & Zavareei LLP\nAdam Tarosky\, Partner\, Nixon Peabody LLP\n\n3:45 PM – 5:00 PM ET | Refereeing the FCA: The View from the Bench \nThis panel of federal judges will provide us with a view from the bench as they discuss pre-litigation matters (such as sealing extensions) and gate-keeper issues (such as the public disclosure bar and the government’s discretion to dismiss qui tam cases).  The panel will also include discussion of recent developments in substantive False Claims Act (FCA) law\, such as falsity and materiality\, and key considerations at the motion to dismiss\, discovery\, and summary judgment phases of the litigation.  The session will conclude with a jurist’s perspective on some of the topics raised during earlier conference panels – for example\, cyber fraud enforcement. \n\nNaana Frimpong\, Partner\, DLA Piper LLP (moderator)\nHon. Amy Totenberg\, Senior U.S. District Judge\, U.S. District Court\, Northern District of Georgia\nHon. John Michael Vazquez\, U.S. District Judge\, U.S. District Court\, District of New Jersey\nHon. Andrea R. Wood\, U.S. District Judge\, U.S. District Court\, Northern District of Illinois\n\n\n\n\n\n\n\n\n\n\n\nRegistration\nRegistration for this event is now closed. \nRegistration Fees\nEarly Bird Registration will be available through Friday\, January 21\, 2022. \nStandard Registration will begin after Friday\, January 21\, 2022.  \n\n\n\n\nEarly Bird\nStandard\n\n\nFull Conference Rates\n\n\n\n\nFBA Sustaining Member\n$340\n$385\n\n\nFBA Member\n$360\n$405\n\n\nQui Tam Section Member\n$295\n$350\n\n\nNonmember\n$540\n$585\n\n\nGovernment/Academic\n$270\n$315\n\n\nLaw Student/Judicial\n$90\n$135\n\n\nSingle Day Rates\n\n\n\n\nFBA Sustaining Member\n$190\n$210\n\n\nFBA Member\n$200\n$220\n\n\nQui Tam Section Member\n$180\n$200\n\n\nNonmember\n$280\n$300\n\n\nGovernment/Academic\n$160\n$180\n\n\nLaw Student/Judicial\n$60\n$80\n\n\n\n\nLive Captioning\nClosed captioning is available for all virtual webcasts. \nCancellation Policy\nNo refunds will be made for cancellations received after the close of business on Wednesday\, February 10\, 2021. Please contact Ariel White (awhite@fedbar.org) with cancellation and/or substitution requests. \nInternet Requirements: Virtual programs require suitable internet strength to stream online panels with the Virtual Access Package. A minimum internet connection of 800 Kbps is recommended for an optimal attendee experience. Test your connection here. \n\n\n\n\n\n\n\n\n\nCLE\nAttendees can receive up to 10.5 CLE credits (12.6 credits for 50-min states). \nCertificates and credit for these virtual panels will be processed/reported within 4-6 weeks of the event date and available for credit in states that allow credit for live webinar presentations. You must attend the live broadcast\, answer engagement polls\, and accurately enter your bar number in our database to receive credit. \n\nSponsors\nConference Supporter\nDavid Haron | Hoyer Law Group\, PLLC \nInterested in sponsoring this event? View our Sponsorship Prospectus and contact sponsor@fedbar.org for more information. \n\nFrequently Asked Questions\nQ: What type of educational credit will be offered in the virtual format?\nA:Attendees can receive up to 10.5 CLE credits (12.6 credits for 50-min states). Please check with your respective state(s) for distance learning CLE requirements. \nQ: How do I obtain CLE Credit?\nA: All registrants will be prompted to submit state bar information prior to the virtual series to ensure accurate CLE reporting. Credits will be processed/reported within 4-6 weeks of the webinar event date and available for credit in states that allow credit for live webinar presentations. Your bar number must be accurate in our database to receive credit. We will share detailed instructions with registrants for CLE reporting. \nQ: How do I access the virtual panels?\nA: Virtual panels will each have a unique link to watch the live broadcast. Registered attendees will receive login instructions via a welcome email and calendar invitations the week of the conference. \nQ: Will recordings of the sessions be available after the event?\nA: Sessions will be available for registrants to view live and on-demand following the conference. Please note that CLE credit will only be submitted for attendees that watch the live broadcast. \nQ: Who do I contact for more information?\nA: Please contact meetings@fedbar.org for any other questions. \n\nEmail Communication Policy\nBy registering for this event\, you agree to receive email communications from the Federal Bar Association and affiliated sponsors of the program concerning event details\, Continuing Legal Education certification\, programming changes\, upcoming events\, surveys\, and post-event communications. \nRecording Disclaimer\nBy registering for an online FBA program\, you agree to the recording of audio and visual content presented during the live event and consent to subsequent use of the recording by the FBA. You agree that the recording is the sole property of the FBA and that the recording may be used by the FBA in any manner in its sole and absolute discretion. This recording may include questions and poll responses provided by you during the live event. If you do not consent to the recording and the FBA’s use of the same\, do not register for the event. \nFinancial Assistance\nProgram registrants (both FBA members and nonmembers) who are unable to afford the registration fee may receive a 50% discount on the member rate. Qualifying attorneys include those who are unemployed or actively seeking employment. A formal letter requesting the discount must be emailed to meetings@fedbar.org. That letter needs to state the reason for the attorney’s interest in the course or activity\, as well as proof of income or an explanation of the financial hardship\, and it must be signed by the requesting lawyer. \nIf you have any questions regarding this program\, please contact meetings@fedbar.org.
URL:https://www.fedbar.org/event/quitam22/
LOCATION:Online\, US
CATEGORIES:Qui Tam Section
ATTACH;FMTTYPE=image/jpeg:https://www.fedbar.org/wp-content/uploads/2019/12/QuiTam20-Image.jpg
GEO:37.09024;-95.712891
END:VEVENT
BEGIN:VEVENT
DTSTART;TZID=America/Chicago:20220224T090000
DTEND;TZID=America/Chicago:20220224T120000
DTSTAMP:20260422T185320
CREATED:20220120T221124Z
LAST-MODIFIED:20220120T222948Z
UID:199235-1645693200-1645704000@www.fedbar.org
SUMMARY:P. Michael Mahoney Chapter: Criminal Justice in America from a Legal Prospective
DESCRIPTION:Thursday\, February 24 | 9 AM – 12 PM CT \nThe event will have three parts: \n\nA presentation on the U.S. Federal Sentencing Guidelines by the Honorable Andrea Wood of the U.S. District Court for the Northern District of Illinois\nA presentation by Professor Evan Bernick\, Assistant Professor of Law at the Northern Illinois University College of Law entitled “Reform\, Transform\, or Abolish? How Social Movements for Racial Justice are Changing the Criminal Legal System”\nA panel discussion entitled “Representing Indigent Defendants in Federal Court” with Criminal Justice Panel attorneys Anthony Peska\, Mark Byrd\, John Murphy\, and Brendan Caver.\n\nFeatured Speakers:  \n\nHonorable Andrea Wood of the U.S. District Court for the Northern District of Illinois\nProfessor Evan Bernick\, Assistant Professor of Law\, Northern Illinois College of Law\nAttorney Anthony Peska\, Mahoney & Mahoney\nAttorney John Murphy\, Executive Director\, Federal Defender Program\nAttorney Brendan Caver\, Law office of Brendan W. Caver\nAttorney Mark Byrd\, Mark Byrd P.C.\n\n\nRegistration\n\nComplimentary Registration\n\nHow to Register – RSVP by February 23\, 2022 \nhttps://us02web.zoom.us/meeting/register/tZAld-CsqD0rGdxWf15uk-pGr6JRL4qvv_ND \n\nCLE\nPlease note that 3 Hours of CLE credit is anticipated. \n\nIf you have any questions regarding this program\, please contact Scott R. Hall.
URL:https://www.fedbar.org/event/p-michael-mahoney-chapter-criminal-justice-in-america-from-a-legal-prospective/
LOCATION:Online\, US
CATEGORIES:P Michael Mahoney Rockford Illinois Chapter
ATTACH;FMTTYPE=image/png:https://www.fedbar.org/wp-content/uploads/2020/06/2022-FBA-Flyer-February-event.png
GEO:37.09024;-95.712891
END:VEVENT
BEGIN:VEVENT
DTSTART;VALUE=DATE:20220225
DTEND;VALUE=DATE:20220227
DTSTAMP:20260422T185320
CREATED:20220208T150912Z
LAST-MODIFIED:20220208T154446Z
UID:204843-1645747200-1645919999@www.fedbar.org
SUMMARY:Immigration Law Section: 2022 Asylum & Immigration Law Conference
DESCRIPTION:We are excited to announce that the seventh annual New York Asylum & Immigration Law Conference will convene on Friday\, February 25th\, and Saturday\, February 26th via Zoom. \nThe conference will continue to offer a Beginner and Advanced track on Friday\, February 25th. Saturday’s sessions will focus primarily on current policy issues and practice tips for those who work directly with Afghans. \nThe full agenda of events for both dates can be found on the Eventbrite page\, in addition to information about CLE credits for practicing attorneys. Co-presented with the New York Law School Asylum and Safe Passage Project and Immigrant ARC. \nFor any questions about the conference\, please email immigration.cle@nyls.edu \nLearn More and Register
URL:https://www.fedbar.org/event/immigration-law-section-2022-asylum-immigration-law-conference/
CATEGORIES:Immigration Law Section
END:VEVENT
END:VCALENDAR