BEGIN:VCALENDAR
VERSION:2.0
PRODID:-//Federal Bar Association - ECPv6.15.15//NONSGML v1.0//EN
CALSCALE:GREGORIAN
METHOD:PUBLISH
X-ORIGINAL-URL:https://www.fedbar.org
X-WR-CALDESC:Events for Federal Bar Association
REFRESH-INTERVAL;VALUE=DURATION:PT1H
X-Robots-Tag:noindex
X-PUBLISHED-TTL:PT1H
BEGIN:VTIMEZONE
TZID:America/New_York
BEGIN:DAYLIGHT
TZOFFSETFROM:-0500
TZOFFSETTO:-0400
TZNAME:EDT
DTSTART:20210314T070000
END:DAYLIGHT
BEGIN:STANDARD
TZOFFSETFROM:-0400
TZOFFSETTO:-0500
TZNAME:EST
DTSTART:20211107T060000
END:STANDARD
BEGIN:DAYLIGHT
TZOFFSETFROM:-0500
TZOFFSETTO:-0400
TZNAME:EDT
DTSTART:20220313T070000
END:DAYLIGHT
BEGIN:STANDARD
TZOFFSETFROM:-0400
TZOFFSETTO:-0500
TZNAME:EST
DTSTART:20221106T060000
END:STANDARD
BEGIN:DAYLIGHT
TZOFFSETFROM:-0500
TZOFFSETTO:-0400
TZNAME:EDT
DTSTART:20230312T070000
END:DAYLIGHT
BEGIN:STANDARD
TZOFFSETFROM:-0400
TZOFFSETTO:-0500
TZNAME:EST
DTSTART:20231105T060000
END:STANDARD
END:VTIMEZONE
BEGIN:VTIMEZONE
TZID:America/Chicago
BEGIN:DAYLIGHT
TZOFFSETFROM:-0600
TZOFFSETTO:-0500
TZNAME:CDT
DTSTART:20210314T080000
END:DAYLIGHT
BEGIN:STANDARD
TZOFFSETFROM:-0500
TZOFFSETTO:-0600
TZNAME:CST
DTSTART:20211107T070000
END:STANDARD
BEGIN:DAYLIGHT
TZOFFSETFROM:-0600
TZOFFSETTO:-0500
TZNAME:CDT
DTSTART:20220313T080000
END:DAYLIGHT
BEGIN:STANDARD
TZOFFSETFROM:-0500
TZOFFSETTO:-0600
TZNAME:CST
DTSTART:20221106T070000
END:STANDARD
BEGIN:DAYLIGHT
TZOFFSETFROM:-0600
TZOFFSETTO:-0500
TZNAME:CDT
DTSTART:20230312T080000
END:DAYLIGHT
BEGIN:STANDARD
TZOFFSETFROM:-0500
TZOFFSETTO:-0600
TZNAME:CST
DTSTART:20231105T070000
END:STANDARD
END:VTIMEZONE
BEGIN:VEVENT
DTSTART;TZID=America/New_York:20220111T080000
DTEND;TZID=America/New_York:20220111T121500
DTSTAMP:20260423T074335
CREATED:20211029T195814Z
LAST-MODIFIED:20211029T195859Z
UID:179192-1641888000-1641903300@www.fedbar.org
SUMMARY:John W. Peck Cincinnati-Northern KY Chapter: Federal Practice Seminar for the Southern District of Ohio
DESCRIPTION:The United States District Court for the Southern District of Ohio Federal Practice Seminar is open to all attorneys\, including those already admitted to practice in the Southern District of Ohio and those seeking admission. This seminar is specially designed for lawyers seeking admission to practice in the Southern District of Ohio. Speakers will discuss practice before the District Judges and Magistrate Judges\, and practice in Bankruptcy Court. Speakers will also discuss the Local Rules\, the Federal Rules of Criminal Procedure\, and the Federal Rules of Civil Procedure. \nAll attorneys seeking admission to the bar of the United States District Court for the Southern District of Ohio must attend one such seminar. It is offered twice per year in Cincinnati. The Swearing In of newly admitted attorneys will take place at the conclusion of the Federal Practice Seminar. \n8:00-8:30: Welcome and Introduction to United States District Court Website \n8:30-9:30: Practice and Customs in the United States District Court for the Southern District of Ohio (“S.D. Ohio”) \n9:30- 10:00 AM: Application of the Federal Rules of Criminal Procedure to the Real World \n10:00-10:10: Break \n10:10AM- 10:40 AM: An Introduction to Bankruptcy \n10-:40-11:10: Practice Before the Magistrate Judges \n11:10-11:20: Break \n11:20-11:50: Nuts and Bolts of Practicing in the S.D. Ohio; Practitioner’s Point of View \n11:50- 12:15 PM: Mandatory Certification of Attendance and Swearing in Ceremony \n\n\n\n\n\n\n\n\n\n\nCLE\n3.0 CLE Credits will be offered \n\nRegistration\nRegistration for this event will close January 7\, 2022 \nRegistration Fees \n\nFBA Member – $75\nNonmembers – $100\n\nHow to Register \nRegister Online: https://www.eventbrite.com/e/federal-practice-seminar-us-district-court-southern-district-of-ohio-registration-200122280127 \n\nIf you have any questions regarding this program\, please contact cincy.nky.fba@gmail.com.
URL:https://www.fedbar.org/event/john-w-peck-cincinnati-northern-ky-chapter-federal-practice-seminar-for-the-southern-district-of-ohio-3/
LOCATION:Online\, US
CATEGORIES:John W Peck Cincinnati Northern Kentucky Chapter
GEO:37.09024;-95.712891
END:VEVENT
BEGIN:VEVENT
DTSTART;TZID=America/New_York:20220111T120000
DTEND;TZID=America/New_York:20220111T130000
DTSTAMP:20260423T074335
CREATED:20210806T134340Z
LAST-MODIFIED:20211217T160008Z
UID:154295-1641902400-1641906000@www.fedbar.org
SUMMARY:Section on Taxation: Cryptocurrency Update
DESCRIPTION:Please join us for a cryptocurrency update from the FBA Section on Taxation. Speakers from the IRS\, Eversheds Sutherland\, and Kostelanetz & Fink will discuss current cases and developments in the field\, technology tools and audit streams\, the recent John Doe summonses\, and Operation Hidden Treasure. Topics will also include important changes to the Infrastructure Investment and Jobs Act\, as well as IRS guidance on hard forks and like-kind exchanges.\n\n\n\n  \nAbout the Presenters\nDon Fort\, CPA\, Kostelanetz & Fink\, LLP\nSarah Paul\, Partner\, Eversheds Sutherland\nCarolyn A. Schenck\, National Fraud Counsel and Assistant Division Counsel (International)\, SB/SE Office of Chief Counsel\, Internal Revenue Service \n\nRegistration\n\n\n\nClick to Register (Eversheds Sutherland)\n\n\n\n\n\n\n\n\n\n\n\n\n\n\n\n\n\n\n\n\n\n\n\n\n\n\n\nCLE\nEversheds Sutherland is registered with the National Association of State Boards of Accountancy (NASBA) as a sponsor of group internet based and group live continuing education on the National Registry of CPE Sponsors. State boards of accountancy have final authority on the acceptance of individual courses for CPE credit. Complaints regarding registered sponsors may be submitted to the National Registry of CPE Sponsors through its website: www.nasbaregistry.org. \nCLE credit available: Up to 1.0 hours for the program\nCPE credit available: Up to 1.2 hours for the program \nCLE credit is approved for this webcast in CA\, GA\, NE\, NY\, PA and TX. CLE credit is pending in IL\, VA and WA. An individual attorney application may be required for attorneys licensed outside these states. Please check with your respective state bar(s) for confirmation. This program’s content is transitional\, and is appropriate for both newly admitted and experienced NY attorneys.\nDistance learning courses should be attended in an educational setting that is free from distractions. \nQuestions about CLE can be directed pamelawimmer@eversheds-sutherland.com.
URL:https://www.fedbar.org/event/section-on-taxation-cryptocurrency-update/
CATEGORIES:Section on Taxation,Younger Lawyers Division
END:VEVENT
BEGIN:VEVENT
DTSTART;TZID=America/New_York:20220111T130000
DTEND;TZID=America/New_York:20220111T140000
DTSTAMP:20260423T074335
CREATED:20211209T220517Z
LAST-MODIFIED:20220110T205433Z
UID:195711-1641906000-1641909600@www.fedbar.org
SUMMARY:Webinar: Contending with Depression as a Lawyer
DESCRIPTION:This webinar will feature a panel of speakers discussing lawyers’ experiences of depression.  In particular\, the panel will address issues such as: \n\nThe state of mental health and depression in the legal field\, to raise awareness and destigmatize\nTools for self-care\, how to find peer-support/connection\, stress management (in addition to traditional tools like counseling and medication)\nHow to disclose depression to colleagues/supervisors/opposing counsel/courts and seek/consider accommodation\nBuilding perspectives on practicing law and build on rather than suffer from errors/mistakes\n\nOrganized by the Professional Development Task Force \n\nAbout the Presenters\nJulia A. Clayton\, Co-Founder & Vice President\, Lawyers Depression Project \nJulia has worked in the public sector for over 16 years\, with her most recent work representing state health and welfare agencies in federal and state litigation.  As a co-founder of the Lawyers Depression Project (LDP)\, Julia works to provide peer-support to others in the legal profession who\, like herself\, are dealing with mental health conditions. Julia facilitates video conference support meetings\, interacts with members through LDP’s online platform\, and develops content encouraging recognition\, normalization\, and acceptance of mental health concerns. \n \nDavid Evan Markus\, Co-Founder\, Executive Officer & Training Director\, Lawyers Depression Project \nDavid is North America’s only full-time judicial official simultaneously serving as pulpit clergy. David presides as judicial referee in New York Supreme Court\, 9th Judicial District. His past public service roles include special counsel to the Chief Judge of New York\, special counsel to the New York Senate Majority\, deputy director of voter protection for Pres. Barack Obama’s 2008 campaign\, justice policy counsel to New York Gov. Eliot Spitzer’s transition\, and senior law secretary to the New York Court of Appeals. David served as faculty in graduate public administration at Pace University\, and political science at Fordham University. David is co-founder\, executive officer\, training director and peer counselor for the nonprofit Lawyers Depression Project\, a national platform for legal professional wellness\, support and advocacy. He teaches nationally on practice management\, ethics and systemic dynamics of attorney wellness for both bar and bench. On the “clergy side\,” David is senior rabbi of Temple Beth El (City Island\, NY)\, Board chair and senior builder for Bayit: Building Jewish (innovation incubator)\, and trustee of the Center of Theological Inquiry at Princeton (leveraging theology to address global concerns). He is seminary faculty for the Academy for Jewish Religion\, and maintains an active private counseling practice. David earned a Juris Doctor magna cum laude from Harvard Law School\, a Masters in Public Policy from Harvard University’s John F. Kennedy School of Government (which awarded him the global “Innovator in Public Service” designation)\, and a Bachelor of Arts summa cum laude from Williams College.  He also earned double ordination as rabbi and spiritual director from ALEPH\, and a certificate in spiritual entrepreneurship from Columbia Business School. \nJoseph Milowic III\, Partner & Director of Well-Being at Quinn Emanuel Urquhart & Sullivan\, LLP; Founder\, Lawyers Depression Project \nJoe is a leader in the attorney mental health and well-being movement. He co-founded a non-profit called the Lawyers Depression Project (LDP) which provides online peer support to legal professionals around the world. Joe also serves by judicial appointment to the New York Court’s Advisory Committee on Access for People with Disabilities. He enjoys sharing his personal story of his experience with stress and bouts of major depression while managing the demands of working as a trial lawyer at a top disputes resolution firm. He is often joined by licensed mental health professionals who speak about stress management and the symptoms of depression\, how to help yourself or someone you are concerned about\, and the free confidential services available through the Lawyers Assistance Programs (available in each state). \n  \n\nRegistration\nRegistration for this webinar is now closed. \nRegistration Fees \n\nFBA Member: $0\nNonmember: $75\n\nLive Captioning: Closed captioning is available for all virtual webcasts. \nCancellation Policy: No refunds will be made for cancellations received after the close of business on January 4\, 2022. No-shows will be billed. Substitutions may be made at any time upon notification. Please contact meetings@fedbar.org with cancellation and/or substitution requests. \nInternet Requirements: Virtual programs require suitable internet strength to stream online panels. A minimum internet connection of 800 Kbps is recommended for an optimal attendee experience. Test your connection here.  \n\nCLE\nThis webinar does not offer CLE credit. \n\nEmail Communication Policy: By registering for this event\, you agree to receive email communications from the Federal Bar Association and affiliated sponsors of the program concerning event details\, Continuing Legal Education certification\, programming changes\, upcoming events\, surveys\, and post-event communications. \nRecording Disclaimer: By registering for an FBA webinar\, you agree to the recording of audio and visual content presented during the live event and consent to subsequent use of the recording by the FBA. You agree that the recording is the sole property of the FBA and that the recording may be used by the FBA in any manner in its sole and absolute discretion. This recording may include questions and poll responses provided by you during the live event. If you do not consent to the recording and the FBA’s use of the same\, do not register for the event. \nIf you have any questions regarding this program\, please contact Caitlin Rider\, Sr. Conference Manager at crider@fedbar.org. 
URL:https://www.fedbar.org/event/webinar-contendingwithdepression/
LOCATION:Online\, US
GEO:37.09024;-95.712891
END:VEVENT
BEGIN:VEVENT
DTSTART;TZID=America/Chicago:20220112T120000
DTEND;TZID=America/Chicago:20220112T130000
DTSTAMP:20260423T074335
CREATED:20211222T161147Z
LAST-MODIFIED:20211222T163710Z
UID:196471-1641988800-1641992400@www.fedbar.org
SUMMARY:Chicago Chapter: Sherlock Holmes and the Art of Evidence
DESCRIPTION:Sherlock Holmes and the Art of Evidence \nWednesday\, January 12\, 2022 | 12 PM – 1:00 PM CST\nLong before the Federal Rules of Evidence even existed\, the Sherlock Holmes’ stories offered great practical advice for lawyers and real-life investigators who had to figure out the facts and make their cases. This session will draw upon Sherlock Holmes’ stories and will be led by former prosecutor Stephen Lee\, who has written articles about Sherlock Holmes and investigative techniques. \nFeatured Speaker \n \nStephen Chahn Lee\, Litigation Partner\, Benesch\, Friedlander\, Coplan & Aronoff LLP \nStephen is an experienced trial lawyer and litigator whose practice focuses on helping corporations and individuals facing governmental investigations\, particularly involving health care fraud\, the False Claims Act and the Anti-Kickback Statute. \n\nRegistration\n\nComplimentary Registration\n\nRegister Online: https://www.fedbarchicago.org/event/sherlock-holmes-2022/ \n\nEmail Communication Policy \nBy registering for this event\, you agree to receive email communications from the Federal Bar Association and affiliated sponsors of the program concerning event details\, Continuing Legal Education certification\, programming changes\, upcoming events\, surveys\, and post-event communications. \n\nIf you have any questions regarding this program\, please contact Stephen Chahn Lee at slee@beneschlaw.com.
URL:https://www.fedbar.org/event/chicago-chapter-sherlock-holmes-and-the-art-of-evidence/
LOCATION:Online\, US
CATEGORIES:Chicago Chapter
GEO:37.09024;-95.712891
END:VEVENT
BEGIN:VEVENT
DTSTART;TZID=America/New_York:20220112T140000
DTEND;TZID=America/New_York:20220112T150000
DTSTAMP:20260423T074335
CREATED:20211122T170229Z
LAST-MODIFIED:20220112T033426Z
UID:193273-1641996000-1641999600@www.fedbar.org
SUMMARY:Webinar: International Assets Investigation\, Tracing and Recovery
DESCRIPTION:Panelists will discuss the powers available to the Judiciary to seize internationally owned property\, comparing U.S. and EU practices regarding the identification\, tracing\, and confiscation of the assets. Specifically\, Mr. Zappelli and Mr. Kellner will share their expertise on the legal procedures and techniques required for successful asset recovery. Of particular interest are the various overlapping cross-border legal issues that can both enable and prevent the successful outcome of an asset recovery procedure. Strategy and timing play a key role in the execution of such procedures because\, more often than not\, the counterparty is actively trying to avoid and evade any such measures. Finally\, our expert panelists will favor advice as to how to structure and execute asset recovery measures to our interested practitioners and judges. \nPresented by the International Law Section \nRegistration for this event is now closed. \n\nAbout the Speakers\nBeth S. Persky\, Attorney\, Law Office of Beth S. Persky (Moderator) \nBeth Persky is a graduate of the Boston University School of Law and the Fletcher School of Law and Diplomacy\, where she studied International Law and International Human Rights law. She has practiced immigration law for more than 25 years\, and is a Certified Specialist in Immigration and Nationality Law with the California State Bar Board of Legal Specialization. Beth is the past chair of the International Law Section of the FBA. She is admitted to practice before the Federal District Courts for the Central and Southern Districts of California\, and before the Ninth Circuit Court of Appeals. Her Southern California practice focuses on immigration appeals and visas. \nDouglas A. Kellner\, Partner\, Kellner Herlihy Getty & Friedman LLP \nDouglas A. Kellner is a partner in the law firm Kellner Herlihy Getty & Friedman LLP\, where he specializes in complex international asset recovery litigation. He led the team that recovered more than $200 million for the French government agency Consortium de Réalisation after unraveling an intricate web of concealment and fraud. CDR Créances\, S.A.S. v Cohen\, 23 NY3d 307 (2014). He has also represented numerous foreign and New York clients in complex real estate litigation\, judgment recognition and cross-border discovery and bankruptcy proceedings. \n  \nDaniel Zappelli\, Founding Partner\, Vafadar Sivilotti Zappelli\nFormer Attorney General\, State and Canton of Geneva\, Switzerland \nDaniel Zappelli was born in Switzerland in 1964. He practiced in the Geneva Bar for nearly 10 years before being appointed as a Court magistrate where he occupied the offices of civil judge and of commercial and insolvency judge. \nDaniel Zappelli was elected twice as Attorney General of the Republic and District of Geneva. He occupied this prestigious office as first magistrate of the Geneva judicial power from 2002 to 2012\, during which time he was involved in high profile domestic and international cases\, comprising notably proceedings involving former heads of state and asset recovery. \nFollowing his terms in office\, Daniel Zappelli became a consultant operating in the UAE for multinationals and HNI clients. Currently Daniel Zappelli is one of the founding partners of the Law firm Vafadar Sivilotti Zappelli with offices in Geneva\, Lausanne and Sion. \n\nRegistration\nRegistration for this event is now closed. \nRegistration Fees \n\nFBA Member: $0\nNonmember: $75\n\nLive Captioning: Closed captioning is available for all virtual webcasts. \nCancellation Policy: No refunds will be made for cancellations received after the close of business on January 5\, 2022. No-shows will be billed. Substitutions may be made at any time upon notification. Please contact Ariel White at awhite@fedbar.org with cancellation and/or substitution requests. \nInternet Requirements: Virtual programs require suitable internet strength to stream online panels. A minimum internet connection of 800 Kbps is recommended for an optimal attendee experience. Test your connection here.  \n\nCLE\nCLE: 1 CLE Credit (60min state) / 1.2 CLE Credit (50min state) \nCLE Credit will be processed/reported approximately 4-6 weeks after the event date and available for credit in states that allow credit for live webinar presentations. You must attend the live broadcast\, answer engagement polls\, and accurately enter your bar number in our database to receive credit. Certificates and required documentation for self-reporting states will be issued via email\, upon state bar approval. Thank you in advance for your patience\, as state bars are experiencing significant delays with virtual program processing. \nClick Here for more information on CLE Attendance and Reporting. \n\nEmail Communication Policy: By registering for this event\, you agree to receive email communications from the Federal Bar Association and affiliated sponsors of the program concerning event details\, Continuing Legal Education certification\, programming changes\, upcoming events\, surveys\, and post-event communications. \nRecording Disclaimer: By registering for an FBA webinar\, you agree to the recording of audio and visual content presented during the live event and consent to subsequent use of the recording by the FBA. You agree that the recording is the sole property of the FBA and that the recording may be used by the FBA in any manner in its sole and absolute discretion. This recording may include questions and poll responses provided by you during the live event. If you do not consent to the recording and the FBA’s use of the same\, do not register for the event. \nIf you have any questions regarding this program\, please contact Ariel White\, Program Coordinator\, at awhite@fedbar.org
URL:https://www.fedbar.org/event/webinar-international-assets-investigation-tracing-and-recovery/
LOCATION:Online\, US
CATEGORIES:International Law Section
GEO:37.09024;-95.712891
END:VEVENT
END:VCALENDAR