BEGIN:VCALENDAR
VERSION:2.0
PRODID:-//Federal Bar Association - ECPv6.15.15//NONSGML v1.0//EN
CALSCALE:GREGORIAN
METHOD:PUBLISH
X-WR-CALNAME:Federal Bar Association
X-ORIGINAL-URL:https://www.fedbar.org
X-WR-CALDESC:Events for Federal Bar Association
REFRESH-INTERVAL;VALUE=DURATION:PT1H
X-Robots-Tag:noindex
X-PUBLISHED-TTL:PT1H
BEGIN:VTIMEZONE
TZID:America/New_York
BEGIN:DAYLIGHT
TZOFFSETFROM:-0500
TZOFFSETTO:-0400
TZNAME:EDT
DTSTART:20210314T070000
END:DAYLIGHT
BEGIN:STANDARD
TZOFFSETFROM:-0400
TZOFFSETTO:-0500
TZNAME:EST
DTSTART:20211107T060000
END:STANDARD
BEGIN:DAYLIGHT
TZOFFSETFROM:-0500
TZOFFSETTO:-0400
TZNAME:EDT
DTSTART:20220313T070000
END:DAYLIGHT
BEGIN:STANDARD
TZOFFSETFROM:-0400
TZOFFSETTO:-0500
TZNAME:EST
DTSTART:20221106T060000
END:STANDARD
BEGIN:DAYLIGHT
TZOFFSETFROM:-0500
TZOFFSETTO:-0400
TZNAME:EDT
DTSTART:20230312T070000
END:DAYLIGHT
BEGIN:STANDARD
TZOFFSETFROM:-0400
TZOFFSETTO:-0500
TZNAME:EST
DTSTART:20231105T060000
END:STANDARD
END:VTIMEZONE
BEGIN:VEVENT
DTSTART;TZID=America/New_York:20220107T130000
DTEND;TZID=America/New_York:20220107T140000
DTSTAMP:20260423T064148
CREATED:20211227T182646Z
LAST-MODIFIED:20220107T171944Z
UID:196730-1641560400-1641564000@www.fedbar.org
SUMMARY:Office Ergonomics for Lawyers: Where Optimal Comfort\, Productivity\, and Defensibility Meet
DESCRIPTION:This webinar\, given by a licensed physical therapist\, reasonable accommodations coordinator\, and ergonomic injury prevention expert\, starts with an overview of what isn’t working in the world of ergonomics today.  It ends with a step-by-step guide on how to best set up an office to facilitate ideal work postures and movement patterns that are evidence-based to deter work-related spine and joint pain while concurrently optimizing comfort and productivity. \nPresented by the Senior Lawyers Division \nRegistration is Closed \n\nPanelists\nJeannie Koulizakis\, Director of Ergonomics\, ErgoRX.COM & Director of Physical Therapy\, Nova Pain and Rehabilitation \nJeannie Koulizakis is a practicing physical therapist\, inventor\, and ergonomics program consultant on a mission to advance the art & science of healthy computer-based learning\, playing\, and working from anywhere\, at any age. She is the Director of Physical Therapy at Nova Pain and Rehab in Arlington\, Virginia\, the Founder of ErgoRX.COM\, and inventor of The Ankorite Work System\, a patented and evidence-based method of custom ergonomic workspace design proven to eliminate the toxic postures risks at the root of most spine & joint repetitive stress injuries today.  Jeannie’s favorite thing to do when not working is spending time with her husband\, Szymon Sawicki\, a Jiu-Jitsu Instructor and MMA fighter\, and two sons\, Angelo and Leonidas.  \n\nRegistration\nClick here to register. \nRegistration for this event will close January 6 at 2 PM ET.  \nRegistration Fees \n\nFBA Member: $0\nNonmember: $75\n\n\n\n\n\n\n\n\n\nLive Captioning: Closed captioning is available for all virtual webcasts. \n\n\nInternet Requirements: Virtual programs require suitable internet strength to stream online panels. A minimum internet connection of 800 Kbps is recommended for an optimal attendee experience. Test your connection here.  \n\n\n\n\n\n\n\n\n\n\n\n\n\n\n\n\nCLE\nPlease note CLE will not be offered for this event.  \n\n\n\n\n\n\n\n\nFrequently Asked Questions\nQ: How do I access the virtual webinar?\nA: Each webinar will have a unique link to watch the live broadcast. Registered attendees will receive login instructions via a calendar invitations 24 hours prior to the webinar. \nQ: Will recordings of the sessions be available after the event?\nA: Approved sessions will be available for registrants to view live and on-demand following the webinar. \nQ: Who do I contact for more information?\nA: Please contact sections@fedbar.org for any other questions. \n\nEmail Communication Policy\nBy registering for this event\, you agree to receive email communications from the Federal Bar Association and affiliated sponsors of the program concerning event details\, Continuing Legal Education certification\, programming changes\, upcoming events\, surveys\, and post-event communications. \nRecording Disclaimer\nBy registering for an online FBA program\, you agree to the recording of audio and visual content presented during the live event and consent to subsequent use of the recording by the FBA. You agree that the recording is the sole property of the FBA and that the recording may be used by the FBA in any manner in its sole and absolute discretion. This recording may include questions and poll responses provided by you during the live event. If you do not consent to the recording and the FBA’s use of the same\, do not register for the event.
URL:https://www.fedbar.org/event/office-ergonomics-for-lawyers-where-optimal-comfort-productivity-and-defensibility-meet/
CATEGORIES:Senior Lawyers Division
END:VEVENT
END:VCALENDAR