BEGIN:VCALENDAR
VERSION:2.0
PRODID:-//Federal Bar Association - ECPv6.15.15//NONSGML v1.0//EN
CALSCALE:GREGORIAN
METHOD:PUBLISH
X-WR-CALNAME:Federal Bar Association
X-ORIGINAL-URL:https://www.fedbar.org
X-WR-CALDESC:Events for Federal Bar Association
REFRESH-INTERVAL;VALUE=DURATION:PT1H
X-Robots-Tag:noindex
X-PUBLISHED-TTL:PT1H
BEGIN:VTIMEZONE
TZID:America/New_York
BEGIN:DAYLIGHT
TZOFFSETFROM:-0500
TZOFFSETTO:-0400
TZNAME:EDT
DTSTART:20200308T070000
END:DAYLIGHT
BEGIN:STANDARD
TZOFFSETFROM:-0400
TZOFFSETTO:-0500
TZNAME:EST
DTSTART:20201101T060000
END:STANDARD
BEGIN:DAYLIGHT
TZOFFSETFROM:-0500
TZOFFSETTO:-0400
TZNAME:EDT
DTSTART:20210314T070000
END:DAYLIGHT
BEGIN:STANDARD
TZOFFSETFROM:-0400
TZOFFSETTO:-0500
TZNAME:EST
DTSTART:20211107T060000
END:STANDARD
BEGIN:DAYLIGHT
TZOFFSETFROM:-0500
TZOFFSETTO:-0400
TZNAME:EDT
DTSTART:20220313T070000
END:DAYLIGHT
BEGIN:STANDARD
TZOFFSETFROM:-0400
TZOFFSETTO:-0500
TZNAME:EST
DTSTART:20221106T060000
END:STANDARD
END:VTIMEZONE
BEGIN:VEVENT
DTSTART;TZID=America/New_York:20211103T140000
DTEND;TZID=America/New_York:20211103T150000
DTSTAMP:20260423T122520
CREATED:20211025T143149Z
LAST-MODIFIED:20211103T171307Z
UID:177951-1635948000-1635951600@www.fedbar.org
SUMMARY:Webinar: Agility in the Face of Change/GDPR
DESCRIPTION:Panel members will discuss relevant details relating to the General Data Protection Regulation (GDPR). The presentation will include a brief history of cross-border data flows between the US and the European Union. Panel members will also discuss the evolution of Standard Contractual Clauses (SCCs). Finally\, panel members will provide an introduction to Transfer Impact Assessments (TIAs). \nPresented by the Corporate and Association Counsel Division \n\nRegistration for this event is now closed. \n\nAbout the Speakers\nRenata Lowenbraun\, Vice President\, Legal\, Prove\n(moderator) \nRena Lowenbraun is Vice President of Legal at Prove (formerly Payfone).  She is a member of the International Association of Privacy Professionals (IAPP) and is a Certified Information Privacy Professional for the United States (CIPP/US).  She is also a OneTrust Certified Privacy Management Professional. Formerly Payfone\, Prove is the world’s leading digital identity authentication network. Its award-winning next-generation Trust Platform validates identities and enables enterprises to deliver fast\, frictionless\, and fraud-free customer experiences to over 90% of their customers. Prove closes the ‘trust gap’ and issues a real-time proprietary Trust Score for 6 of the top 10 financial institutions\, and leading healthcare\, insurance\, technology and retail companies. \nJulian Cunningham-Day\, Partner\, Linklaters \nJulian’s depth of international expertise in tech\, telecoms\, data and associated commercial contracts and advisory work makes him especially sought after. As well as his role as a partner in the TMT practice\, he wears a number of different hats\, including as co-head of our global Technology\, Fintech and Telecoms Sector Groups. As digitisation brings with it the inevitable trend towards consolidation and convergence\, he is perfectly placed to advise both traditional players and new entrants on the unique blend of issues arising from disruption. \nHe has a wide practice encompassing commercial and regulatory tech\, fintech and telecoms work\, as well as all aspects of data governance\, outsourcing and complex service contracts. His particular focus is working in highly regulated industries such as financial services\, professional services\, telecoms\, utilities and the public sector\, where he can combine his regulatory and commercial expertise. \nHe is also a market leader in relation to fintech issues\, helping to found our top tier fintech practice. He has advised on ground-breaking technological and other developments in financial markets for over 20 years\, as well as on some of the world’s largest financial services outsourcings. \nJulian is listed in the Legal 500 and Chambers for IT and telecoms\, data protection and fintech. \nJoseph Kwon\, Associate Director\, Global Quality & Risk Management\, KPMG International \n\n\n\n\n\nJoseph Kwon is an Associate Director with KPMG International\, whose global network of independent member firms offer audit\, tax and advisory services in 155 countries. He is responsible for providing privacy and cross-border guidance. As the Connection Counselor\, Joe hosts the “Why It Works” podcast and is the author of the ground-breaking book Unlock Your Charisma.” He holds a B.A. in psychology from the University of Virginia\, a J.D. from Georgetown University\, and lives in Oakland with his family. \n\n\n\n\n\n\nRegistration\nRegistration for this event will close Tuesday\, November 2 at 2 PM ET. \nRegistration Fees \n\nFBA Member: $0\nNonmember: $75\n\nRegistration for this event is now closed. \nLive Captioning: Closed captioning is available for all virtual webcasts. \nCancellation Policy: No refunds will be made for cancellations received after the close of business on October 27\, 2021. No-shows will be billed. Substitutions may be made at any time upon notification. Please contact Ariel White at awhite@fedbar.org with cancellation and/or substitution requests. \nInternet Requirements: Virtual programs require suitable internet strength to stream online panels. A minimum internet connection of 800 Kbps is recommended for an optimal attendee experience. Test your connection here.  \n\nCLE\nCLE: 1 CLE Credit (60min state) / 1.2 CLE Credit (50min state) \nCLE Credit will be processed/reported approximately 4-6 weeks after the event date and available for credit in states that allow credit for live webinar presentations. You must attend the live broadcast\, answer engagement polls\, and accurately enter your bar number in our database to receive credit. Certificates and required documentation for self-reporting states will be issued via email\, upon state bar approval. Thank you in advance for your patience\, as state bars are experiencing significant delays with virtual program processing. \nClick Here for more information on CLE Attendance and Reporting. \n\nEmail Communication Policy: By registering for this event\, you agree to receive email communications from the Federal Bar Association and affiliated sponsors of the program concerning event details\, Continuing Legal Education certification\, programming changes\, upcoming events\, surveys\, and post-event communications. \nRecording Disclaimer: By registering for an FBA webinar\, you agree to the recording of audio and visual content presented during the live event and consent to subsequent use of the recording by the FBA. You agree that the recording is the sole property of the FBA and that the recording may be used by the FBA in any manner in its sole and absolute discretion. This recording may include questions and poll responses provided by you during the live event. If you do not consent to the recording and the FBA’s use of the same\, do not register for the event. \nIf you have any questions regarding this program\, please contact Ariel White\, Program Coordinator\, at awhite@fedbar.org
URL:https://www.fedbar.org/event/webinar-agility-in-the-face-of-change-gdpr/
LOCATION:Online\, US
CATEGORIES:Corporate Association Counsel Division
GEO:37.09024;-95.712891
END:VEVENT
BEGIN:VEVENT
DTSTART;TZID=America/New_York:20211103T173000
DTEND;TZID=America/New_York:20211103T190000
DTSTAMP:20260423T122520
CREATED:20211020T003221Z
LAST-MODIFIED:20211020T003601Z
UID:176454-1635960600-1635966000@www.fedbar.org
SUMMARY:Southern District of New York Chapter: Myth Busting the Trans Sports Panic: The Imagined Crisis at the Top and The Ignored Crisis at the Bottom
DESCRIPTION:The Federal Bar Association\, SDNY Chapter along with co-sponsors the Westchester Black Bar Association\, Westchester County Bar Association and the Westchester Women’s Bar Association presents a CLE program on transgender athletes and a review of the legal landscape driving the sports inclusion backlash. \nThe panel includes Chris Mosier\, a transgender advocate and Team USA Athlete; Julia De Persia\, Gender and Disability Equity Lead for the New York City Department of Education; and Elizabeth Tang\, Senior Counsel for Education and Workplace Justice at the National Women’s Law Center. Program will be moderated by J. Remy Green\, civil rights attorney and lecturer of law. \n\n  \nRegistration\n\nComplimentary Registration\n\n\n\n\n\n\n\n\nRegister Online: https://www.eventbrite.com/e/myth-busting-the-trans-sports-panic-tickets-194072605387\n\n\n\n\n\n\n\n\n\n\n\n\n\n\n\n\n\nCLE\n1.5 CLE Credits in Professional Practice and Diversity pending approval in accordance with the requirements of the NYS Continuing Legal Education Board. \n\n\n\n\n\n\n\n\nEmail Communication Policy \nBy registering for this event\, you agree to receive email communications from the Federal Bar Association and affiliated sponsors of the program concerning event details\, Continuing Legal Education certification\, programming changes\, upcoming events\, surveys\, and post-event communications. \n\nIf you have any questions regarding this program\, please contact Nancy Morisseau
URL:https://www.fedbar.org/event/southern-district-of-new-york-chapter-myth-busting-the-trans-sports-panic-the-imagined-crisis-at-the-top-and-the-ignored-crisis-at-the-bottom/
LOCATION:Online\, US
CATEGORIES:Southern District of New York Chapter
ATTACH;FMTTYPE=image/jpeg:https://www.fedbar.org/wp-content/uploads/2021/10/Myth-Busting-the-Trans-Sports-Panic-The-Imagined-Crisis-at-the-Top-and-the-Ignored-Crisis-at-the.jpg
GEO:37.09024;-95.712891
END:VEVENT
BEGIN:VEVENT
DTSTART;TZID=America/New_York:20211104T120000
DTEND;TZID=America/New_York:20211104T140000
DTSTAMP:20260423T122520
CREATED:20210928T201952Z
LAST-MODIFIED:20211104T132547Z
UID:170632-1636027200-1636034400@www.fedbar.org
SUMMARY:Qui Tam Section: [VIRTUAL] False Claims Act Today – Middle District of Tennessee
DESCRIPTION:**Program hosted in (ET) time zone** \nHosted by the FBA’s Qui Tam Section\, often in cooperation with local FBA chapters\, “The False Claims Act Today” is a discussion series that examines the details of real-life FCA practice in specific jurisdictions. Sessions typically focus on a single federal district and feature an experienced local panel that includes an Assistant U.S. Attorney for the district; a federal judge; a relator-side attorney; and a defense attorney. This online-only event will be conducted via Zoom and will spotlight the Middle District of Tennessee. \nThis event does not offer CLE credit. Registrants will receive Zoom login details on the day before the event. \nRegistration is Closed \n\nAbout the Presenters\nR. Scott Oswald – Chair\, FBA Qui Tam Section (moderator) \nScott Oswald is an accomplished trial lawyer who has brought more than 40 trials to verdict. His cases have recovered more than $300 million in judgments and settlements. A fellow of the prestigious College of Labor and Employment Lawyers\, he received his law degree from Howard University and honed his skills at Trial Lawyers College\, founded by the legendary Gerry Spence. Mr. Oswald litigates employment and whistleblower actions nationwide. Among his results: \n\nFirst jury verdict under new whistleblower protections in the National Defense Authorization Act of 2013|\nFirst Sarbanes-Oxley Act liability verdict to withstand appeal\nFirst jury verdict under 2009 anti-retaliation provisions of False Claims Act\nFirst Dodd-Frank Act retaliation lawsuit to reach discovery in federal court\n\nMr. Oswald is chair of the Federal Bar Association’s Qui Tam Section and immediate past chair of the FBA’s Professional Ethics Committee. Lawdragon ranks him as one of the top 500 plaintiff-side employment lawyers in the country. \nW. Michael Hamilton\, Partner\, Provost Umphrey Law Firm L.L.P. \nMike Hamilton is the resident Partner in the Nashville office of Provost Umphrey Law Firm\, LLP. Mr. Hamilton has engaged in civil litigation practice since 1977\, concentrating on the representation of unions and employees in labor and employment litigation\, consumers in class action litigation and whistleblowers in False Claims Act litigation.  He is a 1974 graduate of the University of Denver and a 1977 graduate of the University of Arkansas\, Leflar Law Center.  His previous positions include Partner at Gardner\, Middlebrooks\, Fleming and Hamilton\, P.C.\, Associate General Counsel of the United Paperworkers International Union\, AFL-CIO and counsel to NLRB member Betty Murphy.  He is licensed to practice in Tennessee and Arkansas and has been admitted to more than fifteen Federal Courts nationwide. \nKaitlin Hazard\, Assistant U.S. Attorney\, M.D. Tenn.  \nKaitlin Hazard is an Assistant United States Attorney who focuses on Affirmative Civil Enforcement in the United States Attorney’s Office for the Middle District of Tennessee. Prior to becoming an AUSA\, Ms. Hazard focused on internal investigations\, government enforcement\, and compliance matters in private practice. She began her career working on Foreign Corruption Practices Act and False Claims Act matters at a law firm in Washington\, D.C. She subsequently practiced at law firm based in Nashville\, TN\, with a focus on healthcare fraud investigations. Ms. Hazard is a graduate of Vassar College and Georgetown University Law Center. \nHon. Eli J. Richardson\, U.S. District Judge\, M.D. Tenn. \nJudge Richardson was initially nominated to the U.S. District Court for the Middle District of Tennessee in 2017 and received his commission in October 2018. Before taking the bench\, Judge Richardson was a partner at Bass\, Berry & Sims in Nashville\, where his practice focused on government investigations involving alleged white-collar crime\, False Claims Act violations\, and quasi-criminal civil violations. Before engaging in private practice\, Judge Richardson served nineteen months overseas as the U.S. Department of Justice’s resident legal adviser to Serbia\, providing training\, advice\, and case-specific assistance to Serbian judges\, police\, and prosecutors. From 2004 to 2009\, Judge Richardson served as an Assistant U.S. Attorney in the Middle District of Tennessee\, where he served as the anti-terrorism coordinator\, head of the terrorism and official corruption unit\, and finally criminal chief\, all in addition to prosecuting cases. \nFrom 2002 to 2004\, Judge Richardson served as an Assistant U.S. Attorney in the District of New Jersey\, investigating and prosecuting a wide variety of criminal violations. In the four years prior to that\, Judge Richardson spent four years as a Federal Bureau of Investigation special agent\, working first on public-corruption investigations and then on counterterrorism matters. Judge Richardson began his career in private practice from 1992 to 1998\, focusing on commercial litigation and intellectual property matters. He has served as an adjunct faculty member at both Belmont College of Law and Vanderbilt Law School. \nChristopher C. Sabis\, Member\, Sherrard Roe Voigt & Harbison\, PLC \nChris Sabis heads Sherrard Roe Voigt & Harbison’s Government Compliance & Investigations group in Nashville\, Tennessee\, and concentrates his practice in Government Investigations and Litigation. He has extensive experience in False Claims Act (FCA) matters involving allegations of healthcare and procurement fraud\, white-collar fraud investigations\, and commercial litigation. Mr. Sabis has significant experience in the mediation of FCA cases and is a Rule 31 Listed General Civil Mediator by the Tennessee Supreme Court. Before joining the firm\, Mr. Sabis served nearly a decade as an Assistant United States Attorney in the Middle District of Tennessee. Mr. Sabis  serves as a Hearing Examiner for the Tennessee Board of Professional Responsibility and on the Boards of Stars Nashville and Autism Tennessee. \n\nRegistration\n[Register Online] \nFBA Members – $0\nNonmembers – $10 \nRegistrants will receive Zoom login details on the day before the event \nCancellation Policy \nNo refunds will be made for cancellations received after the close of business on November 1\, 2021. No-shows will be billed. Substitutions may be made at any time upon notification. Please contact Daniel Hamilton at dhamilton@fedbar.org with cancellation and/or substitution requests. \n\nCLE\nPlease note that CLE credit is not offered for this webinar. \n\nEmail Communication Policy \nBy registering for this event\, you agree to receive email communications from the Federal Bar Association and affiliated sponsors of the program concerning event details\, Continuing Legal Education certification\, programming changes\, upcoming events\, surveys\, and post-event communications. \nRecording Disclaimer \nBy registering for an FBA webinar\, you agree to the recording of audio and visual content presented during the live event and consent to subsequent use of the recording by the FBA. You agree that the recording is the sole property of the FBA and that the recording may be used by the FBA in any manner in its sole and absolute discretion. This recording may include questions and poll responses provided by you during the live event. If you do not consent to the recording and the FBA’s use of the same\, do not register for the event. \nIf you have any questions regarding this program\, please contact sections@fedbar.org.
URL:https://www.fedbar.org/event/qui-tam-section-virtual-false-claims-act-today-middle-district-of-tennessee/
CATEGORIES:Qui Tam Section
END:VEVENT
END:VCALENDAR