BEGIN:VCALENDAR
VERSION:2.0
PRODID:-//Federal Bar Association - ECPv6.15.15//NONSGML v1.0//EN
CALSCALE:GREGORIAN
METHOD:PUBLISH
X-ORIGINAL-URL:https://www.fedbar.org
X-WR-CALDESC:Events for Federal Bar Association
REFRESH-INTERVAL;VALUE=DURATION:PT1H
X-Robots-Tag:noindex
X-PUBLISHED-TTL:PT1H
BEGIN:VTIMEZONE
TZID:America/New_York
BEGIN:DAYLIGHT
TZOFFSETFROM:-0500
TZOFFSETTO:-0400
TZNAME:EDT
DTSTART:20220313T070000
END:DAYLIGHT
BEGIN:STANDARD
TZOFFSETFROM:-0400
TZOFFSETTO:-0500
TZNAME:EST
DTSTART:20221106T060000
END:STANDARD
BEGIN:DAYLIGHT
TZOFFSETFROM:-0500
TZOFFSETTO:-0400
TZNAME:EDT
DTSTART:20230312T070000
END:DAYLIGHT
BEGIN:STANDARD
TZOFFSETFROM:-0400
TZOFFSETTO:-0500
TZNAME:EST
DTSTART:20231105T060000
END:STANDARD
BEGIN:DAYLIGHT
TZOFFSETFROM:-0500
TZOFFSETTO:-0400
TZNAME:EDT
DTSTART:20240310T070000
END:DAYLIGHT
BEGIN:STANDARD
TZOFFSETFROM:-0400
TZOFFSETTO:-0500
TZNAME:EST
DTSTART:20241103T060000
END:STANDARD
END:VTIMEZONE
BEGIN:VTIMEZONE
TZID:America/Chicago
BEGIN:DAYLIGHT
TZOFFSETFROM:-0600
TZOFFSETTO:-0500
TZNAME:CDT
DTSTART:20220313T080000
END:DAYLIGHT
BEGIN:STANDARD
TZOFFSETFROM:-0500
TZOFFSETTO:-0600
TZNAME:CST
DTSTART:20221106T070000
END:STANDARD
BEGIN:DAYLIGHT
TZOFFSETFROM:-0600
TZOFFSETTO:-0500
TZNAME:CDT
DTSTART:20230312T080000
END:DAYLIGHT
BEGIN:STANDARD
TZOFFSETFROM:-0500
TZOFFSETTO:-0600
TZNAME:CST
DTSTART:20231105T070000
END:STANDARD
BEGIN:DAYLIGHT
TZOFFSETFROM:-0600
TZOFFSETTO:-0500
TZNAME:CDT
DTSTART:20240310T080000
END:DAYLIGHT
BEGIN:STANDARD
TZOFFSETFROM:-0500
TZOFFSETTO:-0600
TZNAME:CST
DTSTART:20241103T070000
END:STANDARD
END:VTIMEZONE
BEGIN:VEVENT
DTSTART;TZID=America/New_York:20231206T120000
DTEND;TZID=America/New_York:20231206T133000
DTSTAMP:20260421T095149
CREATED:20231106T162321Z
LAST-MODIFIED:20231106T163501Z
UID:416790-1701864000-1701869400@www.fedbar.org
SUMMARY:Qui Tam Section: [VIRTUAL] Balance of Payments: Carrots\, Sticks\, and the Effect of Continuing to Reimburse after Escobar
DESCRIPTION:**Program hosted in (ET) time zone** \nSeven years ago\, Escobar began altering the trajectory of how government agencies’ continued payment to FCA defendants impacts materiality. Since then\, lower courts have varied in their approaches to the issue: one court described continued government payment as a permissible way for the government to keep “offering the carrot before wielding the stick\,” while another said it is a “steadily tightening bind that at some point becomes disabling\,” a “burden\, growing incrementally more formidable each day” until it becomes “insurmountable.” This panel discussion will explore when and how the issue of continued government payment arises in FCA cases\, how courts have analyzed and ruled on the issue since Escobar\, and how continued government payment can impact the way parties investigate and litigate FCA cases. \n[Register Online] \n\nAbout the Presenters\nLon Leavitt\, U.S. Attorney’s Office\, District of Arizona (Moderator) \n  \n  \n  \n  \n  \nSara McLean\, U.S. Department of Justice \n  \n  \n  \nLisa M. Noller\, Foley & Lardner \n  \n  \n  \n  \n  \nGerald C. Robinson\, Nichols Kaster \n\nRegistration\n[Register Online] \n\nFBA Members: $0\nNon-Members: $0\n\n\nCLE\nPlease note that CLE credit is not offered for this webinar. \n\nEmail Communication Policy \nBy registering for this event\, you agree to receive email communications from the Federal Bar Association and affiliated sponsors of the program concerning event details\, Continuing Legal Education certification\, programming changes\, upcoming events\, surveys\, and post-event communications. \nRecording Disclaimer \nBy registering for an FBA webinar\, you agree to the recording of audio and visual content presented during the live event and consent to subsequent use of the recording by the FBA. You agree that the recording is the sole property of the FBA and that the recording may be used by the FBA in any manner in its sole and absolute discretion. This recording may include questions and poll responses provided by you during the live event. If you do not consent to the recording and the FBA’s use of the same\, do not register for the event. \nIf you have any questions regarding this program\, please contact sections@fedbar.org.
URL:https://www.fedbar.org/event/fca-escobar/
CATEGORIES:Qui Tam Section
END:VEVENT
BEGIN:VEVENT
DTSTART;TZID=America/New_York:20231213T120000
DTEND;TZID=America/New_York:20231213T133000
DTSTAMP:20260421T095149
CREATED:20231109T213657Z
LAST-MODIFIED:20231109T213838Z
UID:418202-1702468800-1702474200@www.fedbar.org
SUMMARY:Qui Tam Section: [VIRTUAL] (c)(2)(A) Dismissals After Polansky
DESCRIPTION:**Program hosted in (ET) time zone** \nThe discussion will provide an overview of the Government’s dismissal authority under 31 U.S.C. § 3730(c)(2)(A) of the False Claims Act\, the variables considered from a defense and relator perspective when the exercise of that authority is sought\, the process attendant to seeking the exercise of the dismissal authority\, and the implications thereon of U.S. ex rel. Polansky v. Exec. Health Resources\, Inc. \n[Register Online] \n\nAbout the Presenters\nTarra DeShields\, U.S. Attorney’s Office\, District of Maryland (Moderator) \n  \n  \n  \n  \n  \nColin Huntley\, Civil Fraud Section\, U.S. Department of Justice \n  \n  \n  \n  \n  \nMatthew F. Dunn\, Covington & Burling \n  \n  \n  \nClaire M. Sylvia\, Phillips & Cohen \n\nRegistration\n[Register Online] \n\nFBA Members: $0\nNon-Members: $0\n\n\nCLE\nPlease note that CLE credit is not offered for this webinar. \n\nEmail Communication Policy \nBy registering for this event\, you agree to receive email communications from the Federal Bar Association and affiliated sponsors of the program concerning event details\, Continuing Legal Education certification\, programming changes\, upcoming events\, surveys\, and post-event communications. \nRecording Disclaimer \nBy registering for an FBA webinar\, you agree to the recording of audio and visual content presented during the live event and consent to subsequent use of the recording by the FBA. You agree that the recording is the sole property of the FBA and that the recording may be used by the FBA in any manner in its sole and absolute discretion. This recording may include questions and poll responses provided by you during the live event. If you do not consent to the recording and the FBA’s use of the same\, do not register for the event. \nIf you have any questions regarding this program\, please contact sections@fedbar.org.
URL:https://www.fedbar.org/event/fca-dismissals/
CATEGORIES:Qui Tam Section
END:VEVENT
BEGIN:VEVENT
DTSTART;TZID=America/New_York:20231213T140000
DTEND;TZID=America/New_York:20231213T150000
DTSTAMP:20260421T095149
CREATED:20231019T140111Z
LAST-MODIFIED:20231206T192337Z
UID:410729-1702476000-1702479600@www.fedbar.org
SUMMARY:Webinar: Insight into Potential Rulings from the Supreme Court of the United States ("SCOTUS) in 2024
DESCRIPTION:We don’t have a crystal ball.  But we have the closest thing to one – Amy Howe.  Amy has a blog\, Howe on the Court\, and is an independent contractor and reporter for the SCOTUSblog.  Amy has previously been an editor and reporter for the SCOTUSblog\, argued before the Supreme Court\, served as counsel in cases before the Supreme Court\, and taught Supreme Court litigation at both Stanford Law School and Harvard Law School. \nAmy will review the cases argued during the first part of the Court’s 2023-2024 term\, such as the challenges to a purported racial gerrymander in South Carolina’s congressional map and to the constitutionality of the law providing funding for the Consumer Financial Protection Bureau\, a major Second Amendment dispute\, and a case involving the social-media activity of public officials.  She will also preview some of the upcoming cases in the second half of the Court’s term. \nPresented by the Professional Development Committee. \nRegistration is Open\n\nAbout the Presenter\n \nAmy Howe\nCo-founder\, SCOTUSblog \nAmy Howe has spent over two decades following the Supreme Court\, first as a lawyer and now as a journalist. Amy is a co-founder of SCOTUSblog\, a blog devoted to coverage of the Supreme Court and the first blog ever to receive a Peabody Award. Until September 2016\, Amy served as the editor and a reporter for SCOTUSblog; she continues to serve as an independent contractor and reporter for SCOTUSblog. She primarily writes for her eponymous blog\, Howe on the Court. Before turning to full-time journalism\, she served as counsel in over two dozen merits cases at the Supreme Court and argued two cases there. From 2004 until 2011\, she co-taught Supreme Court litigation at Stanford Law School; from 2005 until 2013\, she co-taught a similar class at Harvard Law School. She has also served as an adjunct professor at American University’s Washington College of Law and Vanderbilt Law School. Amy is a graduate of the University of North Carolina at Chapel Hill and holds a master’s degree in Arab Studies and a law degree from Georgetown University. \n\n  \nAbout the Moderator\n \nBonnie Greenberg\nRetired\, Department of Justice \nBonnie S. Greenberg was with the Department of Justice (DOJ) for over 37 years and currently serves as a director on the Federal Bar Association (FBA) Board and the Chair of the FBA’s Professional Development Committee.  She was an Assistant United States Attorney for the District of Maryland for most of her time at DOJ.  Ms. Greenberg has served the Maryland Chapter of the FBA in a variety of capacities\, most notably as Chapter President and Chapter Delegate.  \n  \n  \n  \n  \n  \n  \n\nRegistration\nRegistration is open\nAttendees will receive the zoom streaming link in their confirmation email. Streaming information will also be circulated via email after registration closes the day prior to the webinar date. \n\nFBA Member: $0\nNonmember: $75\n\nAccessibility: Closed captioning and dial-in is available for all virtual webcasts. \nCancellation Policy: No refunds will be made for notices of cancellation received within seven (7) days of the webinar date. No-shows will be billed. Substitutions may be made up to one business day prior to the event except as the Association otherwise agrees in writing. Please contactsrigans@fedbar.org with cancellation and/or substitution requests. \nInternet Requirements: Virtual programs require suitable internet strength to stream online panels. A minimum internet connection of 800 Kbps is recommended for an optimal attendee experience. Test your connection here.  \n  \nCLE\n(!) Please note: CLE for this webinar has not been pre-approved. Applications and subsequent reporting will be filed post-event.\nThe FBA will seek 1.0 General CLE credit hours in 60-minute states\, and 1.2 General CLE credit hours in 50-minute states. \nPosted credit hours are estimated and subject to respective state approval and rounding rules. CLE qualifications vary by state/jurisdiction and the FBA takes every measure to collaborate with presenters to ensure approval. \nCredit will be processed/reported approximately 4-6 weeks after the event date and available for credit in states that allow credit for live webinar presentations. You must attend the live broadcast\, answer engagement polls\, and accurately enter your bar number in registrant forms to receive credit. Certificates and required documentation for self-reporting states will be issued via email\, upon state bar approval. Thank you in advance for your patience\, as state bars are experiencing significant delays with virtual program processing. \nAccess more information about CLE Attendance & Reporting.
URL:https://www.fedbar.org/event/webinar-supreme-court-what-to-expect-in-2024/
END:VEVENT
BEGIN:VEVENT
DTSTART;TZID=America/Chicago:20231227T090000
DTEND;TZID=America/Chicago:20231227T150000
DTSTAMP:20260421T095149
CREATED:20231221T224005Z
LAST-MODIFIED:20231221T225906Z
UID:433382-1703667600-1703689200@www.fedbar.org
SUMMARY:Oklahoma City Chapter: 2023 10th Circuit Year in Review
DESCRIPTION:The 2023 Tenth Circuit Year in Review is an exciting online event that you don’t want to miss! Join us on Wednesday\, December 27th & Thursday\, December 28th at 9:00 AM (Central Standard Time) for a comprehensive review of the Tenth Circuit’s legal highlights from the past year. During this event\, we will delve into the most significant cases\, rulings\, and legal developments that have shaped the Tenth Circuit’s jurisprudence in 2023. Whether you are a legal professional\, a law student\, or simply interested in staying informed about the latest legal trends\, this event is perfect for you. Our expert panel of judges\, attorneys\, and legal scholars will provide insightful analysis and commentary on the key decisions made by the Tenth Circuit throughout the year. This is a fantastic opportunity to gain valuable insights\, expand your legal knowledge\, and engage in meaningful discussions with fellow legal enthusiasts. \nDon’t miss out on this unique opportunity to stay up-to-date with the latest legal developments in the Tenth Circuit! \n\nRobert Bacharach\, United States Circuit Judge\, Tenth Circuit Court of Appeals\nScott Butcher\, Crowe & Dunlevy\, P.C.\, Oklahoma City\, Oklahoma\nAlison Eid\, United States Circuit Judge\, Tenth Circuit Court of Appeals\nAmanda Finch\, Crowe & Dunlevy\, P.C.\, Oklahoma City\, Oklahoma\nStephen Galoob\, Professor of Law\, University of Tulsa College of Law\nAmanda Maxfield Green\, United States Magistrate Judge\, Western District of Oklahoma\nTaiawagi Helton\, Professor of Law\, University of Oklahoma College of Law\nMithun Mansinghani\, Lehotsky Keller Cohn\, Oklahoma City\, Oklahoma\nDavid McCrary\, Assistant United States Attorney\, Western District of Oklahoma\nRoss Plourde\, McAfee & Taft\, P.C.\, Oklahoma City\, Oklahoma\nRabindranath Ramana\, Esq.\, law clerk\, United States Court of Appeals for the Tenth Circuit\nVeronica Rossman\, United States Circuit Judge\, Tenth Circuit Court of Appeals\nMichael Salem\, Salem Law Offices\, Norman\, Oklahoma\nJoshua Snavely\, McAfee & Taft\, P.C.\, Oklahoma City\, Oklahoma\nChris Stephens\, Assistant United States Attorney\, Western District of Oklahoma\nKyle Wackenheim\, Assistant Federal Public Defender\, Western District of Oklahoma\nCourtney Warmington\, Fuller\, Tubb\, Bickford\, Warmington & Panach\, PLLC\, Oklahoma City\, Oklahoma\n\nClick Here for more information regarding this event’s agenda and registration form. \n\nRegistration\nRSVP Online by Tuesday\, December 26\nhttps://www.eventbrite.com/e/2023-tenth-circuit-year-in-review-tickets-752969501047?aff=oddtdtcreator \n\n$100 Ticket Price\n$50 – Discount applies to the following groups: law student\, government employee\, or member of the Federal Bar Association\, Faculty of Federal Advocates\, or Tenth Circuit Historical Society.\n\n\nCLE\nThe Oklahoma City Chapter is seeking 12 CLE Credits for this event\, including 2 hours of ethics. Attendees must fill out the attendance form\, linked on the online event page\, after the event is over to ensure that credits is reported. Thus far\, Wyoming has approved this program for CLE credit. Approval is pending for Oklahoma\, Colorado\, New Mexico\, Kansas\, and Utah. If you are barred in any other state you will need to submit the materials (available on the event page) to your state for approval/credit. \n\nQuestions regarding this event can be directed to Amanda Finch at OklahomaCityFBA@okcfedbar.com or 405-618-3232
URL:https://www.fedbar.org/event/oklahoma-city-chapter-2023-10th-circuit-year-in-review/
LOCATION:Online\, US
CATEGORIES:Oklahoma City Chapter
GEO:37.09024;-95.712891
END:VEVENT
BEGIN:VEVENT
DTSTART;TZID=America/Chicago:20231229T083000
DTEND;TZID=America/Chicago:20231229T163000
DTSTAMP:20260421T095149
CREATED:20231221T225210Z
LAST-MODIFIED:20231221T225820Z
UID:433385-1703838600-1703867400@www.fedbar.org
SUMMARY:Northern/Eastern Oklahoma Chapter: Tenth Circuit Year in Review
DESCRIPTION:Earn 7 hours of CLE and review all of the Tenth Circuit’s major cases from 2023 across seven subject areas—including criminal law\, civil rights\, Indian law\, employment law\, civil procedure/federal jurisdiction\, and commercial law/bankruptcy—at the Northern/Eastern Oklahoma Federal Bar Association’s Tenth Circuit Year in Review. \n\nJulie A. Bays\nConor P. Cleary\nSean M. Dooley\nTom Duncombe\nGuy Fortney\nThe Hon. Susan E. Huntsman\nThe Hon. Jodi F. Jayne\nDean Luthey\nMike McBride III\nR. Trent Shores\nThe Hon. Paul R. Thomas\nChris Thrutchley\nNeil Van Dalsem\nChris Vaught\n\nClick Here for more information regarding this event’s agenda and registration form. \n\nRegistration\nRSVP Online by Wednesday\, December 27\nhttps://www.neokfba.org/upcoming-events/tenth-circuit-year-in-review\n \n\n$100 General Admission\n50% off for FBA members\, public service employees\, and law students (enter MEMBER\, PUBLIC\, or STUDENT at check out)\n\n\nCLE\nThe Northern/Eastern Oklahoma Chapter is seeking 7 CLE Credits for this event\, including 1 hour of ethics. \n\n\nQuestions regarding this event can be directed to neokfba@gmail.com or 918.699.4890
URL:https://www.fedbar.org/event/northern-eastern-oklahoma-chapter-tenth-circuit-year-in-review-2/
LOCATION:Page Belcher Federal Building Jury Assembly Room\, 333 W 4th Street\, 4th Floor\, Tulusa\, OK\, 74103\, United States
CATEGORIES:NorthernEastern Oklahoma Chapter
GEO:36.1512691;-95.9953627
X-APPLE-STRUCTURED-LOCATION;VALUE=URI;X-ADDRESS=Page Belcher Federal Building Jury Assembly Room 333 W 4th Street 4th Floor Tulusa OK 74103 United States;X-APPLE-RADIUS=500;X-TITLE=333 W 4th Street\, 4th Floor:geo:-95.9953627,36.1512691
END:VEVENT
END:VCALENDAR