BEGIN:VCALENDAR
VERSION:2.0
PRODID:-//Federal Bar Association - ECPv6.15.15//NONSGML v1.0//EN
CALSCALE:GREGORIAN
METHOD:PUBLISH
X-WR-CALNAME:Federal Bar Association
X-ORIGINAL-URL:https://www.fedbar.org
X-WR-CALDESC:Events for Federal Bar Association
REFRESH-INTERVAL;VALUE=DURATION:PT1H
X-Robots-Tag:noindex
X-PUBLISHED-TTL:PT1H
BEGIN:VTIMEZONE
TZID:America/New_York
BEGIN:DAYLIGHT
TZOFFSETFROM:-0500
TZOFFSETTO:-0400
TZNAME:EDT
DTSTART:20200308T070000
END:DAYLIGHT
BEGIN:STANDARD
TZOFFSETFROM:-0400
TZOFFSETTO:-0500
TZNAME:EST
DTSTART:20201101T060000
END:STANDARD
BEGIN:DAYLIGHT
TZOFFSETFROM:-0500
TZOFFSETTO:-0400
TZNAME:EDT
DTSTART:20210314T070000
END:DAYLIGHT
BEGIN:STANDARD
TZOFFSETFROM:-0400
TZOFFSETTO:-0500
TZNAME:EST
DTSTART:20211107T060000
END:STANDARD
BEGIN:DAYLIGHT
TZOFFSETFROM:-0500
TZOFFSETTO:-0400
TZNAME:EDT
DTSTART:20220313T070000
END:DAYLIGHT
BEGIN:STANDARD
TZOFFSETFROM:-0400
TZOFFSETTO:-0500
TZNAME:EST
DTSTART:20221106T060000
END:STANDARD
BEGIN:DAYLIGHT
TZOFFSETFROM:-0500
TZOFFSETTO:-0400
TZNAME:EDT
DTSTART:20230312T070000
END:DAYLIGHT
BEGIN:STANDARD
TZOFFSETFROM:-0400
TZOFFSETTO:-0500
TZNAME:EST
DTSTART:20231105T060000
END:STANDARD
END:VTIMEZONE
BEGIN:VTIMEZONE
TZID:America/Los_Angeles
BEGIN:DAYLIGHT
TZOFFSETFROM:-0800
TZOFFSETTO:-0700
TZNAME:PDT
DTSTART:20210314T100000
END:DAYLIGHT
BEGIN:STANDARD
TZOFFSETFROM:-0700
TZOFFSETTO:-0800
TZNAME:PST
DTSTART:20211107T090000
END:STANDARD
BEGIN:DAYLIGHT
TZOFFSETFROM:-0800
TZOFFSETTO:-0700
TZNAME:PDT
DTSTART:20220313T100000
END:DAYLIGHT
BEGIN:STANDARD
TZOFFSETFROM:-0700
TZOFFSETTO:-0800
TZNAME:PST
DTSTART:20221106T090000
END:STANDARD
BEGIN:DAYLIGHT
TZOFFSETFROM:-0800
TZOFFSETTO:-0700
TZNAME:PDT
DTSTART:20230312T100000
END:DAYLIGHT
BEGIN:STANDARD
TZOFFSETFROM:-0700
TZOFFSETTO:-0800
TZNAME:PST
DTSTART:20231105T090000
END:STANDARD
BEGIN:DAYLIGHT
TZOFFSETFROM:-0800
TZOFFSETTO:-0700
TZNAME:PDT
DTSTART:20240310T100000
END:DAYLIGHT
BEGIN:STANDARD
TZOFFSETFROM:-0700
TZOFFSETTO:-0800
TZNAME:PST
DTSTART:20241103T090000
END:STANDARD
END:VTIMEZONE
BEGIN:VEVENT
DTSTART;TZID=America/New_York:20211213T150000
DTEND;TZID=America/New_York:20211213T160000
DTSTAMP:20260421T081618
CREATED:20211209T152834Z
LAST-MODIFIED:20211209T154508Z
UID:195686-1639407600-1639411200@www.fedbar.org
SUMMARY:Washington State Chapter: Cryptocurrency - A Revolution in Legal Tender?
DESCRIPTION:Washington State Chapter\nVirtual Monthly Meeting – Co-hosted by the South Florida Chapter\nMonday\, December 13\, 2021 | 12 PM – 1 PM PT / 3 PM – 4 PM ET \nFeatured Speakers \n\nDsu-Wei Yuen\, Davis Wright Tremaine\, Washington State (Moderator)\nTal Lifshitz\, Kozyak Tropin and Throckmorton\, Florida\nRobert Lamb\, Harris Bricken\, Washington State\n\n\nMicrosoft Teams Meeting  \nJoin on your computer or mobile app \nClick here to join the meeting \n\nIf you have any questions regarding this program\, please contact Cynthia Rios
URL:https://www.fedbar.org/event/washington-state-chapter-cryptocurrency-a-revolution-in-legal-tender/
LOCATION:Online\, US
CATEGORIES:South Florida Chapter,Washington State Chapter
GEO:37.09024;-95.712891
END:VEVENT
BEGIN:VEVENT
DTSTART;TZID=America/New_York:20220203T173000
DTEND;TZID=America/New_York:20220203T190000
DTSTAMP:20260421T081618
CREATED:20220119T172439Z
LAST-MODIFIED:20220124T194155Z
UID:198607-1643909400-1643914800@www.fedbar.org
SUMMARY:Southern District of New York Chapter: Talking with Trailblazers
DESCRIPTION:The SDNY Chapter of the Federal Bar Association is hosting the third edition of its Talking with Trailblazers series. Don’t miss this powerhouse panel as they reflect on their experiences and share their career journeys. \n\nHon. Ona T. Wang\, is the first Asian-American Magistrate Judge in the SDNY.\nHon. Diane Gujarati (EDNY)\, is the first Indian-American to serve as an Article III judge in New York.\nHon. Sanket Bulsara (EDNY)\, is the first Indian-American judge within the Second Circuit.\n\nThe series will be moderated by Padmaja Chinta\, Esq.\, partner at Chinta & Fratangelo LLP\, and the SDNY Chapter’s Chief Diversity Officer. \nCo-Sponsors: South Asian Bar Association of New York\, Asian American Bar Association of New York\, Muslim Bar Association of New York\, Washington State Chapter of the Federal Bar Association. \n\nRegistration\n\nComplimentary Registration Required\n\n\n\n\n\n\n\n\nRegister Online: https://www.eventbrite.com/e/talking-with-trailblazers-tickets-244734265777 \n\nIn-person Attendance: Proof of vaccination will be required to attend.\n Virtual Attendance: Zoom link will be sent prior to program. \n\n\n\n\n\n\n\n\n\n\n\n\n\n\n\n\n\nCLE\nNo CLE credit will be offered for this webinar. \n\n\n\n\n\n\n\n\nEmail Communication Policy \nBy registering for this event\, you agree to receive email communications from the Federal Bar Association and affiliated sponsors of the program concerning event details\, Continuing Legal Education certification\, programming changes\, upcoming events\, surveys\, and post-event communications. \n\nIf you have any questions regarding this program\, please contact Nancy Morisseau
URL:https://www.fedbar.org/event/southern-district-of-new-york-chapter-talking-with-trailblazer/
LOCATION:Dunnington Bartholow & Miller\, LLP\, 230 Park Avenue\, New York\, NY\, 10169\, United States
CATEGORIES:Southern District of New York Chapter,Washington State Chapter
ATTACH;FMTTYPE=image/png:https://www.fedbar.org/wp-content/uploads/2022/01/SDNY-Flyer-1.png
END:VEVENT
BEGIN:VEVENT
DTSTART;TZID=America/Los_Angeles:20220214T120000
DTEND;TZID=America/Los_Angeles:20220214T130000
DTSTAMP:20260421T081618
CREATED:20220119T155315Z
LAST-MODIFIED:20220119T155605Z
UID:198578-1644840000-1644843600@www.fedbar.org
SUMMARY:Washington State Chapter: Monthly Chapter Meeting
DESCRIPTION:Washington State Chapter: Open Monthly Meeting\nAs a new state-wide Chapter\, we welcome the participation of all interested Washington State attorneys. \nJoin conversation (microsoft.com); Meeting | Microsoft Teams;
URL:https://www.fedbar.org/event/washington-state-chapter-monthly-chapter-meeting/
LOCATION:Online\, US
CATEGORIES:Washington State Chapter
GEO:37.09024;-95.712891
END:VEVENT
BEGIN:VEVENT
DTSTART;TZID=America/Los_Angeles:20220314T120000
DTEND;TZID=America/Los_Angeles:20220314T130000
DTSTAMP:20260421T081618
CREATED:20220119T170650Z
LAST-MODIFIED:20220119T170650Z
UID:198602-1647259200-1647262800@www.fedbar.org
SUMMARY:Washington State Chapter: Monthly Chapter Meeting
DESCRIPTION:Washington State Chapter: Open Monthly Meeting\nAs a new state-wide Chapter\, we welcome the participation of all interested Washington State attorneys. \nJoin conversation (microsoft.com); Meeting | Microsoft Teams;
URL:https://www.fedbar.org/event/washington-state-chapter-monthly-chapter-meeting-2/
LOCATION:Online\, US
CATEGORIES:Washington State Chapter
GEO:37.09024;-95.712891
END:VEVENT
BEGIN:VEVENT
DTSTART;TZID=America/New_York:20220321T180000
DTEND;TZID=America/New_York:20220321T193000
DTSTAMP:20260421T081618
CREATED:20220310T175341Z
LAST-MODIFIED:20220314T211749Z
UID:215577-1647885600-1647891000@www.fedbar.org
SUMMARY:Southern District of New York & Washington State Chapters: Mental Disabilities and the Federal Courts (In Person & Virtual)
DESCRIPTION:A panel of legal and medical experts will discuss the impact of mental disabilities on the prosecution\, defense and disposition of cases as well as how the federal courts can be more responsive. \n\nSpeakers\nJeffrey D. Grant\, Private General Counsel @GrantLaw\, PLLC \nDr. Joette James\, Chief Inpatient/Outpatient Neuropsychologist; Assistant Professor; Forensic Psychologist @HSC Pediatric Center; George Washington University \nElizabeth Kelley\, Criminal Defense Attorney; Secretary @L/O Elizabeth Kelley; Federal Bar Association-Washington State Chapter \nMiriam Krinsky\, Executive Director @Fair and Just Prosecutions \nDr. George Woods\, President @International Academy of Law & Mental Health \n\nRegistration\nRegistration Fees \n\nChapter & FBA Members: Complimentary Registration \n\nHow to Register \nRegister Online by March 20: https://zoom.us/webinar/register/WN_1DY3dl-6RqC5r7zPBWgo7g \n\nWebinar ID 945 8368 7352\n\n\nCLE\n1.5 NY CLE Credits Available
URL:https://www.fedbar.org/event/washington-state-chapter-mental-disabilities-and-the-federal-courts-in-person-virtual/
LOCATION:JAMS New York Resolution Center\, 620 8th Ave\, Fl 34\, New York\, NY\, 10018\, United States
CATEGORIES:Southern District of New York Chapter,Washington State Chapter
GEO:40.7558851;-73.9896069
X-APPLE-STRUCTURED-LOCATION;VALUE=URI;X-ADDRESS=JAMS New York Resolution Center 620 8th Ave Fl 34 New York NY 10018 United States;X-APPLE-RADIUS=500;X-TITLE=620 8th Ave\, Fl 34:geo:-73.9896069,40.7558851
END:VEVENT
BEGIN:VEVENT
DTSTART;TZID=America/Los_Angeles:20220411T120000
DTEND;TZID=America/Los_Angeles:20220411T130000
DTSTAMP:20260421T081618
CREATED:20220119T170808Z
LAST-MODIFIED:20220119T170808Z
UID:198604-1649678400-1649682000@www.fedbar.org
SUMMARY:Washington State Chapter: Monthly Chapter Meeting
DESCRIPTION:Washington State Chapter: Open Monthly Meeting\nAs a new state-wide Chapter\, we welcome the participation of all interested Washington State attorneys. \nJoin conversation (microsoft.com); Meeting | Microsoft Teams;
URL:https://www.fedbar.org/event/washington-state-chapter-monthly-chapter-meeting-3/
LOCATION:Online\, US
CATEGORIES:Washington State Chapter
GEO:37.09024;-95.712891
END:VEVENT
BEGIN:VEVENT
DTSTART;TZID=America/Los_Angeles:20220523T120000
DTEND;TZID=America/Los_Angeles:20220523T130000
DTSTAMP:20260421T081618
CREATED:20220523T131937Z
LAST-MODIFIED:20220523T133258Z
UID:244017-1653307200-1653310800@www.fedbar.org
SUMMARY:Washington State Chapter: Monthly Chapter Virtual Meeting
DESCRIPTION:Program: Justice Ketanji Brown Jackson’s Rise to the Supreme Court: A Roundtable Discussion \nDiscussion Leader: Kripa Upadhyay\, Founder of Orbit Law; FBA Washington Chapter Board Member\, Diversity & Inclusion Representative \nThis virtual program is FREE to attend. \n**Click here to join the meeting (Microsoft Teams link)** \n  \nUPCOMING \n\nSpotlight FBA event: Webinar: What Social Media Knows About You\, May 24\, 2022\, 12 noon PDT\nOther upcoming events: https://www.fedbar.org/events/\n\n\n\n\n\n\n\n\n\n\n\n\nSpeaker \nDiscussion Leader and Presenter: Kripa Upadhyay\, Founder of Orbit Law; FBA Washington Chapter Board Member\, and Diversity & Inclusion Representative\n\n\nEmail Communication Policy \nBy registering for this event\, you agree to receive email communications from the Federal Bar Association and affiliated sponsors of the program concerning event details\, Continuing Legal Education certification\, programming changes\, upcoming events\, surveys\, and post-event communications. \n\nIf you have any questions regarding this program\, please contact fbawachapter@gmail.com
URL:https://www.fedbar.org/event/washington-state-chapter-monthly-chapter-virtual-meeting/
LOCATION:WA
CATEGORIES:Washington State Chapter
END:VEVENT
BEGIN:VEVENT
DTSTART;TZID=America/Los_Angeles:20220609T160000
DTEND;TZID=America/Los_Angeles:20220609T173000
DTSTAMP:20260421T081618
CREATED:20220531T155140Z
LAST-MODIFIED:20220607T012726Z
UID:246746-1654790400-1654795800@www.fedbar.org
SUMMARY:Washington State Chapter: Humor Me - Improv Skills to Win over the Judge and Win the Day
DESCRIPTION:Using the art and technique of improvisation to enhance an attorney’s courtroom presence\, litigation skills\, and the ability to be spontaneous. Learning improvisation techniques involves using creativity and imagination for on-the-spot problem solving. These techniques will assist the legal practitioner with developing and refining elements of persuasive public speaking. \nThe organization\, Unexpected Productions\, provides Faculty and Coaches to instruct the basics of improv\, to enhance effective communication\, listening skills\, spontaneous problem solving\, and overcoming fears of public speaking. Unexpected Productions\, located at THE MARKET THEATER – 1428 Post Alley\, Seattle WA\, 98101 \n\nRegistration\nRegister now at EventBrite: https://www.eventbrite.com/e/humor-me-improv-skills-to-win-over-the-judge-and-win-the-day-tickets-353469565987 \nRegistration Rates \n\nFREE – use special instructions and promo code from email\n\nMembers of the FBA Washington State Chapter\, Oregon Chapter\, or Alaska Chapter\nMembers of the FBA Federal Litigation Section\nNew Attorneys-less than five (5) years\nLaw School Students\nEmail didn’t arrive? Send a message to chapters@fedbar.org!\n\n\n$75.00 all others\n\nCurrent members of the FBA can join the Federal Litigation Section for $20.00 to attend this CLE for FREE! Log in HERE to start the Fed Lit join process.\n\n\n\n\n\n\n\n\n\n\n\n\n\n\n\n\n\n\n\n\n\n\n\n\n\n\n\nCLE\n*CLE Credit is Pending Review and Approval by WSBA MCLE Board \n\n\n\n\n\n\n\n\nEmail Communication Policy \nBy registering for this event\, you agree to receive email communications from the Federal Bar Association and affiliated sponsors of the program concerning event details\, Continuing Legal Education certification\, programming changes\, upcoming events\, surveys\, and post-event communications. \n\nIf you have any questions regarding this program\, please contact crios.law@outlook.com
URL:https://www.fedbar.org/event/washington-state-chapter-humor-me-improv-skills-to-win-over-the-judge-and-win-the-day/
LOCATION:The Market Theater\, 1428 Post Alley\, Seattle\, WA\, 98101\, United States
CATEGORIES:Washington State Chapter
GEO:47.6083716;-122.3402921
X-APPLE-STRUCTURED-LOCATION;VALUE=URI;X-ADDRESS=The Market Theater 1428 Post Alley Seattle WA 98101 United States;X-APPLE-RADIUS=500;X-TITLE=1428 Post Alley:geo:-122.3402921,47.6083716
END:VEVENT
BEGIN:VEVENT
DTSTART;TZID=America/Los_Angeles:20220712T113000
DTEND;TZID=America/Los_Angeles:20220712T130000
DTSTAMP:20260421T081618
CREATED:20220706T152451Z
LAST-MODIFIED:20220706T152541Z
UID:258865-1657625400-1657630800@www.fedbar.org
SUMMARY:Los Angeles Chapter: The Legal Community's Efforts to Assist Ukraine
DESCRIPTION:Tuesday\, July 12\, 2022 | 11:30 – 1:00 PM PST \nFBA\, Los Angeles Chapter presents a panel discussion on the legal community’s response to the conflict in Ukraine. Following Russia’s unprovoked attack on Ukraine\, attorneys from all over the world have collaborated to provide legal assistance to the Ukrainian government and its citizens. The program will feature distinguished panelists from around the world who will provide a first-hand account of the conditions in Ukraine and discuss the efforts of law firms\, nonprofits\, and law schools to provide legal assistance in areas ranging from immigration to human rights. \nCo-Sponsored by the Washington State Chapter \nFeatured Speakers:  \n\nDiane Butler\, Partner\, Davis Wright Tremaine LLP\, and Chair\, FBA Washington State Chapter (Moderator)\nKateryna Gupalo\, Partner\, Arzinger (Ukraine)\nJulianne Hughes-Jannett\, Partner\, Quinn Emanuel Urquhart & Sullivan\, LLP (London)\nAmanda N. Raad\, Partner\, Ropes & Gray LLP (London)\nProf. Jean Lantz Reisz\, Co-Director USC Gould School of Law Immigration Clinic\nLauren Worsek\, Director\, Pro Bono Initiatives\, Lawyers for Good Government\n\n\nRegistration\n\nComplimentary Registration\n\nHow to Register – RSVP by July 12\, 2022 \nhttps://fbala.org/meetingReg.php?mName=2022July  \n\nCLE\nPlease note that 1.5 Hours of CLE credit is anticipated. \n\nIf you have any questions regarding this program\, please contact fbawachapter@gmail.com
URL:https://www.fedbar.org/event/los-angeles-chapter-the-legal-communitys-efforts-to-assist-ukraine-2/
LOCATION:Online\, US
CATEGORIES:Los Angeles Chapter,Washington State Chapter
GEO:37.09024;-95.712891
END:VEVENT
BEGIN:VEVENT
DTSTART;TZID=America/Los_Angeles:20220910T130000
DTEND;TZID=America/Los_Angeles:20220910T143000
DTSTAMP:20260421T081618
CREATED:20220907T142632Z
LAST-MODIFIED:20220907T144144Z
UID:279013-1662814800-1662820200@www.fedbar.org
SUMMARY:Washington State Chapter: Kickball Social
DESCRIPTION:Join the FBA (the Fun Bar Association) Washington State Chapter for our 1st Annual Kickball Social! \nWe’re looking forward to having current and prospective Federal Bar Association Washington Chapter members attend\, including law school students (and friends & family who like to kick it). \nRefreshments: Light snacks and beverages provided.\nKickball Rules: Loose rules will apply. \nPromoted by the Young Lawyers Division \nRSVP via email to: fbawachapter@gmail.com \nQuestions regarding this event can be directed to fbawachapter@gmail.com
URL:https://www.fedbar.org/event/washington-state-chapter-kickball-social/
LOCATION:Woodland Park\, Phinney Ave N & N 57th St\, Seattle\, WA
CATEGORIES:Washington State Chapter
GEO:47.6909369;-122.3539157
X-APPLE-STRUCTURED-LOCATION;VALUE=URI;X-ADDRESS=Woodland Park Phinney Ave N & N 57th St Seattle WA;X-APPLE-RADIUS=500;X-TITLE=Phinney Ave N & N 57th St:geo:-122.3539157,47.6909369
END:VEVENT
BEGIN:VEVENT
DTSTART;TZID=America/Los_Angeles:20220912T120000
DTEND;TZID=America/Los_Angeles:20220912T130000
DTSTAMP:20260421T081618
CREATED:20220907T144023Z
LAST-MODIFIED:20220907T144044Z
UID:279018-1662984000-1662987600@www.fedbar.org
SUMMARY:Washington State Chapter: September Meeting\, Elections & Awards
DESCRIPTION:FBA Washington State Chapter virtual monthly meeting [Microsoft Teams link below]. \nPlease join or renew your membership in the national Federal Bar Association (fedbar.org)\, and designate Washington State as your primary Chapter. We have $0 chapter dues. For membership\, visit the FBA National Membership page. \n\nElections to Fill Leadership Positions\n\nWe aim to have broad representation on our Board. Similar to many other FBA chapters\, we would welcome private attorneys\, corporate counsel\, government attorneys\, AUSAs\, public defenders\, court clerks\, and judges. If you are interested or know someone who might enjoy the benefits of the national network of federal practitioners\, please let us know.\n\n\nAnnouncement of the Susan D. Pitchford Award for Service to the Chapter\n\n[Microsoft Teams Link]\nMeeting ID: 272 198 870 839\nPasscode: LXW2wJ \nQuestions regarding this event can be directed to fbawachapter@gmail.com
URL:https://www.fedbar.org/event/washington-state-chapter-september-meeting-elections-awards/
LOCATION:Microsoft Teams
CATEGORIES:Washington State Chapter
END:VEVENT
BEGIN:VEVENT
DTSTART;TZID=America/Los_Angeles:20221013T120000
DTEND;TZID=America/Los_Angeles:20221013T130000
DTSTAMP:20260421T081618
CREATED:20220907T143436Z
LAST-MODIFIED:20250131T184923Z
UID:279016-1665662400-1665666000@www.fedbar.org
SUMMARY:Sacramento Chapter: Meet Ninth Circuit Judges
DESCRIPTION:MEET NINTH CIRCUIT JUDGES LUCY KOH\, JENNIFER SUNG\, AND HOLLY THOMAS \nSponsored by: Federal Bar Association\, Sacramento Chapter\nCo-Sponsored by all Ninth Circuit FBA Chapters: Alaska\, Washington State\, Oregon\, Montana\, Nevada\, Phoenix\, Northern District of California\, San Joaquin\, Inland Empire\, Los Angeles\, Orange County\, San Diego\, and Hawaii. \nPresenters\n\nHon. Lucy Koh\, United States Court of Appeals for the 9th Circuit (San Francisco)\nHon. Jennifer Sung\, United States Court of Appeals for the 9th Circuit (Portland)\nHon. Holly Thomas\, United States Court of Appeals for the 9th Circuit (Pasadena)\n\nRegistration\nRegister for this event online: https://fbasacramento.org/reg-101322/  \n\n$0 – FBA Member\n$10 – Nonmember\n\nQuestions regarding this event can be directed to fbawachapter@gmail.com
URL:https://www.fedbar.org/event/sacramento-chapter-meet-ninth-circuit-judges/
LOCATION:ZOOM
CATEGORIES:Alaska Chapter,Hawaii Chapter,Inland Empire Chapter,Los Angeles Chapter,Montana Chapter,Nevada Chapter,Northern District of California Chapter,Orange County Chapter,Oregon Chapter,Phoenix Chapter,Sacramento Chapter,San Diego Chapter,San Joaquin Valley Chapter,Washington State Chapter
END:VEVENT
BEGIN:VEVENT
DTSTART;TZID=America/Los_Angeles:20230308T180000
DTEND;TZID=America/Los_Angeles:20230308T210000
DTSTAMP:20260421T081618
CREATED:20230302T162059Z
LAST-MODIFIED:20230302T162804Z
UID:326424-1678298400-1678309200@www.fedbar.org
SUMMARY:Washington State Chapter: Combating Hate Crimes: The Role of Lawyers and the Legal System
DESCRIPTION:The FBA Washington State Chapter and Karr Tuttle Campbell jointly invite you to join us for “Combating Hate Crimes: The Role of Lawyers and the Legal System”. The program includes a screening of “Vincent Who?” with award winning director Curtis Chin. \nVincent Who? is a documentary film that was released in 2009. It details the 1982 murder of Vincent Chin that occurred in Detroit\, Michigan. Chin was a 27-year-old Chinese-American who was beaten to death with a baseball bat by two Detroit autoworkers\, who had mistakenly thought that he was Japanese and\, in their minds\, was responsible for the loss of jobs in the U.S. auto industry. Chin’s killers\, Ronald Ebens and Michael Nitz\, were originally charged with second-degree murder but were allowed to plead guilty to a lesser charge of manslaughter. Judge Charles Kaufman\, who sentenced them to three years’ probation and a $3\,000 fine\, explained his leniency by saying\, “These weren’t the kind of men you send to jail.” \n[About Curtis:] \n[View Flyer] \nAgenda\n6:00 – 7:00 PM Screening of Vincent Who?\n7:00 – 7:30 PM Panel Discussion\n7:30 – PM Reception \nPanel\n\nKripa Upadhyay\, Event Moderator\nNick Brown: US Attorney for the Western District of WA\nHunter Abell: President Elect of the Washington State Bar Association\nRon Friedman: Board Member at Holocaust Center for Humanity (He is also a former US Attorney and current shareholder at KTC)\nJeff Liang: President of the Asian Bar Association Student Scholarship Fund\nJohn Cummings: Former Pierce County Prosecutor and LGBTQIA Advocate\n\nRegistration\nRegistration Fee: \n\nFBA Member & Non Member – FREE\n\nRSVP: http://www.fedbar.org/NO-URL-use-the-email-please-thanks \nCLE\nPlease note CLE will not be offered for this event. \nIf you have any questions regarding this program\, please contact ejohnson@karrtuttle.com. \n 
URL:https://www.fedbar.org/event/washington-state-chapter-combating-hate-crimes-the-role-of-lawyers-and-the-legal-system/
LOCATION:Seattle University School of Law / Sullivan Hall\, 901 12th Avenue\, Seattle\, WA\, 98122\, United States
CATEGORIES:Washington State Chapter
GEO:47.6107522;-122.318706
X-APPLE-STRUCTURED-LOCATION;VALUE=URI;X-ADDRESS=Seattle University School of Law / Sullivan Hall 901 12th Avenue Seattle WA 98122 United States;X-APPLE-RADIUS=500;X-TITLE=901 12th Avenue:geo:-122.318706,47.6107522
END:VEVENT
END:VCALENDAR