BEGIN:VCALENDAR
VERSION:2.0
PRODID:-//Federal Bar Association - ECPv6.15.15//NONSGML v1.0//EN
CALSCALE:GREGORIAN
METHOD:PUBLISH
X-WR-CALNAME:Federal Bar Association
X-ORIGINAL-URL:https://www.fedbar.org
X-WR-CALDESC:Events for Federal Bar Association
REFRESH-INTERVAL;VALUE=DURATION:PT1H
X-Robots-Tag:noindex
X-PUBLISHED-TTL:PT1H
BEGIN:VTIMEZONE
TZID:America/New_York
BEGIN:DAYLIGHT
TZOFFSETFROM:-0500
TZOFFSETTO:-0400
TZNAME:EDT
DTSTART:20230312T070000
END:DAYLIGHT
BEGIN:STANDARD
TZOFFSETFROM:-0400
TZOFFSETTO:-0500
TZNAME:EST
DTSTART:20231105T060000
END:STANDARD
BEGIN:DAYLIGHT
TZOFFSETFROM:-0500
TZOFFSETTO:-0400
TZNAME:EDT
DTSTART:20240310T070000
END:DAYLIGHT
BEGIN:STANDARD
TZOFFSETFROM:-0400
TZOFFSETTO:-0500
TZNAME:EST
DTSTART:20241103T060000
END:STANDARD
BEGIN:DAYLIGHT
TZOFFSETFROM:-0500
TZOFFSETTO:-0400
TZNAME:EDT
DTSTART:20250309T070000
END:DAYLIGHT
BEGIN:STANDARD
TZOFFSETFROM:-0400
TZOFFSETTO:-0500
TZNAME:EST
DTSTART:20251102T060000
END:STANDARD
END:VTIMEZONE
BEGIN:VEVENT
DTSTART;TZID=America/New_York:20240918T083000
DTEND;TZID=America/New_York:20240918T130000
DTSTAMP:20260423T013508
CREATED:20240804T224152Z
LAST-MODIFIED:20240909T131457Z
UID:534672-1726648200-1726664400@www.fedbar.org
SUMMARY:Tampa Bay Chapter: Staying in the Game: How to Build Your Board of Directors
DESCRIPTION:The Tampa Bay Chapter is excited to host its Tenth Annual Staying in the Game on Wednesday\, September 18\, 2024\, at Hotel Flor in Downtown Tampa\, from 8:30 AM to 1:00 PM. This program promotes the retention of female and diverse attorneys in the legal field. This event will feature coffee and light pastries before a morning of CLE programming followed by a networking lunch. \nWe are honored to have incredible speakers\, including Florida Supreme Court Justice Renatha Francis\, Florida Second District Court of Appeal Judge Suzanne Labrit\, Chief of Tampa’s U.S. Attorney Civil Division Randy Harwell\, Associate General Counsel at Moffitt Cancer Center Zarra Elias\, Shareholder at Gunster Nathan Hill\, and In House Counsel at Home Shopping Network Shauna Burkes. In addition\, this program will include small group judicial roundtables with judges from the U.S. Court of Appeals for the Eleventh Circuit\, the Middle District of Florida\, Florida’s Second District Court of Appeal\, and the Thirteenth Judicial Circuit Hillsborough County. \nIn support of this year’s theme “How to Build Your Board of Directors\,” our engaging speakers will discuss how professionals of all backgrounds can build a support network to help advance their careers; what types of professionals were and are part of the speakers’ network; how those individuals differed in various ways; and what the speakers learned along their journey.
URL:https://www.fedbar.org/event/staying-in-the-game-how-to-build-your-board-of-directors/
LOCATION:Hotel Flor\, 905 N. Florida Ave\, Tampa\, FL\, 33602\, United States
CATEGORIES:Tampa Bay Chapter
ATTACH;FMTTYPE=image/png:https://www.fedbar.org/wp-content/uploads/2024/08/SITG-Flyer-v5-Insta.png
ORGANIZER;CN="Michelle Moretz-Smith":MAILTO:Michelle_moretzsmith@ca11.uscourts.gov
END:VEVENT
END:VCALENDAR