BEGIN:VCALENDAR
VERSION:2.0
PRODID:-//Federal Bar Association - ECPv6.15.15//NONSGML v1.0//EN
CALSCALE:GREGORIAN
METHOD:PUBLISH
X-WR-CALNAME:Federal Bar Association
X-ORIGINAL-URL:https://www.fedbar.org
X-WR-CALDESC:Events for Federal Bar Association
REFRESH-INTERVAL;VALUE=DURATION:PT1H
X-Robots-Tag:noindex
X-PUBLISHED-TTL:PT1H
BEGIN:VTIMEZONE
TZID:America/New_York
BEGIN:DAYLIGHT
TZOFFSETFROM:-0500
TZOFFSETTO:-0400
TZNAME:EDT
DTSTART:20240310T070000
END:DAYLIGHT
BEGIN:STANDARD
TZOFFSETFROM:-0400
TZOFFSETTO:-0500
TZNAME:EST
DTSTART:20241103T060000
END:STANDARD
BEGIN:DAYLIGHT
TZOFFSETFROM:-0500
TZOFFSETTO:-0400
TZNAME:EDT
DTSTART:20250309T070000
END:DAYLIGHT
BEGIN:STANDARD
TZOFFSETFROM:-0400
TZOFFSETTO:-0500
TZNAME:EST
DTSTART:20251102T060000
END:STANDARD
BEGIN:DAYLIGHT
TZOFFSETFROM:-0500
TZOFFSETTO:-0400
TZNAME:EDT
DTSTART:20260308T070000
END:DAYLIGHT
BEGIN:STANDARD
TZOFFSETFROM:-0400
TZOFFSETTO:-0500
TZNAME:EST
DTSTART:20261101T060000
END:STANDARD
END:VTIMEZONE
BEGIN:VEVENT
DTSTART;TZID=America/New_York:20250430T114500
DTEND;TZID=America/New_York:20250430T133000
DTSTAMP:20260419T200806
CREATED:20250416T114158Z
LAST-MODIFIED:20250416T114158Z
UID:710652-1746013500-1746019800@www.fedbar.org
SUMMARY:Tampa Bay Chapter: Seventeenth Annual Civil Seminar
DESCRIPTION:Please join the Tampa Bay Chapter for the Seventeenth Annual Civil Seminar on Wednesday\, April 30\, 2025 at the University Club in Tampa\, Florida. \nWe will delve into the transformative impact of generative artificial intelligence (AI) on the practice of law. This year’s program is designed as an engaging roundtable format\, featuring insightful presentations and dynamic discussions on the practical applications and evidentiary implications surrounding AI in the legal profession for practitioners and judges. \nOur seminar kicks off with presentations from leading attorneys who will showcase practical uses of generative AI in the legal field. In the second segment\, judges will present on the judiciary’s use of generative AI. \nAttendees will learn from experienced practitioners and judges about the latest AI technologies and their applications in the legal field\, will participate in roundtable discussions to deepen your understanding and share your perspectives\, and will connect with fellow legal professionals and expand your professional network. \nDon’t miss this opportunity to stay at the forefront of legal innovation. Register now to secure your spot at the Seventeenth Annual Civil Seminar and be part of the conversation on the future of law with generative artificial intelligence. \nTo register please click here.
URL:https://www.fedbar.org/event/tampa-bay-chapter-seventeenth-annual-civil-seminar/
LOCATION:The University Club of Tampa\, 201 N Franklin St #3800\, Tampa\, FL\, 33602\, United States
CATEGORIES:Tampa Bay Chapter
ATTACH;FMTTYPE=image/png:https://www.fedbar.org/wp-content/uploads/2025/04/17th-Annual-Civil-Seminar.png
ORGANIZER;CN="Beatriz Miranda":MAILTO:bmiranda@gunster.com
GEO:27.946822;-82.4572457
X-APPLE-STRUCTURED-LOCATION;VALUE=URI;X-ADDRESS=The University Club of Tampa 201 N Franklin St #3800 Tampa FL 33602 United States;X-APPLE-RADIUS=500;X-TITLE=201 N Franklin St #3800:geo:-82.4572457,27.946822
END:VEVENT
END:VCALENDAR