BEGIN:VCALENDAR
VERSION:2.0
PRODID:-//Federal Bar Association - ECPv6.15.15//NONSGML v1.0//EN
CALSCALE:GREGORIAN
METHOD:PUBLISH
X-ORIGINAL-URL:https://www.fedbar.org
X-WR-CALDESC:Events for Federal Bar Association
REFRESH-INTERVAL;VALUE=DURATION:PT1H
X-Robots-Tag:noindex
X-PUBLISHED-TTL:PT1H
BEGIN:VTIMEZONE
TZID:America/New_York
BEGIN:DAYLIGHT
TZOFFSETFROM:-0500
TZOFFSETTO:-0400
TZNAME:EDT
DTSTART:20240310T070000
END:DAYLIGHT
BEGIN:STANDARD
TZOFFSETFROM:-0400
TZOFFSETTO:-0500
TZNAME:EST
DTSTART:20241103T060000
END:STANDARD
BEGIN:DAYLIGHT
TZOFFSETFROM:-0500
TZOFFSETTO:-0400
TZNAME:EDT
DTSTART:20250309T070000
END:DAYLIGHT
BEGIN:STANDARD
TZOFFSETFROM:-0400
TZOFFSETTO:-0500
TZNAME:EST
DTSTART:20251102T060000
END:STANDARD
BEGIN:DAYLIGHT
TZOFFSETFROM:-0500
TZOFFSETTO:-0400
TZNAME:EDT
DTSTART:20260308T070000
END:DAYLIGHT
BEGIN:STANDARD
TZOFFSETFROM:-0400
TZOFFSETTO:-0500
TZNAME:EST
DTSTART:20261101T060000
END:STANDARD
END:VTIMEZONE
BEGIN:VEVENT
DTSTART;TZID=America/New_York:20250430T173000
DTEND;TZID=America/New_York:20250430T193000
DTSTAMP:20260420T215417
CREATED:20250404T201101Z
LAST-MODIFIED:20250404T201101Z
UID:706259-1746034200-1746041400@www.fedbar.org
SUMMARY:Southern District of New York Chapter: The Advocates Workshop - Judges' Commentary on Oral Argument in the Southern District of New York and the Second Circuit Court of Appeals
DESCRIPTION:This program will feature four distinguished judges\, Circuit Judge Eunice C. Lee\, Circuit Judge Richard J. Sullivan\, District Judge Ronnie Abrams\, and District Judge Phillip M. Halpern\, who will speak on practical skills for oral arguments\, and will highlight differences between oral arguments before the Second Circuit and the Southern District. Please join us for what will certainly prove to be an interesting and thought-provoking workshop. \nThe panel discussion will begin at 5:30\, followed by a reception at 6:30. Please find more details on the attached flyer \nPlease RSVP to christie.mcguinness@saul.com\, and we hope to see you there!
URL:https://www.fedbar.org/event/southern-district-of-new-york-chapter-the-advocates-workshop-judges-commentary-on-oral-argument-in-the-southern-district-of-new-york-and-the-second-circuit-court-of-appeals/
LOCATION:Daniel Patrick Moynihan United States Courthouse\, 500 Pearl Street\, Room 850\, New York\, NY\, 10007\, United States
CATEGORIES:Southern District of New York Chapter
ATTACH;FMTTYPE=image/jpeg:https://www.fedbar.org/wp-content/uploads/2025/04/TheAdvocatesWorkshop.jpg
ORGANIZER;CN="Southern District of New York":MAILTO:mailto:secretary@fbasdny.org
END:VEVENT
END:VCALENDAR