BEGIN:VCALENDAR
VERSION:2.0
PRODID:-//Federal Bar Association - ECPv6.15.15//NONSGML v1.0//EN
CALSCALE:GREGORIAN
METHOD:PUBLISH
X-ORIGINAL-URL:https://www.fedbar.org
X-WR-CALDESC:Events for Federal Bar Association
REFRESH-INTERVAL;VALUE=DURATION:PT1H
X-Robots-Tag:noindex
X-PUBLISHED-TTL:PT1H
BEGIN:VTIMEZONE
TZID:America/New_York
BEGIN:DAYLIGHT
TZOFFSETFROM:-0500
TZOFFSETTO:-0400
TZNAME:EDT
DTSTART:20240310T070000
END:DAYLIGHT
BEGIN:STANDARD
TZOFFSETFROM:-0400
TZOFFSETTO:-0500
TZNAME:EST
DTSTART:20241103T060000
END:STANDARD
BEGIN:DAYLIGHT
TZOFFSETFROM:-0500
TZOFFSETTO:-0400
TZNAME:EDT
DTSTART:20250309T070000
END:DAYLIGHT
BEGIN:STANDARD
TZOFFSETFROM:-0400
TZOFFSETTO:-0500
TZNAME:EST
DTSTART:20251102T060000
END:STANDARD
BEGIN:DAYLIGHT
TZOFFSETFROM:-0500
TZOFFSETTO:-0400
TZNAME:EDT
DTSTART:20260308T070000
END:DAYLIGHT
BEGIN:STANDARD
TZOFFSETFROM:-0400
TZOFFSETTO:-0500
TZNAME:EST
DTSTART:20261101T060000
END:STANDARD
END:VTIMEZONE
BEGIN:VEVENT
DTSTART;TZID=America/New_York:20250212T170000
DTEND;TZID=America/New_York:20250212T183000
DTSTAMP:20260419T191517
CREATED:20250117T184034Z
LAST-MODIFIED:20250117T184034Z
UID:653737-1739379600-1739385000@www.fedbar.org
SUMMARY:San Diego Chapter: New Members Mentorship Mixer
DESCRIPTION:San Diego FBA members newly admitted to the bar are invited to connect with the local federal bench and seasoned practitioners in this mentorship mixer. Attendance is limited to FBA members admitted to practice within the last three years.
URL:https://www.fedbar.org/event/san-diego-chapter-new-members-mentorship-mixer/
LOCATION:Carter-Keep U.S. Courthouse\, Enright Conference Room\, 333 W Broadway\, San Diego\, C\, 92101\, United States
CATEGORIES:San Diego Chapter
ORGANIZER;CN="San Diego Federal Bar Association":MAILTO:info@fbasd.org
END:VEVENT
END:VCALENDAR