BEGIN:VCALENDAR
VERSION:2.0
PRODID:-//Federal Bar Association - ECPv6.15.15//NONSGML v1.0//EN
CALSCALE:GREGORIAN
METHOD:PUBLISH
X-ORIGINAL-URL:https://www.fedbar.org
X-WR-CALDESC:Events for Federal Bar Association
REFRESH-INTERVAL;VALUE=DURATION:PT1H
X-Robots-Tag:noindex
X-PUBLISHED-TTL:PT1H
BEGIN:VTIMEZONE
TZID:America/New_York
BEGIN:DAYLIGHT
TZOFFSETFROM:-0500
TZOFFSETTO:-0400
TZNAME:EDT
DTSTART:20250309T070000
END:DAYLIGHT
BEGIN:STANDARD
TZOFFSETFROM:-0400
TZOFFSETTO:-0500
TZNAME:EST
DTSTART:20251102T060000
END:STANDARD
BEGIN:DAYLIGHT
TZOFFSETFROM:-0500
TZOFFSETTO:-0400
TZNAME:EDT
DTSTART:20260308T070000
END:DAYLIGHT
BEGIN:STANDARD
TZOFFSETFROM:-0400
TZOFFSETTO:-0500
TZNAME:EST
DTSTART:20261101T060000
END:STANDARD
BEGIN:DAYLIGHT
TZOFFSETFROM:-0500
TZOFFSETTO:-0400
TZNAME:EDT
DTSTART:20270314T070000
END:DAYLIGHT
BEGIN:STANDARD
TZOFFSETFROM:-0400
TZOFFSETTO:-0500
TZNAME:EST
DTSTART:20271107T060000
END:STANDARD
END:VTIMEZONE
BEGIN:VEVENT
DTSTART;TZID=America/New_York:20260520T120000
DTEND;TZID=America/New_York:20260520T133000
DTSTAMP:20260421T161837
CREATED:20260127T161454Z
LAST-MODIFIED:20260211T151827Z
UID:975766-1779278400-1779283800@www.fedbar.org
SUMMARY:Qui Tam Section: [VIRTUAL] Battle of the Experts in FCA Litigation
DESCRIPTION:**Program hosted in (ET) Time Zone**\n\n\n\nExpert testimony may be pivotal in a False Claims Act case\, helping to establish the falsity (or not) of a claim — how evidence shows that a medical facility failed to comply with relevant regulations\, for instance\, or why it matters that body armor doesn’t meet military specifications. Experts also can testify about prevailing industry practices; they can help to quantify damages from a false claim; and they can help to establish the validity of statistical sampling methods in a case with thousands or millions of individual payments\, among other things. This panel will discuss pitfalls and best practices for working with experts in FCA matters\, including what makes a good expert; how to depose experts; how to defend or strike an expert for trial; and how to examine an expert before a judge or jury. \nRegister Today!\nPresented by the FBA Qui Tam Section \n  \n\nPresenters\nMODERATOR \n \nJanis G. Gorton\nSchneider Wallace Cottrell Kim \nSPEAKERS \n \nSara Brinkmann\nKing & Spalding \n \nStan Panis\nSecretariat \n\n\n \nDr. Meredith Rosenthal\,\nHarvard T.H. Chan School of Public Health \n\n\n\nRegistration\nRegister Here! \n\nFBA Members: $0\nNon-Members: $0\n\n\nCLE\nPlease note that CLE credit is not offered for this webinar. \n\nEmail Communication Policy \nBy registering for this event\, you agree to receive email communications from the Federal Bar Association and affiliated sponsors of the program concerning event details\, Continuing Legal Education certification\, programming changes\, upcoming events\, surveys\, and post-event communications. \nRecording Disclaimer \nBy registering for an FBA webinar\, you agree to the recording of audio and visual content presented during the live event and consent to subsequent use of the recording by the FBA. You agree that the recording is the sole property of the FBA and that the recording may be used by the FBA in any manner in its sole and absolute discretion. This recording may include questions and poll responses provided by you during the live event. If you do not consent to the recording and the FBA’s use of the same\, do not register for the event. \nIf you have any questions regarding this program\, please contact sections@fedbar.org.
URL:https://www.fedbar.org/event/battle-experts/
CATEGORIES:Qui Tam Section
LOCATION:https://www.fedbar.org/event/battle-experts/
END:VEVENT
END:VCALENDAR