BEGIN:VCALENDAR
VERSION:2.0
PRODID:-//Federal Bar Association - ECPv6.15.15//NONSGML v1.0//EN
CALSCALE:GREGORIAN
METHOD:PUBLISH
X-WR-CALNAME:Federal Bar Association
X-ORIGINAL-URL:https://www.fedbar.org
X-WR-CALDESC:Events for Federal Bar Association
REFRESH-INTERVAL;VALUE=DURATION:PT1H
X-Robots-Tag:noindex
X-PUBLISHED-TTL:PT1H
BEGIN:VTIMEZONE
TZID:America/New_York
BEGIN:DAYLIGHT
TZOFFSETFROM:-0500
TZOFFSETTO:-0400
TZNAME:EDT
DTSTART:20240310T070000
END:DAYLIGHT
BEGIN:STANDARD
TZOFFSETFROM:-0400
TZOFFSETTO:-0500
TZNAME:EST
DTSTART:20241103T060000
END:STANDARD
BEGIN:DAYLIGHT
TZOFFSETFROM:-0500
TZOFFSETTO:-0400
TZNAME:EDT
DTSTART:20250309T070000
END:DAYLIGHT
BEGIN:STANDARD
TZOFFSETFROM:-0400
TZOFFSETTO:-0500
TZNAME:EST
DTSTART:20251102T060000
END:STANDARD
BEGIN:DAYLIGHT
TZOFFSETFROM:-0500
TZOFFSETTO:-0400
TZNAME:EDT
DTSTART:20260308T070000
END:DAYLIGHT
BEGIN:STANDARD
TZOFFSETFROM:-0400
TZOFFSETTO:-0500
TZNAME:EST
DTSTART:20261101T060000
END:STANDARD
END:VTIMEZONE
BEGIN:VEVENT
DTSTART;TZID=America/New_York:20251203T120000
DTEND;TZID=America/New_York:20251203T133000
DTSTAMP:20260423T011403
CREATED:20250606T210153Z
LAST-MODIFIED:20251118T155713Z
UID:736211-1764763200-1764768600@www.fedbar.org
SUMMARY:Qui Tam Section: [VIRTUAL] FCA Views from the Bench
DESCRIPTION:**Program hosted in (ET) time zone**\n\n\n\nFor all parties to a False Claims Act case\, the path that begins with filing\, continues through litigation\, and ends in resolution goes through a person with tremendous power and influence over the journey and outcome of the case—the judge. The observations\, reactions\, and suggestions of judges with FCA experience are of keen interest to attorneys for the government\, relators\, and defendants alike. This panel discussion will feature four federal judges—three district judges and a magistrate judge—who will share their insights gained from handling FCA cases\, including their views on recent trends in FCA cases\, litigants’ common missteps\, and general recommendations for improving FCA litigation. \nRegister Today!\nPresented by the FBA Qui Tam Section \n\nPresenters\nHon. Stephen R. Bough\, U.S. District Judge\, Western District of Missouri \n \nHon. Katherine A. Crytzer\, U.S. District Judge\, Eastern District of Tennessee \n \nLon R. Leavitt\, U.S. Attorney’s Office\, District of Arizona (Moderator) \n \nHon. Barbara M. G. Lynn (Ret.)\, Lynn Pinker Hurst & Schwegmann \n \nHon. Ryon M. McCabe\, U.S. Magistrate Judge\, Southern District of Florida \n \n  \n\nRegistration\nRegister Here! \n\nFBA Members: $0\nNon-Members: $0\n\n\nCLE\nPlease note that CLE credit is not offered for this webinar. \n\nEmail Communication Policy \nBy registering for this event\, you agree to receive email communications from the Federal Bar Association and affiliated sponsors of the program concerning event details\, Continuing Legal Education certification\, programming changes\, upcoming events\, surveys\, and post-event communications. \nRecording Disclaimer \nBy registering for an FBA webinar\, you agree to the recording of audio and visual content presented during the live event and consent to subsequent use of the recording by the FBA. You agree that the recording is the sole property of the FBA and that the recording may be used by the FBA in any manner in its sole and absolute discretion. This recording may include questions and poll responses provided by you during the live event. If you do not consent to the recording and the FBA’s use of the same\, do not register for the event. \nIf you have any questions regarding this program\, please contact sections@fedbar.org.
URL:https://www.fedbar.org/event/fca-judges/
CATEGORIES:Qui Tam Section
LOCATION:
END:VEVENT
BEGIN:VEVENT
DTSTART;TZID=America/New_York:20251210T120000
DTEND;TZID=America/New_York:20251210T133000
DTSTAMP:20260423T011403
CREATED:20251103T150344Z
LAST-MODIFIED:20251120T162303Z
UID:905857-1765368000-1765373400@www.fedbar.org
SUMMARY:Qui Tam Section: [VIRTUAL] FCA State of Play 2025
DESCRIPTION:**Program hosted in (ET) time zone**What are the challenges\, predictions\, and vision for the False Claims Act of the future? Hear from highly respected leaders on all sides who have dedicated their careers to False Claims Act enforcement and defense on topics related to the current state of play.\nRegister Today!\nPresented by the FBA Qui Tam Section \n\nPresenters\n \nRenée Brooker\, Tycko & Zavareei (Moderator) \n \nSara M. Bloom\, U.S. Attorney’s Office\, District of Rhode Island \n \nMichael D. Granston\, Covington & Burling LLP \n \nColette G. Matzzie\, Phillips & Cohen LLP \n\nRegistration\nRegister Here! \n\nFBA Members: $0\nNon-Members: $0\n\n\nCLE\nPlease note that CLE credit is not offered for this webinar. \n\nEmail Communication Policy \nBy registering for this event\, you agree to receive email communications from the Federal Bar Association and affiliated sponsors of the program concerning event details\, Continuing Legal Education certification\, programming changes\, upcoming events\, surveys\, and post-event communications. \nRecording Disclaimer \nBy registering for an FBA webinar\, you agree to the recording of audio and visual content presented during the live event and consent to subsequent use of the recording by the FBA. You agree that the recording is the sole property of the FBA and that the recording may be used by the FBA in any manner in its sole and absolute discretion. This recording may include questions and poll responses provided by you during the live event. If you do not consent to the recording and the FBA’s use of the same\, do not register for the event. \nIf you have any questions regarding this program\, please contact sections@fedbar.org.
URL:https://www.fedbar.org/event/fca-state-25/
CATEGORIES:Qui Tam Section
LOCATION:
END:VEVENT
END:VCALENDAR