BEGIN:VCALENDAR
VERSION:2.0
PRODID:-//Federal Bar Association - ECPv6.15.15//NONSGML v1.0//EN
CALSCALE:GREGORIAN
METHOD:PUBLISH
X-WR-CALNAME:Federal Bar Association
X-ORIGINAL-URL:https://www.fedbar.org
X-WR-CALDESC:Events for Federal Bar Association
REFRESH-INTERVAL;VALUE=DURATION:PT1H
X-Robots-Tag:noindex
X-PUBLISHED-TTL:PT1H
BEGIN:VTIMEZONE
TZID:America/New_York
BEGIN:DAYLIGHT
TZOFFSETFROM:-0500
TZOFFSETTO:-0400
TZNAME:EDT
DTSTART:20190310T070000
END:DAYLIGHT
BEGIN:STANDARD
TZOFFSETFROM:-0400
TZOFFSETTO:-0500
TZNAME:EST
DTSTART:20191103T060000
END:STANDARD
BEGIN:DAYLIGHT
TZOFFSETFROM:-0500
TZOFFSETTO:-0400
TZNAME:EDT
DTSTART:20200308T070000
END:DAYLIGHT
BEGIN:STANDARD
TZOFFSETFROM:-0400
TZOFFSETTO:-0500
TZNAME:EST
DTSTART:20201101T060000
END:STANDARD
BEGIN:DAYLIGHT
TZOFFSETFROM:-0500
TZOFFSETTO:-0400
TZNAME:EDT
DTSTART:20210314T070000
END:DAYLIGHT
BEGIN:STANDARD
TZOFFSETFROM:-0400
TZOFFSETTO:-0500
TZNAME:EST
DTSTART:20211107T060000
END:STANDARD
END:VTIMEZONE
BEGIN:VEVENT
DTSTART;TZID=America/New_York:20200221T114500
DTEND;TZID=America/New_York:20200221T130000
DTSTAMP:20260423T032659
CREATED:20200204T145202Z
LAST-MODIFIED:20200204T145244Z
UID:24938-1582285500-1582290000@www.fedbar.org
SUMMARY:Orlando Chapter: Meet the Orlando Division’s Newest District Judge
DESCRIPTION:Description\nDistrict Judge Wendy Berger is a welcome addition to the distinguished judiciary serving the Orlando Division. Please join us and get to know Judge Berger\, her practices\, and her preferences. \nCLE\n1.0 \nCost\nFree \nRSVP\nNicole Ballante\, nballante@shutts.com
URL:https://www.fedbar.org/event/orlando-chapter-meet-the-orlando-divisions-newest-district-judge/
CATEGORIES:Orlando Chapter
END:VEVENT
BEGIN:VEVENT
DTSTART;TZID=America/New_York:20200131T120000
DTEND;TZID=America/New_York:20200131T130000
DTSTAMP:20260423T032659
CREATED:20200115T202636Z
LAST-MODIFIED:20200115T202636Z
UID:21573-1580472000-1580475600@www.fedbar.org
SUMMARY:Orlando Chapter: Federal Practice Primer for the Occasional Practitioner Luncheon
DESCRIPTION:Description\nFBA Orlando will host a luncheon featuring a distinguished panel comprising the Hon. Roy B. Dalton\, Jr.\, U.S. District Judge\, Hon. Wendy Berger\, U.S. District Judge\, and Hon. Embry Kidd\, U.S. Magistrate Judge. Past President of the Orlando FBA\, Coleman W. Watson\, will moderate.Hon. Roy B. Dalton\, Jr.\, U.S. District Judge\, Hon. Wendy Berger\, U.S. District Judge\, and Hon. Embry Kidd\, U.S. Magistrate Judge. \nCLE\n1 CLE credit \nCost\nFree \nRegistration\nhttps://www.eventbrite.com/e/federal-practice-primer-for-the-occasional-federal-practitioner-tickets-86346222877 \n  \nContact Info\nNicole Ballante\, nballante@shutts.com
URL:https://www.fedbar.org/event/orlando-chapter-federal-practice-primer-for-the-occasional-practitioner-luncheon/
LOCATION:George C. Young Federal Courthouse
CATEGORIES:Orlando Chapter
END:VEVENT
BEGIN:VEVENT
DTSTART;TZID=America/New_York:20200124T120000
DTEND;TZID=America/New_York:20200124T130000
DTSTAMP:20260423T032659
CREATED:20200115T203219Z
LAST-MODIFIED:20200115T203219Z
UID:21587-1579867200-1579870800@www.fedbar.org
SUMMARY:Orlando Chapter: Meet the New Magistrate\, Judge Embry J. Kidd
DESCRIPTION:Description\nA free luncheon to meet the newest magistrate judge and to learn his practices and preferences with speaker The Honorable Embry J. Kidd \nCLE\n1 CLE credit \nCost\nFree \nRegistration\nhttps://www.eventbrite.com/e/meet-the-orlando-divisions-newest-magistrate-judge-tickets-86365161523 \nRSVP\nNicole Ballante\, nballante@shutts.com
URL:https://www.fedbar.org/event/orlando-chapter-meet-the-new-magistrate-judge-embry-j-kidd/
CATEGORIES:Orlando Chapter
END:VEVENT
END:VCALENDAR