BEGIN:VCALENDAR
VERSION:2.0
PRODID:-//Federal Bar Association - ECPv6.15.15//NONSGML v1.0//EN
CALSCALE:GREGORIAN
METHOD:PUBLISH
X-WR-CALNAME:Federal Bar Association
X-ORIGINAL-URL:https://www.fedbar.org
X-WR-CALDESC:Events for Federal Bar Association
REFRESH-INTERVAL;VALUE=DURATION:PT1H
X-Robots-Tag:noindex
X-PUBLISHED-TTL:PT1H
BEGIN:VTIMEZONE
TZID:America/Los_Angeles
BEGIN:DAYLIGHT
TZOFFSETFROM:-0800
TZOFFSETTO:-0700
TZNAME:PDT
DTSTART:20200308T100000
END:DAYLIGHT
BEGIN:STANDARD
TZOFFSETFROM:-0700
TZOFFSETTO:-0800
TZNAME:PST
DTSTART:20201101T090000
END:STANDARD
BEGIN:DAYLIGHT
TZOFFSETFROM:-0800
TZOFFSETTO:-0700
TZNAME:PDT
DTSTART:20210314T100000
END:DAYLIGHT
BEGIN:STANDARD
TZOFFSETFROM:-0700
TZOFFSETTO:-0800
TZNAME:PST
DTSTART:20211107T090000
END:STANDARD
BEGIN:DAYLIGHT
TZOFFSETFROM:-0800
TZOFFSETTO:-0700
TZNAME:PDT
DTSTART:20220313T100000
END:DAYLIGHT
BEGIN:STANDARD
TZOFFSETFROM:-0700
TZOFFSETTO:-0800
TZNAME:PST
DTSTART:20221106T090000
END:STANDARD
END:VTIMEZONE
BEGIN:VEVENT
DTSTART;TZID=America/Los_Angeles:20211119T090000
DTEND;TZID=America/Los_Angeles:20211119T123000
DTSTAMP:20260419T100120
CREATED:20211029T194711Z
LAST-MODIFIED:20211029T194711Z
UID:179189-1637312400-1637325000@www.fedbar.org
SUMMARY:Los Angeles Chapter: 18th Annual Bankruptcy Ethics Symposium
DESCRIPTION:Friday\, November 19 | 9 AM – 12:30 PM PST \nLos Angeles Chapter of the Federal Bar Association would like to invite you to its annual bankruptcy ethics symposium (3.5 hours of ethics CLE). Three programs on ethics-related topics for bankruptcy practitioners. \n(1) Leaving Your Attorney Legacy: Ethical Consideration in Mentoring and Succession Planning\n(2) Technical Competency and Ethical Pratfalls: “I am Not a Cat” and Much More\n(3) Brave New World: Ethical and Practical Considerations in Conducting Remote Hearings and Trials \nPanelists \n\nHonorable Sandra R. Klein\, U.S. Bankruptcy Court\, Central District of California\nHonorable Barry Russell\, U.S. Bankruptcy Court\, Central District of California\nHonorable Martin R. Barash\, U.S. Bankruptcy Court\, Central District of California\nJohn Hermann\, Chief Deputy of Administration\nRon Maroko\, Office of the United States Trustee\nMisty Perry Isaacson\, Pagter and Perry Isaacson\, APLC\nJ. Scott Bovitz\, Bovitz & Spitzer\nJohn N. Tedford\, IV\, Danning\, Gill\, Israel & Krasnoff\, LLP\nProgram Chair: Joseph Boufadel\, Salvato Boufadel LLP\n\n** Questions may be submitted in advance to: Webinar@fbala.org. \n\nCLE\n3.5 hours of Ethics CLE Credit \n\nRegistration\nRegistration for this event will close Wednesday\, November 16 \nRegistration Fees \n\nFBA members – $20\nCDCBAA & LABF – $25\nNonmembers – $40\nJudges and Clerks – Complimentary Registration\n\nRegister Online: https://fbala.org/meetingReg.php?mName=2021Nov \n\nIf you have any questions regarding this program\, please contact Jboufadel@salvatoboufadel.com
URL:https://www.fedbar.org/event/los-angeles-chapter-18th-annual-bankruptcy-ethics-symposium/
LOCATION:Online\, US
CATEGORIES:Los Angeles Chapter
GEO:37.09024;-95.712891
END:VEVENT
BEGIN:VEVENT
DTSTART;TZID=America/Los_Angeles:20210526T100000
DTEND;TZID=America/Los_Angeles:20210526T110000
DTSTAMP:20260419T100120
CREATED:20210526T134829Z
LAST-MODIFIED:20210526T134935Z
UID:132240-1622023200-1622026800@www.fedbar.org
SUMMARY:Los Angeles Chapter: Vanishing Women Litigators
DESCRIPTION:Vanishing Women Litigators: Challenges Faced by Women Litigators and Strategies for Disrupting the Status Quo As We Emerge From the Pandemic\nWednesday\, June 2 | 10 AM – 11 AM PST \nFBA-LA Chapter presents its inaugural program focused on women lawyers. It has been over 150 years since the first woman passed the bar exam in the United States and women now make up more than half of law school graduates and over one-third of practicing lawyers. Yet\, the number of women in senior roles in the legal industry is disproportionately low\, with minimal progress in the past decade. Recent studies showing that the pandemic has made things far worse\, with an alarming percentage of women lawyers contemplating downsizing their career or leaving the profession altogether. This program will feature distinguished women leaders discussing challenges and opportunities for women litigators during these times of uncertainty and sharing inspiring anecdotes and strategies for disrupting the status quo and reversing the trend. \nPanelists \n\nBridget Hauler\, Vice President\, Litigation at NBCUniversal Media\, LLC\nMargaret McKeown\, United States Circuit Judge of the United States Court of Appeals for the Ninth Circuit\nNatalie Naugle\, Associate General Counsel\, Litigation at Facebook\nDawn Sestito\, Managing Partner of the LA Office\, O’Melveny & Myers LLP\n\nModerator \n\nYuri Mikulka\, Partner Alston & Bird and President-Elect of FBA\, LA Chapter\n\n** Questions may be submitted in advance to: Webinar@fbala.org. \n\nCLE\n1 hour of CLE credit \n\nRegistration\nRegistration for this event will close Wednesday\, June 2 \nRegistration Fees \n\nFederal Judiciary – $0\nFBA Members – $10\nNonmembers – $15\n\nRegister Online: https://fbala.org/meetingReg.php?mName=2021June \n\nIf you have any questions regarding this program\, please contact Kristina Azlin at kristina.azlin@hklaw.com
URL:https://www.fedbar.org/event/los-angeles-chapter-vanishing-women-litigators/
CATEGORIES:Los Angeles Chapter
END:VEVENT
BEGIN:VEVENT
DTSTART;TZID=America/Los_Angeles:20210415T120000
DTEND;TZID=America/Los_Angeles:20210415T130000
DTSTAMP:20260419T100120
CREATED:20210329T144941Z
LAST-MODIFIED:20210329T145023Z
UID:114669-1618488000-1618491600@www.fedbar.org
SUMMARY:Los Angeles Chapter: The Challenges and Opportunities of Litigating During COVID And Where We Go From Here: A Judicial Perspective
DESCRIPTION:The Challenges and Opportunities of Litigating During COVID And Where We Go From Here: A Judicial Perspective\nThursday\, April 15| 12pm – 1pm  PST\nThe global pandemic has forced litigators across the country to reconsider how they prepare for and argue cases before the federal judiciary. Although much has been said about how litigators have experienced and adjusted to this new world order\, this panel discussion will give the opportunity for Central District judges and court clerks to share what the experience has been like for them\, their chambers and the Court\, as well as best practices and new developments for litigating during these times and in a post-pandemic world. \n\nJudge Andre Birotte\, U.S. District Court\, Central District of California\nJudge Christina Snyder\, U.S. District Court\, Central District of California\nMagistrate Judge Alka Sagar\, U.S. District Court\, Central District of California\nKiry Gray\, Clerk of Court\, U.S. District Court\, Central District of California\nCristina Squieri Bullock\, Chief Deputy of Administration\, U.S. District Court\, Central District of California.\n\n\nRegistration\nRegister Online \nDeadline to register will be April 15\, 2021. \n\nFBA Members / Members of Co-Sponsors – $10\nNonmembers – $15\n\n  \n\nCLE\n\n1.0 hours CLE credit\n\n\nEmail Communication Policy \nBy registering for this event\, you agree to receive email communications from the Federal Bar Association and affiliated sponsors of the program concerning event details\, Continuing Legal Education certification\, programming changes\, upcoming events\, surveys\, and post-event communications. \n\nIf you have any questions regarding this program\, please contact Webinar@fbala.org
URL:https://www.fedbar.org/event/los-angeles-chapter-the-challenges-and-opportunities-of-litigating-during-covid-and-where-we-go-from-here-a-judicial-perspective/
LOCATION:Online\, US
CATEGORIES:Los Angeles Chapter
GEO:37.09024;-95.712891
END:VEVENT
BEGIN:VEVENT
DTSTART;TZID=America/Los_Angeles:20210126T120000
DTEND;TZID=America/Los_Angeles:20210126T130000
DTSTAMP:20260419T100120
CREATED:20210115T154555Z
LAST-MODIFIED:20210115T154555Z
UID:95875-1611662400-1611666000@www.fedbar.org
SUMMARY:Los Angeles Chapter: The Future of the Justice Department and the Rule of Law: The Challenges Ahead
DESCRIPTION:THE FUTURE OF THE JUSTICE DEPARTMENT AND THE RULE OF LAW: THE CHALLENGES AHEAD\nTuesday\, January 26\, 2021 | 12:00 PM – 1:00 PM PST\nIn this presentation\, former Justice Department officials discuss the effect of recent events on the Justice Department’s obligation to uphold the rule of law\, and how the Department can promote the rule of law in 2021 and beyond. \n[Register Online] \n\nAbout the Presenters\nModerated by: MARTIN ESTRADA\, Partner\, Munger\, Tolles & Olson;\nMember\, Board of Directors\, Federal Bar Association Los Angeles Chapter \n\nJESSIE K. LIU\, Partner\, Skadden\, Arps\, Slate\, Meaghan & Flom; Former U.S. Attorney for the District of Columbia\nJONATHAN KRAVIS\, Partner\, Munger\, Tolles & Olson; Former Assistant U.S. Attorney and member of the trial team in United States v. Roger Stone\nJEANNIE S. RHEE\, Partner\, Paul Weiss; Former member of the Office of Special Counsel Robert Mueller\n\n\nRegistration\nRegistration Fees \n\nFBA Members / Federal Judiciary – $0\nNonmembers – $10\n\n[Register Online] \nCancellation Policy \nNo refunds will be made for notices of cancellation received after the close of business on November 4\, 2020. No-shows will be billed. Substitutions may be made up to one business day prior to the event except as the Association otherwise agrees in writing. Please contact Ariel White at awhite@fedbar.org with cancellation and/or substitution requests. \n\nCLE\nParticipation in this webinar offers 1 Hour General MCLE \nMCLE: 1 Hour of General MCLE. This activity has been approved for Minimum Continuing Legal Education Credit by the State Bar of California. The FBA certifies that this activity conforms to the standards of approved education activities prescribed by the rules and regulations of the State Bar of California governing minimum continuing legal education. \n\nEmail Communication Policy \nBy registering for this event\, you agree to receive email communications from the Federal Bar Association and affiliated sponsors of the program concerning event details\, Continuing Legal Education certification\, programming changes\, upcoming events\, surveys\, and post-event communications. \n\nQuestions may be submitted in advance to: Webinar@fbala.org
URL:https://www.fedbar.org/event/los-angeles-chapter-the-future-of-the-justice-department-and-the-rule-of-law-the-challenges-ahead/
LOCATION:Online\, US
CATEGORIES:Los Angeles Chapter,Northern District of California Chapter
GEO:37.09024;-95.712891
END:VEVENT
END:VCALENDAR