BEGIN:VCALENDAR
VERSION:2.0
PRODID:-//Federal Bar Association - ECPv6.15.15//NONSGML v1.0//EN
CALSCALE:GREGORIAN
METHOD:PUBLISH
X-WR-CALNAME:Federal Bar Association
X-ORIGINAL-URL:https://www.fedbar.org
X-WR-CALDESC:Events for Federal Bar Association
REFRESH-INTERVAL;VALUE=DURATION:PT1H
X-Robots-Tag:noindex
X-PUBLISHED-TTL:PT1H
BEGIN:VTIMEZONE
TZID:America/Los_Angeles
BEGIN:DAYLIGHT
TZOFFSETFROM:-0800
TZOFFSETTO:-0700
TZNAME:PDT
DTSTART:20240310T100000
END:DAYLIGHT
BEGIN:STANDARD
TZOFFSETFROM:-0700
TZOFFSETTO:-0800
TZNAME:PST
DTSTART:20241103T090000
END:STANDARD
BEGIN:DAYLIGHT
TZOFFSETFROM:-0800
TZOFFSETTO:-0700
TZNAME:PDT
DTSTART:20250309T100000
END:DAYLIGHT
BEGIN:STANDARD
TZOFFSETFROM:-0700
TZOFFSETTO:-0800
TZNAME:PST
DTSTART:20251102T090000
END:STANDARD
BEGIN:DAYLIGHT
TZOFFSETFROM:-0800
TZOFFSETTO:-0700
TZNAME:PDT
DTSTART:20260308T100000
END:DAYLIGHT
BEGIN:STANDARD
TZOFFSETFROM:-0700
TZOFFSETTO:-0800
TZNAME:PST
DTSTART:20261101T090000
END:STANDARD
BEGIN:DAYLIGHT
TZOFFSETFROM:-0800
TZOFFSETTO:-0700
TZNAME:PDT
DTSTART:20270314T100000
END:DAYLIGHT
BEGIN:STANDARD
TZOFFSETFROM:-0700
TZOFFSETTO:-0800
TZNAME:PST
DTSTART:20271107T090000
END:STANDARD
END:VTIMEZONE
BEGIN:VTIMEZONE
TZID:America/New_York
BEGIN:DAYLIGHT
TZOFFSETFROM:-0500
TZOFFSETTO:-0400
TZNAME:EDT
DTSTART:20240310T070000
END:DAYLIGHT
BEGIN:STANDARD
TZOFFSETFROM:-0400
TZOFFSETTO:-0500
TZNAME:EST
DTSTART:20241103T060000
END:STANDARD
BEGIN:DAYLIGHT
TZOFFSETFROM:-0500
TZOFFSETTO:-0400
TZNAME:EDT
DTSTART:20250309T070000
END:DAYLIGHT
BEGIN:STANDARD
TZOFFSETFROM:-0400
TZOFFSETTO:-0500
TZNAME:EST
DTSTART:20251102T060000
END:STANDARD
BEGIN:DAYLIGHT
TZOFFSETFROM:-0500
TZOFFSETTO:-0400
TZNAME:EDT
DTSTART:20260308T070000
END:DAYLIGHT
BEGIN:STANDARD
TZOFFSETFROM:-0400
TZOFFSETTO:-0500
TZNAME:EST
DTSTART:20261101T060000
END:STANDARD
END:VTIMEZONE
BEGIN:VEVENT
DTSTART;TZID=America/Los_Angeles:20250508T170000
DTEND;TZID=America/Los_Angeles:20250508T190000
DTSTAMP:20260422T185437
CREATED:20250410T173355Z
LAST-MODIFIED:20250410T173355Z
UID:709175-1746723600-1746730800@www.fedbar.org
SUMMARY:Los Angeles Chapter: Transitioning from Federal Service to Private Practice
DESCRIPTION:Attorneys transitioning from federal service to private practice face unique challenges\, but also have several advantages over their civilian counterparts that can be overlooked. This panel of attorneys who left the United States Attorney’s Office and the Securities and Exchange Commission for private practice\, including one who now works at a leading legal recruiting firm\, will share tips on how to prepare your resume\, whether to use headhunters\, interviewing techniques\, how to write business plans\, what offers you should turn down and much more. \nDrinks and appetizers will be provided starting at 5:00\, prior to the discussion at 6:00 p.m. \nThe event will be hosted by Signature Resolution at its offices in downtown L.A. Parking will be validated. \nTo register\, please click here. \nMCLE: 1.00 Hr. General MCLE; This activity has been approved for Minimum Continuing Legal Education Credit by the State Bar of California. The FBA certifies that this activity conforms to the standards of approved education activities prescribed by the rules and regulations of the State Bar of California governing minimum continuing legal education. \nCost:\n$20 FBA Member – In Person\n$10 FBA Member – Remote\n$20 Co Sponsor Members – In Person\n$10 Co Sponsor Members -Remote\n$25 Non-Member -In Person\n$15 Non-Member – Remote\nComplimentary – Federal Judge/Clerk – In Person\nComplimentary – Federal Judge/Clerk – Remote\nComplimentary – Law Student – in Person\nComplimentary – Law Student – Remote
URL:https://www.fedbar.org/event/los-angeles-chapter-transitioning-from-federal-service-to-private-practice/
LOCATION:Signature Resolution\, US Bank Tower\, 633 W 5th St #1000\, Los Angeles\, CA\, 90071\, United States
CATEGORIES:Los Angeles Chapter
ATTACH;FMTTYPE=application/pdf:https://www.fedbar.org/wp-content/uploads/2025/04/Flyer-Transitioning-to-PP.pdf
ORGANIZER;CN="FBA-Los Angeles Chapter":MAILTO:fbala@emaoffice.com
END:VEVENT
BEGIN:VEVENT
DTSTART;TZID=America/New_York:20251121T090000
DTEND;TZID=America/New_York:20251121T131500
DTSTAMP:20260422T185437
CREATED:20251022T173105Z
LAST-MODIFIED:20251022T173105Z
UID:870093-1763715600-1763730900@www.fedbar.org
SUMMARY:Los Angeles Chapter: 22nd Annual Bankruptcy Ethics Symposium
DESCRIPTION:The Los Angeles Chapter of the Federal Bar Association is pleased to present the 22nd Annual Bankruptcy Ethics Symposium. Participants can attend either in-person or by Zoom. (Zoom instructions will be sent the week of the event) \nCoffee\, tea\, bagels\, and pastries will be provided to our in-person attendees. \nFOUR PROGRAMS:\nAI Revolution: Transforming Legal Practice? Or Just Old-Fashioned Ethics?”\nCivility Through Their Eyes: Judges and Counsel in Conversation\nThe Ethics of Mediation: 30 Years of Lessons in Mediation\nInsights on Implicit Bias: Statistics\, War Stories\, and Strategies \nSPEAKERS:\nHonorable Sandra Klein\, U.S. Bankruptcy Court\, Central District of California\nHonorable Barry Russell\, U.S. Bankruptcy Court\, Central District of California\nHonorable Deborah Saltzman\, U.S. Bankruptcy Court\, Central District of California\nHonorable Erithe A. Smith\, U.S. Bankruptcy Court\, Central District of California\nProfessor Nancy B. Rapoport\, Garman Turner Gordon Professor of Law\, Boyd School of Law\, and Affiliate Professor of Business Law & Ethics\, Lee Business School\, University of Nevada\, Las Vegas\nJ. Scott Bovitz\, Bovitz & Spitzer\nHoward Ehrenberg\, Greenspoon Marder\nMisty Perry Isaacson\, MPI LAW\, P.C.\nDmitri Ragano\, Director of Digital Platforms and Strategy\, Hoag Health Systems\nSharon Weiss\, Bryan Cave Leighton Paisner LLP \nProgram Chair: Joseph Boufadel\, Salvato Boufadel LLP \nTime: Friday\, November 21\, 2025 @ 9:00 am – 1:15 pm\nRegistration opens: 8:30 am \nLocation: Roybal Federal Building\, Conference Room 1339 (13th Floor) – In Person & Zoom\n255 E. Temple St\,\nLos Angeles\, CA 90017 \nCost:\n$20 FBA Member in person\n$35 CDCBAA\, LABF\, OCBF\, IEBF or SDBF member in person\n$35 CLA & Insolvency Law Committee in person\n$50 Non-Member in person\nComplimentary – Federal Judge/Clerk/Law Student in person\n$20 FBA Member Remote\n$35 CDCBAA\, LABF\, OCBF\, IEBF or SDBF member remote\n$35 CLA & Insolvency Law Committee remote\n$50 Non Member Remote\nComplimentary – Federal Judge/Clerk/Law Student Remote \nTo register\, please click here. \nMCLE: 4 hours of CLE comprising of: (A) 1 hour of Legal Ethics; (B) 1 hour of Technology in the Practice of Law; (C) 1 hour of Civility in the Legal Profession; (D) 1 hour of Implicit Bias. \nMCLE: 1.00 Hr. of Legal Ethics; 1.00 Hr. of Implicit Bias; 1.00 Hr. of Technology; 1.00 Hr. of Civility; This activity has been approved for Minimum Continuing Legal Education Credit by the State Bar of California. The FBA certifies that this activity conforms to the standards of approved education activities prescribed by the rules and regulations of the State Bar of California governing minimum continuing legal education.
URL:https://www.fedbar.org/event/los-angeles-chapter-22nd-annual-bankruptcy-ethics-symposium/
LOCATION:Roybal Federal Building\, Conference Room 1339\, 255 E. Temple St\, Los Angeles\, California\, 90017\, United States
CATEGORIES:Los Angeles Chapter
ATTACH;FMTTYPE=application/pdf:https://www.fedbar.org/wp-content/uploads/2025/10/2025-11-21-FBA-LA-22nd-Annual-BK-Ethics-Symposium-Flyer_Final.pdf
ORGANIZER;CN="FBA-Los Angeles Chapter":MAILTO:fbala@emaoffice.com
END:VEVENT
BEGIN:VEVENT
DTSTART;TZID=America/Los_Angeles:20260225T120000
DTEND;TZID=America/Los_Angeles:20260225T170000
DTSTAMP:20260422T185437
CREATED:20260116T162510Z
LAST-MODIFIED:20260116T162809Z
UID:965574-1772020800-1772038800@www.fedbar.org
SUMMARY:Los Angeles Chapter: Webinar The Best of Times\, The Worst of Times\, or Something in Between: What Federal Court Practitioners Need to Know Today Regarding the Use of Generative AI in Litigation
DESCRIPTION:GenerativeAI (“GenAI”) use has exploded across many fields\, with federal legal practice being no exception. The promise of such tools’ efficiency and economy makes their appeal compelling – while the risks of their misuse have been illustrated in hundreds of reported decisions\, many resulting in sanction. Whether you are an avid user or a novice\, every federal practitioner should understand GenAI and its current import for the litigation realm. This webinar will address current uses of GenAI by litigants; the legal requirements attendant to such uses; and potential pitfalls and traps for the unwary. \nTo register please click here.
URL:https://www.fedbar.org/event/los-angeles-chapter-webinar-the-best-of-times-the-worst-of-times-or-something-in-between-what-federal-court-practitioners-need-to-know-today-regarding-the-use-of-generative-ai-in-litigation/
CATEGORIES:Los Angeles Chapter
ATTACH;FMTTYPE=image/png:https://www.fedbar.org/wp-content/uploads/2026/01/FBALA_02.25.26_GenAi_FLyer_.png
ORGANIZER;CN="FBA-Los Angeles Chapter":MAILTO:fbala@emaoffice.com
END:VEVENT
BEGIN:VEVENT
DTSTART;TZID=America/Los_Angeles:20260324T120000
DTEND;TZID=America/Los_Angeles:20260324T133000
DTSTAMP:20260422T185437
CREATED:20260311T205148Z
LAST-MODIFIED:20260311T205148Z
UID:1012109-1774353600-1774359000@www.fedbar.org
SUMMARY:Los Angeles Chapter: Making the Leap: Building a Successful Solo Law Practice
DESCRIPTION:Thinking about going solo? This panel brings together seasoned federal practitioners to give a practical roadmap for launching your own law practice — from picking a niche and handling entity/insurance questions to startup costs\, client intake and marketing\, tech and cybersecurity\, ethical landmines\, and when to outsource or grow. \nPanelists:\nKeshia Adeniyi-Dorsey\, K. Adeniyi Law\nLillian Chu\, Forta Law\nMichael Freedman\, The Freedman Firm\nDan Grunfeld\, Judicate West \nModerator:\nJohn Hanusz\, Hanusz Law \nLunch will be provided at 12pm\, and parking will be validated.\nProgram will start at 12:30pm. CLE will be offered\, as will a remote option. \nTo register\, please click here.
URL:https://www.fedbar.org/event/los-angeles-chapter-making-the-leap-building-a-successful-solo-law-practice/
LOCATION:Judicate West in DTLA\, 601 S. Figueroa\, Suite 3400\, Los Angeles\, CA\, 90017\, United States
CATEGORIES:CLE in Person,Los Angeles Chapter,Virtual Chapter CLE
ATTACH;FMTTYPE=image/png:https://www.fedbar.org/wp-content/uploads/2026/03/20260324_200.png
ORGANIZER;CN="Los Angeles Federal Bar Association":MAILTO:fbala@emaoffice.com
END:VEVENT
END:VCALENDAR