BEGIN:VCALENDAR
VERSION:2.0
PRODID:-//Federal Bar Association - ECPv6.15.15//NONSGML v1.0//EN
CALSCALE:GREGORIAN
METHOD:PUBLISH
X-WR-CALNAME:Federal Bar Association
X-ORIGINAL-URL:https://www.fedbar.org
X-WR-CALDESC:Events for Federal Bar Association
REFRESH-INTERVAL;VALUE=DURATION:PT1H
X-Robots-Tag:noindex
X-PUBLISHED-TTL:PT1H
BEGIN:VTIMEZONE
TZID:America/Los_Angeles
BEGIN:DAYLIGHT
TZOFFSETFROM:-0800
TZOFFSETTO:-0700
TZNAME:PDT
DTSTART:20250309T100000
END:DAYLIGHT
BEGIN:STANDARD
TZOFFSETFROM:-0700
TZOFFSETTO:-0800
TZNAME:PST
DTSTART:20251102T090000
END:STANDARD
BEGIN:DAYLIGHT
TZOFFSETFROM:-0800
TZOFFSETTO:-0700
TZNAME:PDT
DTSTART:20260308T100000
END:DAYLIGHT
BEGIN:STANDARD
TZOFFSETFROM:-0700
TZOFFSETTO:-0800
TZNAME:PST
DTSTART:20261101T090000
END:STANDARD
BEGIN:DAYLIGHT
TZOFFSETFROM:-0800
TZOFFSETTO:-0700
TZNAME:PDT
DTSTART:20270314T100000
END:DAYLIGHT
BEGIN:STANDARD
TZOFFSETFROM:-0700
TZOFFSETTO:-0800
TZNAME:PST
DTSTART:20271107T090000
END:STANDARD
END:VTIMEZONE
BEGIN:VEVENT
DTSTART;TZID=America/Los_Angeles:20260225T120000
DTEND;TZID=America/Los_Angeles:20260225T170000
DTSTAMP:20260421T114721
CREATED:20260116T162510Z
LAST-MODIFIED:20260116T162809Z
UID:965574-1772020800-1772038800@www.fedbar.org
SUMMARY:Los Angeles Chapter: Webinar The Best of Times\, The Worst of Times\, or Something in Between: What Federal Court Practitioners Need to Know Today Regarding the Use of Generative AI in Litigation
DESCRIPTION:GenerativeAI (“GenAI”) use has exploded across many fields\, with federal legal practice being no exception. The promise of such tools’ efficiency and economy makes their appeal compelling – while the risks of their misuse have been illustrated in hundreds of reported decisions\, many resulting in sanction. Whether you are an avid user or a novice\, every federal practitioner should understand GenAI and its current import for the litigation realm. This webinar will address current uses of GenAI by litigants; the legal requirements attendant to such uses; and potential pitfalls and traps for the unwary. \nTo register please click here.
URL:https://www.fedbar.org/event/los-angeles-chapter-webinar-the-best-of-times-the-worst-of-times-or-something-in-between-what-federal-court-practitioners-need-to-know-today-regarding-the-use-of-generative-ai-in-litigation/
LOCATION:CA
CATEGORIES:Los Angeles Chapter
ATTACH;FMTTYPE=image/png:https://www.fedbar.org/wp-content/uploads/2026/01/FBALA_02.25.26_GenAi_FLyer_.png
ORGANIZER;CN="FBA-Los Angeles Chapter":MAILTO:fbala@emaoffice.com
END:VEVENT
END:VCALENDAR