BEGIN:VCALENDAR
VERSION:2.0
PRODID:-//Federal Bar Association - ECPv6.15.15//NONSGML v1.0//EN
CALSCALE:GREGORIAN
METHOD:PUBLISH
X-ORIGINAL-URL:https://www.fedbar.org
X-WR-CALDESC:Events for Federal Bar Association
REFRESH-INTERVAL;VALUE=DURATION:PT1H
X-Robots-Tag:noindex
X-PUBLISHED-TTL:PT1H
BEGIN:VTIMEZONE
TZID:America/New_York
BEGIN:DAYLIGHT
TZOFFSETFROM:-0500
TZOFFSETTO:-0400
TZNAME:EDT
DTSTART:20220313T070000
END:DAYLIGHT
BEGIN:STANDARD
TZOFFSETFROM:-0400
TZOFFSETTO:-0500
TZNAME:EST
DTSTART:20221106T060000
END:STANDARD
BEGIN:DAYLIGHT
TZOFFSETFROM:-0500
TZOFFSETTO:-0400
TZNAME:EDT
DTSTART:20230312T070000
END:DAYLIGHT
BEGIN:STANDARD
TZOFFSETFROM:-0400
TZOFFSETTO:-0500
TZNAME:EST
DTSTART:20231105T060000
END:STANDARD
BEGIN:DAYLIGHT
TZOFFSETFROM:-0500
TZOFFSETTO:-0400
TZNAME:EDT
DTSTART:20240310T070000
END:DAYLIGHT
BEGIN:STANDARD
TZOFFSETFROM:-0400
TZOFFSETTO:-0500
TZNAME:EST
DTSTART:20241103T060000
END:STANDARD
END:VTIMEZONE
BEGIN:VEVENT
DTSTART;TZID=America/New_York:20230525T170000
DTEND;TZID=America/New_York:20230525T190000
DTSTAMP:20260421T095651
CREATED:20230501T130156Z
LAST-MODIFIED:20230517T184845Z
UID:350575-1685034000-1685041200@www.fedbar.org
SUMMARY:John W. Peck Cincinnati-Northern Kentucky Chapter
DESCRIPTION:You are invited to join us at our PLEDGE reception recognizing seven emerging women lawyers in our area\, hosted by the Diversity & Inclusion Committee of the John W. Peck Cincinnati-Northern Kentucky Chapter of the Federal Bar Association. This special event is open to FBA members\, judges\, and non-member lawyers – at no cost – although registration is preferred. Appetizers and two drink tickets are included. We hope you will attend in support of our PLEDGE emerging leader honorees. \nCongratulations to the honorees: \n\nPetra Bergman\, Vorys\, Sater\, Seymour and Pease LLP\nKathryn Casch\, Hamilton County Prosecutor’s Office\nHayley Clancy\, Dinsmore & Shohl\nAriel (“Ari”) Fox\, Frost Brown Todd LLP\nEmily Montion\, Thompson Hine LLP\nSarah Nelson\, Hamilton County Public Defender’s Office\nAdreanne Stuckey\, Duke Energy Corporation\n\nRSVP: Register Here! \nDeadline to register is May 19\, 2023\nRegistration Fee: \nComplimentary \n\n FBA Member\nJudge\nNon Member\nAttorney Guest\n\nCLE\nPlease note there is no CLE for this event. \nIf you have any questions regarding this program\, please contact Heather Hawkins and Sarah Geiger at cincy.nky.fba@gmail.com. \n 
URL:https://www.fedbar.org/event/john-w-peck-cincinnati-northern-kentucky-chapter/
LOCATION:Prime\, 580 Walnut Street\, Cincinnati\, OH\, 45202\, United States
CATEGORIES:Kentucky Chapter
ORGANIZER;CN="Heather Hawkins &amp%3B Sarah Geiger":MAILTO:cincy.nky.fba@gmail.com
GEO:39.1024744;-84.5109537
X-APPLE-STRUCTURED-LOCATION;VALUE=URI;X-ADDRESS=Prime 580 Walnut Street Cincinnati OH 45202 United States;X-APPLE-RADIUS=500;X-TITLE=580 Walnut Street:geo:-84.5109537,39.1024744
END:VEVENT
END:VCALENDAR