BEGIN:VCALENDAR
VERSION:2.0
PRODID:-//Federal Bar Association - ECPv6.15.15//NONSGML v1.0//EN
CALSCALE:GREGORIAN
METHOD:PUBLISH
X-WR-CALNAME:Federal Bar Association
X-ORIGINAL-URL:https://www.fedbar.org
X-WR-CALDESC:Events for Federal Bar Association
REFRESH-INTERVAL;VALUE=DURATION:PT1H
X-Robots-Tag:noindex
X-PUBLISHED-TTL:PT1H
BEGIN:VTIMEZONE
TZID:America/New_York
BEGIN:DAYLIGHT
TZOFFSETFROM:-0500
TZOFFSETTO:-0400
TZNAME:EDT
DTSTART:20230312T070000
END:DAYLIGHT
BEGIN:STANDARD
TZOFFSETFROM:-0400
TZOFFSETTO:-0500
TZNAME:EST
DTSTART:20231105T060000
END:STANDARD
BEGIN:DAYLIGHT
TZOFFSETFROM:-0500
TZOFFSETTO:-0400
TZNAME:EDT
DTSTART:20240310T070000
END:DAYLIGHT
BEGIN:STANDARD
TZOFFSETFROM:-0400
TZOFFSETTO:-0500
TZNAME:EST
DTSTART:20241103T060000
END:STANDARD
BEGIN:DAYLIGHT
TZOFFSETFROM:-0500
TZOFFSETTO:-0400
TZNAME:EDT
DTSTART:20250309T070000
END:DAYLIGHT
BEGIN:STANDARD
TZOFFSETFROM:-0400
TZOFFSETTO:-0500
TZNAME:EST
DTSTART:20251102T060000
END:STANDARD
END:VTIMEZONE
BEGIN:VEVENT
DTSTART;TZID=America/New_York:20240821T140000
DTEND;TZID=America/New_York:20240821T150000
DTSTAMP:20260420T083947
CREATED:20240705T171419Z
LAST-MODIFIED:20240802T190854Z
UID:521955-1724248800-1724252400@www.fedbar.org
SUMMARY:Webinar: Jury Selection in Media-Intensive Cases
DESCRIPTION:Two highly respected and experienced trial attorneys (Richard “Dick” Harpootlian\, Esq. and Roberta “Robbie” Kaplan\, Esq. ) will address Jury Selection in Media-Intensive Cases. This webinar will assist lawyers who have never tried a media-intensive case in preparing for their first voir dire when they do eventually try one. In addition\, all lawyers who try cases and pick juries will learn how to utilize principles and lessons learned for jury selection as well as more about the trial process itself. \nPresented by the Civil Rights Law Section\, the Federal Litigation Section\, and the Kansas and Western District of Missouri Chapter. \nRegister Now!\n\nAbout the Presenters\n \nRichard A. “Dick” Harpootlian\, Owner\, Richard A. Harpootlian\, P.A. \nRichard “Dick” Ara Harpootlian is one of South Carolina’s leading courtroom advocates with 30 years of trial experience as a prosecutor\, defense attorney\, and civil litigator. Mr. Harpootlian’s dynamic and persuasive advocacy style and record of success has earned him a reputation amongst South Carolina’s legal community as a lawyer who can get results. \nMr. Harpootlian began his career as a prosecutor in the Fifth Circuit Solicitor’s Office. Within two years\, he was named Deputy Solicitor and tasked with the administration and supervision of over 20 prosecutors and staff members. As the Fifth Circuit’s chief homicide prosecutor\, Mr. Harpootlian personally prosecuted hundreds of murder cases\, including 12 death penalty cases. \nHe defended one of those convictions on appeal before the United States Supreme Court. In 1983\, Mr. Harpootlian earned a conviction in the prosecution of Donald “Pee Wee” Gaskins—South Carolina’s most notorious serial killer. Mr. Gaskins was sentenced to death. In 1990\, Mr. Harpootlian was elected as Fifth Circuit Solicitor\, winning by a margin of almost 2-1. He served from 1991 until 1995. As Solicitor\, he personally prosecuted and obtained convictions in a number of high-profile murder\, drug\, and public corruption cases. In 1991\, Mr. Harpootlian prosecuted and convicted ex-University of South Carolina President Jim Holderman for public corruption charges arising from the abuse of his office for personal gain. \nFor the last 20 years\, Mr. Harpootlian’s private practice has earned him state and national recognition for his efforts on behalf of civil litigants and criminal defendants\, including a number of multimillion-dollar verdicts and settlements\, some of which are listed here. \nIn addition to his law practice\, Mr. Harpootlian has been active in South Carolina politics. He was popularly elected and served on Richland County Council from 1986 to 1991. He served as Chairman of the South Carolina Democratic Party from 1998 to 2003 and again from 2011 to 2013. During his first tenure as Chair\, the Party elected Governor James Hodges\, the first candidate to unseat an incumbent South Carolina governor\, and five other Democrats to statewide office. \nMr. Harpootlian’s views as a commentator on law and politics are regularly sought by national news programs. He has appeared on 60 Minutes\, Good Morning America\, ABC Nightly News\, NBC Nightly News\, Dateline NBC\, and various CNN\, MSNBC\, CNBC\, and Fox News broadcasts. He is also frequently quoted in local\, state\, and national publications\, including the New York Times\, the Washington Post\, the Boston Globe\, the Los Angeles Times\, and TIME Magazine. \nMr. Harpootlian has been invited to share his experience with bar colleges as a lecture for the South Carolina Bar Association on topics including class action litigation and criminal defense. For the last 20 years\, he has lectured newly barred South Carolina lawyers during the Bridge the Gap Program. He is a former chair of the Criminal Law Section of the South Carolina Bar Association and a past member of the South Carolina Bar Board of Grievance and Discipline. He has served on the South Carolina Chief Justice’s Blue Ribbon Committee on Docketing and he is an adjunct professor at the University of South Carolina School of Law. \nRoberta A. “Robbie” Kaplan\nA renowned litigator with decades of experience in commercial\, higher education\, and civil rights litigation\, Chambers has described Robbie as “a modern-day legal giant. A towering intellect and a genius in court\, with the instincts of a street fighter.” Robbie has the distinction of being probably the only lawyer to have taken the deposition of former president Donald J. Trump twice in two weeks. \nRobbie recently led the legal team representing writer E. Jean Carroll in her sexual battery and defamation suits against Donald Trump\, securing $5 million and $83.3 million jury verdicts\, respectively\, on her behalf in cases where both juries reached their verdicts in less than three hours. \nSharon Nelles\, head of litigation at Sullivan & Cromwell\, is quoted in a profile explaining that Robbie “just sees things from a thousand different angles all at once\, it’s hard to keep up with her thought processes. She knows her law cold\, she knows the Constitution cold and she’s not afraid\, if she sees a problem\, to go figure out some law that’s going to allow her to fix it. She’ll find it.” Stephen Gillers\, professor at New York University School of Law\, told Bloomberg Law that Robbie is “a lawyer that you don’t want to see opposing you.” Another client describes Robbie as someone who “eats bullies for lunch.” \nThe Washington Post has described Robbie as “a brash and original strategist\, with neither a gift for patience nor silence\, a crusader for underdogs who has won almost every legal accolade imaginable.” Among the numerous honors and recognitions Robbie has received\, she was named to Forbes’ list of “America’s Top 200 Lawyers\,” recognized as the 2020 “Attorney of the Year” by the New York Law Journal\, received a Lifetime Achievement Award from the New York Law Journal\, and has been honored as “Litigator of the Year” by The American Lawyer\, “Lawyer of the Year” by Above the Law\, and “Most Innovative Lawyer of the Year” by The Financial Times. The Financial Times noted that “the judges had little trouble picking just one of them to win the award for most innovative individual – itself an innovation for the report this year. Robbie Kaplan has been involved in some of the most important legal developments of recent years.” Robbie has consistently been listed as one of the top litigators and top women litigators in the country\, as well as one of the top lawyers in New York. \nCommercial Litigation \nRobbie represents clients in the tech\, fintech and financial services industries as both plaintiffs and defendants in their most complex legal challenges\, delivering a consistent track record of compelling advocacy\, creative arguments\, and winning results. \nWith respect to tech\, Robbie succeeded in obtaining a preliminary injunction for Airbnb on Fourth Amendment grounds\, blocking a New York City ordinance that would have required Airbnb to turn over massive amounts of data\, a prospect that posed significant privacy concerns. See Airbnb\, Inc. v. City of New York\, 373 F. Supp. 3d 467 (S.D.N.Y. 2019) (Engelmayer\, J.). She has also represented Uber in several cases involving significant business and privacy concerns posed by overly intrusive government regulation. Robbie recently secured a major victory for the Center for Countering Digital Hate (“CCDH”) in a lawsuit brought by X Corp. alleging that CCDH violated X’s terms of service in researching the prevalence of hate speech on the platform. As Judge Charles Breyer observed: “Sometimes it is unclear what is driving a litigation\, and only by reading between the lines . . . can one attempt to surmise a plaintiff’s true purpose. Other times a complaint is so unabashedly about one thing that there can be no mistaking that purpose. This case represents the latter circumstance.” X Corp. v. Ctr. for Countering Dig. Hate\, 23-cv-03836-CRB (N.D. Cal. Mar. 25\, 2024) \nRobbie has handled a wide variety of cases representing clients on Wall Street and in the financial services sector\, including matters involving “Special Purpose Acquisition Companies\,” or SPACs\, stock analysts’ recommendations\, market timing in mutual funds\, reinsurance transactions\, structured finance transactions and multi-level marketing companies. In the wake of the financial crisis in 2007\, Robbie represented Fitch Ratings in many dozens of regulatory investigations and civil litigations in both state and federal court relating to Fitch’s credit ratings of RMBS\, CDO\, and municipal bond transactions. She recently represented Pershing Square in a case challenging the legitimacy of SPACs. \nRobbie recently won at the Appellate Division First Department a motion staying a case in favor of arbitration in connection with litigation brought by Sean Combs against her client Diageo. She currently represents Authentic Brands in its dispute with the former operator of Sports Illustrated as well as Fred Iseman in litigation involving the foundation of his aunt\, the painter Helen Frankenthaler. \nRobbie has also been honored to represent major law firms in connection with commercial and other disputes. \nHigher Education \nRobbie has earned a reputation for helping top universities navigate their most pressing legal challenges. She has had the privilege of representing Columbia University for over a decade in a number of cases related to Title IX and alleged gender-based misconduct\, winning multiple motions to dismiss. Nungesser v. Columbia Univ.\, 169 F. Supp. 3d 353 (S.D.N.Y. 2016); Roskin-Frazee v. Columbia Univ.\, 474 F. Supp. 3d 618 (S.D.N.Y. 2019). Robbie recently secured the dismissal of breach of contract claims in an ongoing litigation against Columbia seeking hundreds of millions of dollars in tuition refunds related to the COVID-19 pandemic. In re Columbia Tuition Refund Action\, 20 Civ. 3208\, 2021 WL 790638 (S.D.N.Y. Feb. 26\, 2021) (Furman\, J.). \nAs a result of these and other matters\, Robbie has decades of experience dealing with the complex interplay between regulatory investigations and the civil lawsuits that inevitably follow. \nShe currently represents Columbia in several matters filed under Title VI relating to events on campus since the attacks by Hamas on October 7\, 2023. Robbie also recently led the team that secured a dismissal with prejudice of all claims brought by student John Doe against New York University challenging NYU Law Review’s admission policy in light of the Supreme Court’s decision in Students for Fair Admissions (SFFA) v. Harvard (Doe v. N.Y. Univ.\, No. 23 Civ. 10515\, 2024 WL 2847368 (S.D.N.Y. May 30\, 2024)). When it comes to college sports\, in January 2021\, Robbie defeated a motion for a preliminary injunction seeking to require Brown University to restore its men’s and women’s squash teams to varsity status. Sterman v. Brown Univ.\, 513 F. Supp. 3d 243 (D.R.I. 2021). Robbie similarly secured a favorable settlement for Brown in high-profile litigation related to gender proportionality requirements in its athletics programs. Cohen v. Brown Univ.\, 16 F.4th 935 (1st Cir. 2021). Robbie was chosen by the NCAA to conduct a groundbreaking independent investigation into gender equity issues involving NCAA Division I Championships\, including the controversy that arose at the Division I women’s basketball championships in 2021. \nPublic Interest Matters \nThroughout her career\, Robbie has always had a deep-seated commitment to using the law to advance the public interest. She is perhaps best known for successfully challenging a key provision of the Defense of Marriage Act on behalf of her client Edith Windsor in the landmark case United States v. Windsor. Professor Laurence Tribe of Harvard Law School has observed that he could not “think of any Supreme Court decision in history that has ever created so rapid and broad a lower-court groundswell in a single direction as Windsor.” \nIn 2017 Robbie filed a high-stakes lawsuit against twenty-four neo-Nazi and white supremacist entities and leaders responsible for organizing the racial- and religious-based violence in Charlottesville in August 2017. In November 2021\, after a four-week jury trial\, Robbie and her team won a landmark $26 million verdict against the white supremacists and neo-Nazis who conspired to commit racially-motivated violence. Dahlia Lithwick\, in her bestselling book Lady Justice (Penguin\, 2022)\, devotes a chapter to Robbie’s work on the Charlottesville case. Robbie is also featured prominently in No Accident\, a powerful documentary chronicling the Charlottesville case from beginning to end. \nIn addition to serving as lead counsel for E. Jean Carroll in her two successful jury trials against Donald Trump\, Robbie recently reached a historic settlement agreement with the Florida State Board of Education\, Florida Department of Education\, and school districts that effectively nullified the most dangerous and discriminatory impacts of Florida’s “Don’t Say Gay” law. \nRobbie currently serves as counsel for New York’s Metropolitan Transit Agency in connection with nine separate lawsuits seeking to block\, on environmental and constitutional grounds\, the first congestion pricing program in the United States. \n*** \nRobbie is the author of the book Then Comes Marriage: United States v. Windsor and the Defeat of DOMA (W.W. Norton)\, chosen by the L.A. Times as one of the top 10 books of 2015. President Bill Clinton noted that “Then Comes Marriage is a riveting account of a watershed moment in our history\, and the strategy\, ingenuity\, and humanity that made it happen.” Rachel Maddow similarly noted that Robbie’s book “will forever change the understanding of this landmark case―its genesis\, its outside-the-box strategy\, and its tactical brilliance.” \nRobbie holds a J.D. from Columbia Law School\, where she has long taught a seminar on advanced civil procedure. She earned her A.B.\, magna cum laude\, from Harvard College. \n  \n \nModerator: Blake Shuart\, Trial Attorney\, Hutton and Hutton Law Firm LLC\n \nBlake A. Shuart is a Trial Attorney with Hutton & Hutton Law Firm\, L.L.C.\, based in Wichita\, Kansas.  Mr. Shuart has an active litigation practice in state and federal courts across the United States\, specializing in medical malpractice\, products liability\, mass torts\, civil rights cases and other cases involving catastrophic injury or wrongful death.  Mr. Shuart is the incoming President of the Federal Bar Association Chapter for the Districts of Kansas & Western Missouri. \n  \n\nRegister Here!\n\nLive Broadcast | FBA Member: $0\nLive Broadcast | Nonmember: $95\nOn-Demand Broadcast | FBA Member: $50\nOn-Demand Broadcast | Nonmember: $95\n\n\n\n\n\n\n\n\n\nCLE\nPlease note: CLE for this webinar has not been pre-approved.\nMyLaw and the FBA will seek 1.0 General CLE credit hours in 60-minute states\, and 1.2 General CLE credit hours in 50-minute states. \nPosted credit hours are estimated and subject to respective state approval and rounding rules. CLE qualifications vary by state/jurisdiction. \nFor questions regarding this program\, please contact MyLaw CLE by email: registration@mylawcle.com or phone: 877-406-8636.\n\n\n\n\n\n\n\n\nEmail Communication Policy\nBy registering for this event\, you agree to receive email communication from the Federal Bar Association and affiliated sponsors of the program concerning event details\, Continuing Legal Education certification\, programming changes\, upcoming events\, surveys\, and post-event communications. \nRecording Disclaimer\nBy registering for an online FBA program\, you agree to the recording of audio and visual content presented during the live event and consent to subsequent use of the recording by the FBA. You agree that the recording is the sole property of the FBA and that the recording may be used by the FBA in any manner in its sole and absolute discretion. This recording may include questions and poll responses provided by you during the live event. If you do not consent to the recording and the FBA’s use of the same\, do not register for the event.
URL:https://www.fedbar.org/event/webinar-jury-selection-in-media-intensive-cases/
CATEGORIES:Civil Rights Law Section,Federal Litigation Section,Kansas and Western District of Missouri Chapter
END:VEVENT
END:VCALENDAR